Workbook
Name Areas: OFFSET(Tablas!$E$6,1,0,COUNTA(Tablas!$E$7:$E$5000),1)
Name Estatus: OFFSET(Tablas!$L$6,1,0,COUNTA(Tablas!$L$7:$L$4990),1)
Name Maquinas: OFFSET(Tablas!$G$6,1,0,COUNTA(Tablas!$G$7:$G$5077),1)
Name SegmentaciónDeDatos_AÑO: #N/A
Name SegmentaciónDeDatos_MES: #N/A
Name SegmentaciónDeDatos_RESPONSABLE: #N/A
Name SegmentaciónDeDatos_TIPO_DE_MAQUINA: #N/A
Name Tipo_Mantenimiento: OFFSET(Tablas!$J$6,1,0,COUNTA(Tablas!$J$7:$J$4992),1)

Sheet Dashboard 1

Sheet Dashboard 2

Sheet Pivots
A3: OBSERVACIÓN | B3: Nro eventos | D3: Nro eventos | F3: OBSERVACIÓN | O3: TIPO DE MAQUINA | P3: % DISPONIB MAQ | R3: AÑO | S3: MES | T3: % DISPONIB MAQ | V3: RESPONSABLE | W3: % DISPONIB MAQ | Y3: MÁQUINA | Z3: % DISPONIB MAQ
A4: FECHA CUMPLIDA | B4: 300 | D4: AÑO | E4: MES | F4: FECHA CUMPLIDA | G4: PENDIENTE | H4: RETRASO DE 2 DIAS | I4: RETRASO DE 3 DIAS | J4: RETRASO DE 4 DIAS | K4: RETRASO DE 1 DIAS | L4: Total general | O4: CARGADORA | P4: 0.95235604 | R4: 2018 | S4: Ene | T4: 0.9319674 | V4: ABLAS | W4: 0.97859714 | Y4: MÁQUINA GRANALLADORA | Z4: 0.87715963
A5: PENDIENTE | B5: 393 | D5: 2018 | E5: Ene | F5: 16 | G5: 30 | H5: 16 | I5: 18 | J5: 11 | K5: 28 | L5: 119 | O5: CISTERNAS DE AGUA | P5: 0.95730209 | S5: Feb | T5: 0.96530864 | V5: DVARGAS | W5: 0.96180484 | Y5: MAQUINA GRANALLADORA MANUAL | Z5: 0.95077971
A6: RETRASO DE 2 DIAS | B6: 256 | E6: Feb | F6: 20 | G6: 14 | H6: 11 | I6: 9 | J6: 12 | K6: 21 | L6: 87 | O6: COMPACTADORA | P6: 0.95202778 | S6: Mar | T6: 0.95882224 | V6: EAROSTE | W6: 0.91256138 | Y6: GENERADOR DE CALOR CON CHASIS DE ALUMINIO | Z6: 0.95878059
A7: RETRASO DE 3 DIAS | B7: 256 | E7: Mar | F7: 10 | G7: 25 | H7: 10 | I7: 21 | J7: 8 | K7: 17 | L7: 91 | O7: DRAGALINA | P7: 0.95571171 | S7: Abr | T7: 0.95346654 | V7: JMEJIA | W7: 0.96558561 | Y7: MAQUINA DE PINTURA GRACO XTREME 60/1 | Z7: 0.9591455
A8: RETRASO DE 4 DIAS | B8: 190 | E8: Abr | F8: 23 | G8: 28 | H8: 11 | I8: 16 | J8: 13 | K8: 15 | L8: 106 | O8: DRAGAS | P8: 0.95756543 | S8: May | T8: 0.97219702 | V8: LGRANDEZ | W8: 0.95254577 | Y8: MONTACARGAS 4.5 TON (DIESEL) | Z8: 0.96049729
A9: RETRASO DE 1 DIAS | B9: 262 | E9: May | F9: 17 | G9: 32 | H9: 8 | I9: 11 | J9: 11 | K9: 11 | L9: 90 | O9: ESCREPA | P9: 0.95787564 | S9: Jun | T9: 0.96947203 | V9: RPALOMINO | W9: 0.97396991 | Y9: MAQUINA DE PINTURA GRACO XTREME 70/1 | Z9: 0.9661785
A10: Total general | B10: 1657 | E10: Jun | F10: 23 | G10: 20 | H10: 13 | I10: 13 | J10: 9 | K10: 16 | L10: 94 | O10: EXCAVADORA | P10: 0.95754935 | S10: Jul | T10: 0.96515636 | V10: Total general | W10: 0.95632563 | Y10: PORTICO GRÚA 1 10 TM/N1 | Z10: 0.97361191
E11: Jul | F11: 19 | G11: 24 | H11: 20 | I11: 15 | J11: 14 | K11: 14 | L11: 106 | O11: LAS VOLQUETAS | P11: 0.96109343 | S11: Ago | T11: 0.95955655 | Y11: COMPRESOR GA90 SERIE: API615855 | Z11: 0.97547509
E12: Ago | F12: 11 | G12: 31 | H12: 18 | I12: 19 | J12: 8 | K12: 15 | L12: 102 | O12: MOTONIVELADORA | P12: 0.95786501 | S12: Set | T12: 0.95120748 | Y12: MAQUINA GRANALLADORA MANUAL | Z12: 0.97926955
E13: Set | F13: 22 | G13: 26 | H13: 9 | I13: 16 | J13: 12 | K13: 13 | L13: 98 | O13: MOTOTRAILLA | P13: 0.96289542 | S13: Oct | T13: 0.93971296 | Y13: MAQUINA DE PINTURA GRACO XTREME 40/1 | Z13: 0.98009549
E14: Oct | F14: 19 | G14: 28 | H14: 20 | I14: 9 | J14: 12 | K14: 12 | L14: 100 | O14: PAVIMENTADORA | P14: 0.95365258 | S14: Nov | T14: 0.96642974 | Y14: COMPRESOR GA90 SERIE: AP1616505 | Z14: 0.98058943
E15: Nov | F15: 15 | G15: 18 | H15: 16 | I15: 14 | J15: 12 | K15: 10 | L15: 85 | O15: RETROEXCAVADORA | P15: 0.95089245 | S15: Dic | T15: 0.96396832 | Y15: GENERADOR DE CALOR CON CHASIS DE ACERO INOXIDABLE | Z15: 0.9806518
E16: Dic | F16: 21 | G16: 22 | H16: 16 | I16: 15 | J16: 13 | K16: 15 | L16: 102 | O16: TRACTORES | P16: 0.95621868 | R16: Total 2018 | T16: 0.95735307 | Y16: MONTACARGAS 7 TON (DIESEL) | Z16: 0.98146605
D17: Total 2018 | F17: 216 | G17: 298 | H17: 168 | I17: 176 | J17: 135 | K17: 187 | L17: 1180 | O17: Total general | P17: 0.95632563 | R17: 2019 | S17: Ene | T17: 0.96103009 | Y17: COMPRESOR GA55 SERIE: API623639 | Z17: 0.98161908
D18: 2019 | E18: Ene | F18: 17 | G18: 19 | H18: 16 | I18: 14 | J18: 8 | K18: 18 | L18: 92 | S18: Feb | T18: 0.9606185 | Y18: MONTACARGAS 7 TON (GLP) 00000-31 | Z18: 0.98214506
E19: Feb | F19: 17 | G19: 14 | H19: 15 | I19: 16 | J19: 15 | K19: 12 | L19: 89 | S19: Mar | T19: 0.95409427 | Y19: TABLERO ELÉCTRICO NAVE 01 - ILUMINACIÓN 220 V | Z19: 0.98224868
E20: Mar | F20: 13 | G20: 21 | H20: 18 | I20: 16 | J20: 13 | K20: 13 | L20: 94 | S20: Abr | T20: 0.93902881 | Y20: COMPRESOR GA22 SERIE: API325785 | Z20: 0.98240741
E21: Abr | F21: 14 | G21: 16 | H21: 20 | I21: 18 | J21: 11 | K21: 11 | L21: 90 | S21: May | T21: 0.95399719 | Y21: MONTACARGAS 7 TON (GLP) 00000-32 | Z21: 0.98452107
E22: May | F22: 23 | G22: 25 | H22: 19 | I22: 16 | J22: 8 | K22: 21 | L22: 112 | R22: Total 2019 | T22: 0.95378397 | Y22: PORTICO GRÚA 2 10 TM/N2 | Z22: 0.98480903
D23: Total 2019 | F23: 84 | G23: 95 | H23: 88 | I23: 80 | J23: 55 | K23: 75 | L23: 477 | R23: Total general | T23: 0.95632563 | Y23: TABLERO ELÉCTRICO MANTENIMIENTO 220 V | Z23: 0.98493634
D24: Total general | F24: 300 | G24: 393 | H24: 256 | I24: 256 | J24: 190 | K24: 262 | L24: 1657 | Y24: TABLERO ELÉCTRICO BOMBA DE AGUA 220 V | Z24: 0.98586806
Y25: MONTACARGAS 5 TON (GLP) 00000-39 | Z25: 0.98617593
Y26: MONTACARGAS 5 TON (GLP) 00000-37 | Z26: 0.9862963
Y27: HORNO MOVIL | Z27: 0.98662423
Y28: CAÑA DE OXICORTE UNIWELD CÓDIGO 450 | Z28: 0.98675926
Y29: TABLERO ELÉCTRICO POZO PROFUNDO - ALIMENTACIÓN 220V | Z29: 0.98732639
Y30: MÁQUINA DE SOLDAR LINCOLN FLEXTEC 450 CÓDIGO 622 | Z30: 0.98737434
Y31: PUNZADORA HOUGEN-OGURA MODELO 75006 CÓDIGO 883002 | Z31: 0.9876331
Y32: TABLERO ELÉCTRICO MODIFICACIONES - ALIMENTACIÓN 220 V | Z32: 0.98767361
Y33: TABLERO ELÉCTRICO MODIFICACIONES - COMPRESORA 220 V | Z33: 0.98811921
Y34: PRENSA HIDRAULICA CORTADORA DE TUBOS | Z34: 0.98838735
Y35: TABLERO ELÉCTRICO NAVE 6, 7, 8 Y 9 - ILUMINACIÓN 220 V | Z35: 0.98845238
Y36: TABLERO ELÉCTRICO OFICINAS 220 V | Z36: 0.98893519
A37: Nro eventos | B37: OBSERVACIÓN | Y37: MONTACARGAS 8 TON (DIESEL) | Z37: 0.98921914
A38: TIPO DE MAQUINA | B38: FECHA CUMPLIDA | C38: PENDIENTE | D38: RETRASO DE 2 DIAS | E38: RETRASO DE 3 DIAS | F38: RETRASO DE 4 DIAS | G38: RETRASO DE 1 DIAS | H38: Total general | Y38: TABLERO ELÉCTRICO NAVE 02 - ILUMINACIÓN 220 V | Z38: 0.99003968
A39: CARGADORA | B39: 19 | C39: 36 | D39: 23 | E39: 18 | F39: 19 | G39: 22 | H39: 137 | Y39: TABLERO ELÉCTRICO CSA-01 - ALIMENTACIÓN 440 V | Z39: 0.9900463
A40: CISTERNAS DE AGUA | B40: 29 | C40: 27 | D40: 17 | E40: 26 | F40: 16 | G40: 16 | H40: 131 | Y40: TABLERO ELÉCTRICO MODIFICACIONES - PRENSA CORTADORA 440 V | Z40: 0.99031829
A41: COMPACTADORA | B41: 30 | C41: 26 | D41: 25 | E41: 17 | F41: 21 | G41: 26 | H41: 145 | Y41: CAÑA DE OXICORTE UNIWELD CÓDIGO 335 | Z41: 0.99068519
A42: DRAGALINA | B42: 24 | C42: 25 | D42: 16 | E42: 23 | F42: 12 | G42: 26 | H42: 126 | Y42: MÁQUINA DE SOLDAR LINCOLN FLEXTEC 500 CÓDIGO 1912 | Z42: 0.99123016
A43: DRAGAS | B43: 25 | C43: 30 | D43: 24 | E43: 13 | F43: 14 | G43: 15 | H43: 121 | Y43: TABLERO ELÉCTRICO NAVES 1, 2, 3, 6, 7, 8 Y 9 - ALIMENTACIÓN 220 V | Z43: 0.99153439
A44: ESCREPA | B44: 21 | C44: 25 | D44: 14 | E44: 22 | F44: 16 | G44: 25 | H44: 123 | Y44: TABLERO ELÉCTRICO MODIFICACIONES - TOMAS 220 - 440 V | Z44: 0.99175926
A45: EXCAVADORA | B45: 16 | C45: 33 | D45: 14 | E45: 14 | F45: 14 | G45: 15 | H45: 106 | Y45: DOBLADORA DE TUBO INECO MÓDELO: QB-76NC | Z45: 0.99178241
A46: LAS VOLQUETAS | B46: 35 | C46: 32 | D46: 21 | E46: 26 | F46: 14 | G46: 16 | H46: 144 | Y46: TABLERO ELÉCTRICO NAVE 05 - TOMAS 220 V | Z46: 0.99181217
A47: MOTONIVELADORA | B47: 16 | C47: 28 | D47: 19 | E47: 19 | F47: 16 | G47: 23 | H47: 121 | Y47: TABLERO ELÉCTRICO SALA DE COMPRESORAS - ILUMINACIÓN 220 V | Z47: 0.99211227
A48: MOTOTRAILLA | B48: 19 | C48: 35 | D48: 18 | E48: 18 | F48: 14 | G48: 18 | H48: 122 | Y48: TABLERO ELÉCTRICO ALARMA 220 V | Z48: 0.99233466
A49: PAVIMENTADORA | B49: 26 | C49: 19 | D49: 24 | E49: 12 | F49: 11 | G49: 23 | H49: 115 | Y49: TABLERO ELÉCTRICO POZO PROFUNDO 220V | Z49: 0.99241319
A50: RETROEXCAVADORA | B50: 19 | C50: 37 | D50: 22 | E50: 26 | F50: 10 | G50: 16 | H50: 130 | Y50: SUB-ESTACIÓN | Z50: 0.99248677
... A52: Total general | B52: 300 | C52: 393 | D52: 256 | E52: 256 | F52: 190 | G52: 262 | H52: 1657 | Y52: TABLERO ELÉCTRICO ILUMINACIÓN Y TOMAS GR-02 - ALIMENTACIÓN 220 V | Z52: 0.99283565
Y53: TABLERO ELÉCTRICO CSA-01 - ILUMINACIÓN 220 V | Z53: 0.99310764
Y54: MÁQUINA DE SOLDAR LINCOLN FLEXTEC 450 CÓDIGO 603 | Z54: 0.99331019
Y55: TABLERO ELÉCTRICO MODIFICACIONES - ALIMENTACIÓN 440 V | Z55: 0.99333333
Y56: TABLERO ELÉCTRICO NAVE 05 - ALIMENTACIÓN 220 V | Z56: 0.99349537
Y57: TABLERO ELÉCTRICO SOMA 220 V | Z57: 0.99387153
Y58: TABLERO ELÉCTRICO NAVE 05 - ILUMINACIÓN 220 V | Z58: 0.99412698
Y59: TABLERO ELÉCTRICO NAVE 03 - ILUMINACIÓN 220 V | Z59: 0.99427249
Y60: TABLERO ELÉCTRICO OFICINAS - ILUMINACIÓN PERIMÉTRICA 220 V | Z60: 0.99429977
A61: Nro eventos | B61: OBSERVACIÓN | Y61: CAÑA DE OXICORTE UNIWELD CÓDIGO 437 | Z61: 0.99437963
A62: RESPONSABLE | B62: FECHA CUMPLIDA | C62: PENDIENTE | D62: RETRASO DE 2 DIAS | E62: RETRASO DE 3 DIAS | F62: RETRASO DE 4 DIAS | G62: RETRASO DE 1 DIAS | H62: Total general | Y62: MÁQUINA DE SOLDAR SOLANDINA TRC-300 CÓDIGO 020039 | Z62: 0.99446296
A63: ABLAS | B63: 50 | C63: 70 | D63: 52 | E63: 44 | F63: 34 | G63: 35 | H63: 285 | Y63: TABLERO ELÉCTRICO PERÍMETRO - ILUMINACIÓN 220 V | Z63: 0.9945081
A64: DVARGAS | B64: 54 | C64: 78 | D64: 51 | E64: 50 | F64: 42 | G64: 48 | H64: 323 | Y64: MÁQUINA DE SOLDAR SOLANDINA TRC-300 CÓDIGO 00786 | Z64: 0.99547454
A65: EAROSTE | B65: 47 | C65: 49 | D65: 37 | E65: 34 | F65: 25 | G65: 32 | H65: 224 | Y65: BANCO DE CONDENSADORES | Z65: 0.99547619
A66: JMEJIA | B66: 36 | C66: 49 | D66: 25 | E66: 29 | F66: 22 | G66: 30 | H66: 191 | Y66: TABLERO ELÉCTRICO MANTENIMIENTO - COMPRESORA 220 V | Z66: 0.99631366
A67: LGRANDEZ | B67: 94 | C67: 117 | D67: 74 | E67: 84 | F67: 55 | G67: 102 | H67: 526 | Y67: Total general | Z67: 0.95632563
A68: RPALOMINO | B68: 19 | C68: 30 | D68: 17 | E68: 15 | F68: 12 | G68: 15 | H68: 108
A69: Total general | B69: 300 | C69: 393 | D69: 256 | E69: 256 | F69: 190 | G69: 262 | H69: 1657

Sheet Data
A1: MÁQUINA | B1: CODIGO | C1: TIPO DE MAQUINA | D1: TIPO DE MANTTO | E1: DESCRIPCIÓN | F1: C.C. | G1: RESPONSABLE | H1: ROL | I1: FECHA PROG. | J1: STATUS | K1: FECHA EJEC. | L1: HORA INICIO | M1: HORA TERMINO | N1: HORAS | O1: OBSERVACIÓN | P1: MES | Q1: AÑO | R1: HORAS DISPONIBLES | S1: DISPONIBILIDAD MAQUINA
A2: MAQUINA DE PINTURA GRACO XTREME 60/1 | B2: MQP009 | C2: =VLOOKUP(RANDBETWEEN(1,13),Tablas!$N$7:$O$19,2,0) -> LAS VOLQUETAS | D2: PREVENTIVO | E2: MANTENIMIENTO MECANICO | F2: 107 | G2: DVARGAS | H2: 1420 | I2: =RANDBETWEEN(43101,43616) -> 43530 | J2: =IFERROR(IF(YEAR(Tabla1[[#This Row],[FECHA EJEC.]])>0,"CONFORME","STANDBY"),"PENDIENTE") -> CONFORME | K2: =IF(VLOOKUP(RANDBETWEEN(1,20),Tablas!$Q$6:$R$25,2,0)=0,"",Tabla1[[#This Row],[FECHA PROG.]]+VLOOKUP(RANDBETWEEN(1,20),Tablas!$Q$6:$R$25,2,0)) -> 43530 | L2: =IF(Tabla1[[#This Row],[FECHA EJEC.]]="","",TIME(RANDBETWEEN(9,15),RANDBETWEEN(10,40),0)) -> 0.51805556 | M2: =IF(Tabla1[[#This Row],[FECHA EJEC.]]="","",Tabla1[[#This Row],[HORA INICIO]]+TIME(RANDBETWEEN(1,4),RANDBETWEEN(10,30),0)) -> 0.57361111 | N2: =IF(Tabla1[[#This Row],[FECHA EJEC.]]="","",HOUR(Tabla1[[#This Row],[HORA TERMINO]]-Tabla1[[#This Row],[HORA INICIO]])+MINUTE(Tabla1[[#This Row],[HORA TERMINO]]-Tabla1[[#This Row],[HORA INICIO]])/60) -> 1.3333333 | O2: =IF(AND(K2=I2,J2="CONFORME"),"FECHA CUMPLIDA",IF(J2="STAND BY","STAND BY",IF(J2=""," ",IF(Tabla1[[#This Row],[FECHA EJEC.]]="","PENDIENTE",CONCATENATE("RETRASO DE ",(K2-I2)," DIAS"))))) -> FECHA CUMPLIDA | P2: =VLOOKUP(MONTH(Tabla1[[#This Row],[FECHA PROG.]]),Tabla2[],2,0) -> Mar | Q2: =YEAR(Tabla1[[#This Row],[FECHA PROG.]]) -> 2019 | R2: =360-SUMIFS(Tabla1[HORAS],Tabla1[MÁQUINA],Tabla1[[#This Row],[MÁQUINA]],Tabla1[AÑO],Tabla1[[#This Row],[AÑO]],Tabla1[MES],Tabla1[[#This Row],[MES]]) -> 346.93333 | S2: =Tabla1[[#This Row],[HORAS DISPONIBLES]]/360 -> 0.9637037
A3: PORTICO GRÚA 1 10 TM/N1 | B3: PORT.G-01 | C3: =VLOOKUP(RANDBETWEEN(1,13),Tablas!$N$7:$O$19,2,0) -> COMPACTADORA | D3: PREVENTIVO | E3: MANTENIMIENTO MECANICO | F3: 107 | G3: DVARGAS | H3: 1420 | I3: =RANDBETWEEN(43101,43616) -> 43507 | J3: =IFERROR(IF(YEAR(Tabla1[[#This Row],[FECHA EJEC.]])>0,"CONFORME","STANDBY"),"PENDIENTE") -> CONFORME | K3: =IF(VLOOKUP(RANDBETWEEN(1,20),Tablas!$Q$6:$R$25,2,0)=0,"",Tabla1[[#This Row],[FECHA PROG.]]+VLOOKUP(RANDBETWEEN(1,20),Tablas!$Q$6:$R$25,2,0)) -> 43509 | L3: =IF(Tabla1[[#This Row],[FECHA EJEC.]]="","",TIME(RANDBETWEEN(9,15),RANDBETWEEN(10,40),0)) -> 0.42777778 | M3: =IF(Tabla1[[#This Row],[FECHA EJEC.]]="","",Tabla1[[#This Row],[HORA INICIO]]+TIME(RANDBETWEEN(1,4),RANDBETWEEN(10,30),0)) -> 0.56041667 | N3: =IF(Tabla1[[#This Row],[FECHA EJEC.]]="","",HOUR(Tabla1[[#This Row],[HORA TERMINO]]-Tabla1[[#This Row],[HORA INICIO]])+MINUTE(Tabla1[[#This Row],[HORA TERMINO]]-Tabla1[[#This Row],[HORA INICIO]])/60) -> 3.1833333 | O3: =IF(AND(K3=I3,J3="CONFORME"),"FECHA CUMPLIDA",IF(J3="STAND BY","STAND BY",IF(J3=""," ",IF(Tabla1[[#This Row],[FECHA EJEC.]]="","PENDIENTE",CONCATENATE("RETRASO DE ",(K3-I3)," DIAS"))))) -> RETRASO DE 2 DIAS | P3: =VLOOKUP(MONTH(Tabla1[[#This Row],[FECHA PROG.]]),Tabla2[],2,0) -> Feb | Q3: =YEAR(Tabla1[[#This Row],[FECHA PROG.]]) -> 2019 | R3: =360-SUMIFS(Tabla1[HORAS],Tabla1[MÁQUINA],Tabla1[[#This Row],[MÁQUINA]],Tabla1[AÑO],Tabla1[[#This Row],[AÑO]],Tabla1[MES],Tabla1[[#This Row],[MES]]) -> 343.53333 | S3: =Tabla1[[#This Row],[HORAS DISPONIBLES]]/360 -> 0.95425926
A4: PORTICO GRÚA 1 10 TM/N1 | B4: PORT.G-01 | C4: =VLOOKUP(RANDBETWEEN(1,13),Tablas!$N$7:$O$19,2,0) -> COMPACTADORA | D4: PREVENTIVO | E4: MANTENIMIENTO ELECTRICO | F4: 107 | G4: JMEJIA | H4: 1698 | I4: =RANDBETWEEN(43101,43616) -> 43565 | J4: =IFERROR(IF(YEAR(Tabla1[[#This Row],[FECHA EJEC.]])>0,"CONFORME","STANDBY"),"PENDIENTE") -> CONFORME | K4: =IF(VLOOKUP(RANDBETWEEN(1,20),Tablas!$Q$6:$R$25,2,0)=0,"",Tabla1[[#This Row],[FECHA PROG.]]+VLOOKUP(RANDBETWEEN(1,20),Tablas!$Q$6:$R$25,2,0)) -> 43565 | L4: =IF(Tabla1[[#This Row],[FECHA EJEC.]]="","",TIME(RANDBETWEEN(9,15),RANDBETWEEN(10,40),0)) -> 0.43125 | M4: =IF(Tabla1[[#This Row],[FECHA EJEC.]]="","",Tabla1[[#This Row],[HORA INICIO]]+TIME(RANDBETWEEN(1,4),RANDBETWEEN(10,30),0)) -> 0.60625 | N4: =IF(Tabla1[[#This Row],[FECHA EJEC.]]="","",HOUR(Tabla1[[#This Row],[HORA TERMINO]]-Tabla1[[#This Row],[HORA INICIO]])+MINUTE(Tabla1[[#This Row],[HORA TERMINO]]-Tabla1[[#This Row],[HORA INICIO]])/60) -> 4.2 | O4: =IF(AND(K4=I4,J4="CONFORME"),"FECHA CUMPLIDA",IF(J4="STAND BY","STAND BY",IF(J4=""," ",IF(Tabla1[[#This Row],[FECHA EJEC.]]="","PENDIENTE",CONCATENATE("RETRASO DE ",(K4-I4)," DIAS"))))) -> FECHA CUMPLIDA | P4: =VLOOKUP(MONTH(Tabla1[[#This Row],[FECHA PROG.]]),Tabla2[],2,0) -> Abr | Q4: =YEAR(Tabla1[[#This Row],[FECHA PROG.]]) -> 2019 | R4: =360-SUMIFS(Tabla1[HORAS],Tabla1[MÁQUINA],Tabla1[[#This Row],[MÁQUINA]],Tabla1[AÑO],Tabla1[[#This Row],[AÑO]],Tabla1[MES],Tabla1[[#This Row],[MES]]) -> 348.06667 | S4: =Tabla1[[#This Row],[HORAS DISPONIBLES]]/360 -> 0.96685185
A5: COMPRESOR GA90 SERIE: API615855 | B5: COMPRESOR 3 | C5: =VLOOKUP(RANDBETWEEN(1,13),Tablas!$N$7:$O$19,2,0) -> MOTONIVELADORA | D5: PREVENTIVO | E5: MANTENIMIENTO MECANICO-ELECTRICO | F5: 106 | G5: JMEJIA | H5: 1698 | I5: =RANDBETWEEN(43101,43616) -> 43492 | J5: =IFERROR(IF(YEAR(Tabla1[[#This Row],[FECHA EJEC.]])>0,"CONFORME","STANDBY"),"PENDIENTE") -> PENDIENTE | K5: =IF(VLOOKUP(RANDBETWEEN(1,20),Tablas!$Q$6:$R$25,2,0)=0,"",Tabla1[[#This Row],[FECHA PROG.]]+VLOOKUP(RANDBETWEEN(1,20),Tablas!$Q$6:$R$25,2,0)) | L5: =IF(Tabla1[[#This Row],[FECHA EJEC.]]="","",TIME(RANDBETWEEN(9,15),RANDBETWEEN(10,40),0)) | M5: =IF(Tabla1[[#This Row],[FECHA EJEC.]]="","",Tabla1[[#This Row],[HORA INICIO]]+TIME(RANDBETWEEN(1,4),RANDBETWEEN(10,30),0)) | N5: =IF(Tabla1[[#This Row],[FECHA EJEC.]]="","",HOUR(Tabla1[[#This Row],[HORA TERMINO]]-Tabla1[[#This Row],[HORA INICIO]])+MINUTE(Tabla1[[#This Row],[HORA TERMINO]]-Tabla1[[#This Row],[HORA INICIO]])/60) | O5: =IF(AND(K5=I5,J5="CONFORME"),"FECHA CUMPLIDA",IF(J5="STAND BY","STAND BY",IF(J5=""," ",IF(Tabla1[[#This Row],[FECHA EJEC.]]="","PENDIENTE",CONCATENATE("RETRASO DE ",(K5-I5)," DIAS"))))) -> PENDIENTE | P5: =VLOOKUP(MONTH(Tabla1[[#This Row],[FECHA PROG.]]),Tabla2[],2,0) -> Ene | Q5: =YEAR(Tabla1[[#This Row],[FECHA PROG.]]) -> 2019 | R5: =360-SUMIFS(Tabla1[HORAS],Tabla1[MÁQUINA],Tabla1[[#This Row],[MÁQUINA]],Tabla1[AÑO],Tabla1[[#This Row],[AÑO]],Tabla1[MES],Tabla1[[#This Row],[MES]]) -> 348.7 | S5: =Tabla1[[#This Row],[HORAS DISPONIBLES]]/360 -> 0.96861111
A6: MONTACARGAS 8 TON (DIESEL) | B6: MC-10 | C6: =VLOOKUP(RANDBETWEEN(1,13),Tablas!$N$7:$O$19,2,0) -> MOTOTRAILLA | D6: PREVENTIVO | E6: MANTENIMIENTO POR HOROMETRO | F6: 201 | G6: ABLAS | H6: 1168 | I6: =RANDBETWEEN(43101,43616) -> 43219 | J6: =IFERROR(IF(YEAR(Tabla1[[#This Row],[FECHA EJEC.]])>0,"CONFORME","STANDBY"),"PENDIENTE") -> PENDIENTE | K6: =IF(VLOOKUP(RANDBETWEEN(1,20),Tablas!$Q$6:$R$25,2,0)=0,"",Tabla1[[#This Row],[FECHA PROG.]]+VLOOKUP(RANDBETWEEN(1,20),Tablas!$Q$6:$R$25,2,0)) | L6: =IF(Tabla1[[#This Row],[FECHA EJEC.]]="","",TIME(RANDBETWEEN(9,15),RANDBETWEEN(10,40),0)) | M6: =IF(Tabla1[[#This Row],[FECHA EJEC.]]="","",Tabla1[[#This Row],[HORA INICIO]]+TIME(RANDBETWEEN(1,4),RANDBETWEEN(10,30),0)) | N6: =IF(Tabla1[[#This Row],[FECHA EJEC.]]="","",HOUR(Tabla1[[#This Row],[HORA TERMINO]]-Tabla1[[#This Row],[HORA INICIO]])+MINUTE(Tabla1[[#This Row],[HORA TERMINO]]-Tabla1[[#This Row],[HORA INICIO]])/60) | O6: =IF(AND(K6=I6,J6="CONFORME"),"FECHA CUMPLIDA",IF(J6="STAND BY","STAND BY",IF(J6=""," ",IF(Tabla1[[#This Row],[FECHA EJEC.]]="","PENDIENTE",CONCATENATE("RETRASO DE ",(K6-I6)," DIAS"))))) -> PENDIENTE | P6: =VLOOKUP(MONTH(Tabla1[[#This Row],[FECHA PROG.]]),Tabla2[],2,0) -> Abr | Q6: =YEAR(Tabla1[[#This Row],[FECHA PROG.]]) -> 2018 | R6: =360-SUMIFS(Tabla1[HORAS],Tabla1[MÁQUINA],Tabla1[[#This Row],[MÁQUINA]],Tabla1[AÑO],Tabla1[[#This Row],[AÑO]],Tabla1[MES],Tabla1[[#This Row],[MES]]) -> 360 | S6: =Tabla1[[#This Row],[HORAS DISPONIBLES]]/360 -> 1
A7: MAQUINA DE PINTURA GRACO XTREME 60/1 | B7: MQP010 | C7: =VLOOKUP(RANDBETWEEN(1,13),Tablas!$N$7:$O$19,2,0) -> RETROEXCAVADORA | D7: PREVENTIVO | E7: MANTENIMIENTO MECANICO | F7: 107 | G7: DVARGAS | H7: 1420 | I7: =RANDBETWEEN(43101,43616) -> 43480 | J7: =IFERROR(IF(YEAR(Tabla1[[#This Row],[FECHA EJEC.]])>0,"CONFORME","STANDBY"),"PENDIENTE") -> CONFORME | K7: =IF(VLOOKUP(RANDBETWEEN(1,20),Tablas!$Q$6:$R$25,2,0)=0,"",Tabla1[[#This Row],[FECHA PROG.]]+VLOOKUP(RANDBETWEEN(1,20),Tablas!$Q$6:$R$25,2,0)) -> 43482 | L7: =IF(Tabla1[[#This Row],[FECHA EJEC.]]="","",TIME(RANDBETWEEN(9,15),RANDBETWEEN(10,40),0)) -> 0.60347222 | M7: =IF(Tabla1[[#This Row],[FECHA EJEC.]]="","",Tabla1[[#This Row],[HORA INICIO]]+TIME(RANDBETWEEN(1,4),RANDBETWEEN(10,30),0)) -> 0.78611111 | N7: =IF(Tabla1[[#This Row],[FECHA EJEC.]]="","",HOUR(Tabla1[[#This Row],[HORA TERMINO]]-Tabla1[[#This Row],[HORA INICIO]])+MINUTE(Tabla1[[#This Row],[HORA TERMINO]]-Tabla1[[#This Row],[HORA INICIO]])/60) -> 4.3833333 | O7: =IF(AND(K7=I7,J7="CONFORME"),"FECHA CUMPLIDA",IF(J7="STAND BY","STAND BY",IF(J7=""," ",IF(Tabla1[[#This Row],[FECHA EJEC.]]="","PENDIENTE",CONCATENATE("RETRASO DE ",(K7-I7)," DIAS"))))) -> RETRASO DE 2 DIAS | P7: =VLOOKUP(MONTH(Tabla1[[#This Row],[FECHA PROG.]]),Tabla2[],2,0) -> Ene | Q7: =YEAR(Tabla1[[#This Row],[FECHA PROG.]]) -> 2019 | R7: =360-SUMIFS(Tabla1[HORAS],Tabla1[MÁQUINA],Tabla1[[#This Row],[MÁQUINA]],Tabla1[AÑO],Tabla1[[#This Row],[AÑO]],Tabla1[MES],Tabla1[[#This Row],[MES]]) -> 341.71667 | S7: =Tabla1[[#This Row],[HORAS DISPONIBLES]]/360 -> 0.94921296
A8: PORTICO GRÚA 2 10 TM/N2 | B8: PORT.G-02 | C8: =VLOOKUP(RANDBETWEEN(1,13),Tablas!$N$7:$O$19,2,0) -> LAS VOLQUETAS | D8: PREVENTIVO | E8: MANTENIMIENTO MECANICO | F8: 107 | G8: DVARGAS | H8: 1420 | I8: =RANDBETWEEN(43101,43616) -> 43255 | J8: =IFERROR(IF(YEAR(Tabla1[[#This Row],[FECHA EJEC.]])>0,"CONFORME","STANDBY"),"PENDIENTE") -> CONFORME | K8: =IF(VLOOKUP(RANDBETWEEN(1,20),Tablas!$Q$6:$R$25,2,0)=0,"",Tabla1[[#This Row],[FECHA PROG.]]+VLOOKUP(RANDBETWEEN(1,20),Tablas!$Q$6:$R$25,2,0)) -> 43258 | L8: =IF(Tabla1[[#This Row],[FECHA EJEC.]]="","",TIME(RANDBETWEEN(9,15),RANDBETWEEN(10,40),0)) -> 0.50902778 | M8: =IF(Tabla1[[#This Row],[FECHA EJEC.]]="","",Tabla1[[#This Row],[HORA INICIO]]+TIME(RANDBETWEEN(1,4),RANDBETWEEN(10,30),0)) -> 0.69513889 | N8: =IF(Tabla1[[#This Row],[FECHA EJEC.]]="","",HOUR(Tabla1[[#This Row],[HORA TERMINO]]-Tabla1[[#This Row],[HORA INICIO]])+MINUTE(Tabla1[[#This Row],[HORA TERMINO]]-Tabla1[[#This Row],[HORA INICIO]])/60) -> 4.4666667 | O8: =IF(AND(K8=I8,J8="CONFORME"),"FECHA CUMPLIDA",IF(J8="STAND BY","STAND BY",IF(J8=""," ",IF(Tabla1[[#This Row],[FECHA EJEC.]]="","PENDIENTE",CONCATENATE("RETRASO DE ",(K8-I8)," DIAS"))))) -> RETRASO DE 3 DIAS | P8: =VLOOKUP(MONTH(Tabla1[[#This Row],[FECHA PROG.]]),Tabla2[],2,0) -> Jun | Q8: =YEAR(Tabla1[[#This Row],[FECHA PROG.]]) -> 2018 | R8: =360-SUMIFS(Tabla1[HORAS],Tabla1[MÁQUINA],Tabla1[[#This Row],[MÁQUINA]],Tabla1[AÑO],Tabla1[[#This Row],[AÑO]],Tabla1[MES],Tabla1[[#This Row],[MES]]) -> 355.53333 | S8: =Tabla1[[#This Row],[HORAS DISPONIBLES]]/360 -> 0.98759259
A9: PORTICO GRÚA 2 10 TM/N2 | B9: PORT.G-02 | C9: =VLOOKUP(RANDBETWEEN(1,13),Tablas!$N$7:$O$19,2,0) -> EXCAVADORA | D9: PREVENTIVO | E9: MANTENIMIENTO ELECTRICO | F9: 107 | G9: JMEJIA | H9: 1698 | I9: =RANDBETWEEN(43101,43616) -> 43152 | J9: =IFERROR(IF(YEAR(Tabla1[[#This Row],[FECHA EJEC.]])>0,"CONFORME","STANDBY"),"PENDIENTE") -> CONFORME | K9: =IF(VLOOKUP(RANDBETWEEN(1,20),Tablas!$Q$6:$R$25,2,0)=0,"",Tabla1[[#This Row],[FECHA PROG.]]+VLOOKUP(RANDBETWEEN(1,20),Tablas!$Q$6:$R$25,2,0)) -> 43155 | L9: =IF(Tabla1[[#This Row],[FECHA EJEC.]]="","",TIME(RANDBETWEEN(9,15),RANDBETWEEN(10,40),0)) -> 0.40208333 | M9: =IF(Tabla1[[#This Row],[FECHA EJEC.]]="","",Tabla1[[#This Row],[HORA INICIO]]+TIME(RANDBETWEEN(1,4),RANDBETWEEN(10,30),0)) -> 0.45763889 | N9: =IF(Tabla1[[#This Row],[FECHA EJEC.]]="","",HOUR(Tabla1[[#This Row],[HORA TERMINO]]-Tabla1[[#This Row],[HORA INICIO]])+MINUTE(Tabla1[[#This Row],[HORA TERMINO]]-Tabla1[[#This Row],[HORA INICIO]])/60) -> 1.3333333 | O9: =IF(AND(K9=I9,J9="CONFORME"),"FECHA CUMPLIDA",IF(J9="STAND BY","STAND BY",IF(J9=""," ",IF(Tabla1[[#This Row],[FECHA EJEC.]]="","PENDIENTE",CONCATENATE("RETRASO DE ",(K9-I9)," DIAS"))))) -> RETRASO DE 3 DIAS | P9: =VLOOKUP(MONTH(Tabla1[[#This Row],[FECHA PROG.]]),Tabla2[],2,0) -> Feb | Q9: =YEAR(Tabla1[[#This Row],[FECHA PROG.]]) -> 2018 | R9: =360-SUMIFS(Tabla1[HORAS],Tabla1[MÁQUINA],Tabla1[[#This Row],[MÁQUINA]],Tabla1[AÑO],Tabla1[[#This Row],[AÑO]],Tabla1[MES],Tabla1[[#This Row],[MES]]) -> 355.25 | S9: =Tabla1[[#This Row],[HORAS DISPONIBLES]]/360 -> 0.98680556
A10: MÁQUINA GRANALLADORA | B10: GR-02 | C10: =VLOOKUP(RANDBETWEEN(1,13),Tablas!$N$7:$O$19,2,0) -> EXCAVADORA | D10: PREVENTIVO | E10: MANTENIMIENTO MECANICO | F10: 106 | G10: EAROSTE | H10: 908 | I10: =RANDBETWEEN(43101,43616) -> 43306 | J10: =IFERROR(IF(YEAR(Tabla1[[#This Row],[FECHA EJEC.]])>0,"CONFORME","STANDBY"),"PENDIENTE") -> CONFORME | K10: =IF(VLOOKUP(RANDBETWEEN(1,20),Tablas!$Q$6:$R$25,2,0)=0,"",Tabla1[[#This Row],[FECHA PROG.]]+VLOOKUP(RANDBETWEEN(1,20),Tablas!$Q$6:$R$25,2,0)) -> 43308 | L10: =IF(Tabla1[[#This Row],[FECHA EJEC.]]="","",TIME(RANDBETWEEN(9,15),RANDBETWEEN(10,40),0)) -> 0.65277778 | M10: =IF(Tabla1[[#This Row],[FECHA EJEC.]]="","",Tabla1[[#This Row],[HORA INICIO]]+TIME(RANDBETWEEN(1,4),RANDBETWEEN(10,30),0)) -> 0.78680556 | N10: =IF(Tabla1[[#This Row],[FECHA EJEC.]]="","",HOUR(Tabla1[[#This Row],[HORA TERMINO]]-Tabla1[[#This Row],[HORA INICIO]])+MINUTE(Tabla1[[#This Row],[HORA TERMINO]]-Tabla1[[#This Row],[HORA INICIO]])/60) -> 3.2166667 | O10: =IF(AND(K10=I10,J10="CONFORME"),"FECHA CUMPLIDA",IF(J10="STAND BY","STAND BY",IF(J10=""," ",IF(Tabla1[[#This Row],[FECHA EJEC.]]="","PENDIENTE",CONCATENATE("RETRASO DE ",(K10-I10)," DIAS"))))) -> RETRASO DE 2 DIAS | P10: =VLOOKUP(MONTH(Tabla1[[#This Row],[FECHA PROG.]]),Tabla2[],2,0) -> Jul | Q10: =YEAR(Tabla1[[#This Row],[FECHA PROG.]]) -> 2018 | R10: =360-SUMIFS(Tabla1[HORAS],Tabla1[MÁQUINA],Tabla1[[#This Row],[MÁQUINA]],Tabla1[AÑO],Tabla1[[#This Row],[AÑO]],Tabla1[MES],Tabla1[[#This Row],[MES]]) -> 332.75 | S10: =Tabla1[[#This Row],[HORAS DISPONIBLES]]/360 -> 0.92430556
A11: MÁQUINA GRANALLADORA | B11: GR-02 | C11: =VLOOKUP(RANDBETWEEN(1,13),Tablas!$N$7:$O$19,2,0) -> LAS VOLQUETAS | D11: PREVENTIVO | E11: MANTENIMIENTO ELECTRICO | F11: 106 | G11: JMEJIA | H11: 1698 | I11: =RANDBETWEEN(43101,43616) -> 43146 | J11: =IFERROR(IF(YEAR(Tabla1[[#This Row],[FECHA EJEC.]])>0,"CONFORME","STANDBY"),"PENDIENTE") -> CONFORME | K11: =IF(VLOOKUP(RANDBETWEEN(1,20),Tablas!$Q$6:$R$25,2,0)=0,"",Tabla1[[#This Row],[FECHA PROG.]]+VLOOKUP(RANDBETWEEN(1,20),Tablas!$Q$6:$R$25,2,0)) -> 43148 | L11: =IF(Tabla1[[#This Row],[FECHA EJEC.]]="","",TIME(RANDBETWEEN(9,15),RANDBETWEEN(10,40),0)) -> 0.39375 | M11: =IF(Tabla1[[#This Row],[FECHA EJEC.]]="","",Tabla1[[#This Row],[HORA INICIO]]+TIME(RANDBETWEEN(1,4),RANDBETWEEN(10,30),0)) -> 0.44513889 | N11: =IF(Tabla1[[#This Row],[FECHA EJEC.]]="","",HOUR(Tabla1[[#This Row],[HORA TERMINO]]-Tabla1[[#This Row],[HORA INICIO]])+MINUTE(Tabla1[[#This Row],[HORA TERMINO]]-Tabla1[[#This Row],[HORA INICIO]])/60) -> 1.2333333 | O11: =IF(AND(K11=I11,J11="CONFORME"),"FECHA CUMPLIDA",IF(J11="STAND BY","STAND BY",IF(J11=""," ",IF(Tabla1[[#This Row],[FECHA EJEC.]]="","PENDIENTE",CONCATENATE("RETRASO DE ",(K11-I11)," DIAS"))))) -> RETRASO DE 2 DIAS | P11: =VLOOKUP(MONTH(Tabla1[[#This Row],[FECHA PROG.]]),Tabla2[],2,0) -> Feb | Q11: =YEAR(Tabla1[[#This Row],[FECHA PROG.]]) -> 2018 | R11: =360-SUMIFS(Tabla1[HORAS],Tabla1[MÁQUINA],Tabla1[[#This Row],[MÁQUINA]],Tabla1[AÑO],Tabla1[[#This Row],[AÑO]],Tabla1[MES],Tabla1[[#This Row],[MES]]) -> 318.2 | S11: =Tabla1[[#This Row],[HORAS DISPONIBLES]]/360 -> 0.88388889
A12: MONTACARGAS 7 TON (DIESEL) | B12: MC-02 | C12: =VLOOKUP(RANDBETWEEN(1,13),Tablas!$N$7:$O$19,2,0) -> EXCAVADORA | D12: PREVENTIVO | E12: MANTENIMIENTO POR HOROMETRO | F12: 201 | G12: ABLAS | H12: 1168 | I12: =RANDBETWEEN(43101,43616) -> 43371 | J12: =IFERROR(IF(YEAR(Tabla1[[#This Row],[FECHA EJEC.]])>0,"CONFORME","STANDBY"),"PENDIENTE") -> CONFORME | K12: =IF(VLOOKUP(RANDBETWEEN(1,20),Tablas!$Q$6:$R$25,2,0)=0,"",Tabla1[[#This Row],[FECHA PROG.]]+VLOOKUP(RANDBETWEEN(1,20),Tablas!$Q$6:$R$25,2,0)) -> 43375 | L12: =IF(Tabla1[[#This Row],[FECHA EJEC.]]="","",TIME(RANDBETWEEN(9,15),RANDBETWEEN(10,40),0)) -> 0.39375 | M12: =IF(Tabla1[[#This Row],[FECHA EJEC.]]="","",Tabla1[[#This Row],[HORA INICIO]]+TIME(RANDBETWEEN(1,4),RANDBETWEEN(10,30),0)) -> 0.53819444 | N12: =IF(Tabla1[[#This Row],[FECHA EJEC.]]="","",HOUR(Tabla1[[#This Row],[HORA TERMINO]]-Tabla1[[#This Row],[HORA INICIO]])+MINUTE(Tabla1[[#This Row],[HORA TERMINO]]-Tabla1[[#This Row],[HORA INICIO]])/60) -> 3.4666667 | O12: =IF(AND(K12=I12,J12="CONFORME"),"FECHA CUMPLIDA",IF(J12="STAND BY","STAND BY",IF(J12=""," ",IF(Tabla1[[#This Row],[FECHA EJEC.]]="","PENDIENTE",CONCATENATE("RETRASO DE ",(K12-I12)," DIAS"))))) -> RETRASO DE 4 DIAS | P12: =VLOOKUP(MONTH(Tabla1[[#This Row],[FECHA PROG.]]),Tabla2[],2,0) -> Set | Q12: =YEAR(Tabla1[[#This Row],[FECHA PROG.]]) -> 2018 | R12: =360-SUMIFS(Tabla1[HORAS],Tabla1[MÁQUINA],Tabla1[[#This Row],[MÁQUINA]],Tabla1[AÑO],Tabla1[[#This Row],[AÑO]],Tabla1[MES],Tabla1[[#This Row],[MES]]) -> 356.53333 | S12: =Tabla1[[#This Row],[HORAS DISPONIBLES]]/360 -> 0.99037037
A13: MAQUINA DE PINTURA GRACO XTREME 70/1 | B13: MQP011 | C13: =VLOOKUP(RANDBETWEEN(1,13),Tablas!$N$7:$O$19,2,0) -> CARGADORA | D13: PREVENTIVO | E13: MANTENIMIENTO MECANICO | F13: 107 | G13: DVARGAS | H13: 1420 | I13: =RANDBETWEEN(43101,43616) -> 43382 | J13: =IFERROR(IF(YEAR(Tabla1[[#This Row],[FECHA EJEC.]])>0,"CONFORME","STANDBY"),"PENDIENTE") -> CONFORME | K13: =IF(VLOOKUP(RANDBETWEEN(1,20),Tablas!$Q$6:$R$25,2,0)=0,"",Tabla1[[#This Row],[FECHA PROG.]]+VLOOKUP(RANDBETWEEN(1,20),Tablas!$Q$6:$R$25,2,0)) -> 43385 | L13: =IF(Tabla1[[#This Row],[FECHA EJEC.]]="","",TIME(RANDBETWEEN(9,15),RANDBETWEEN(10,40),0)) -> 0.39652778 | M13: =IF(Tabla1[[#This Row],[FECHA EJEC.]]="","",Tabla1[[#This Row],[HORA INICIO]]+TIME(RANDBETWEEN(1,4),RANDBETWEEN(10,30),0)) -> 0.52847222 | N13: =IF(Tabla1[[#This Row],[FECHA EJEC.]]="","",HOUR(Tabla1[[#This Row],[HORA TERMINO]]-Tabla1[[#This Row],[HORA INICIO]])+MINUTE(Tabla1[[#This Row],[HORA TERMINO]]-Tabla1[[#This Row],[HORA INICIO]])/60) -> 3.1666667 | O13: =IF(AND(K13=I13,J13="CONFORME"),"FECHA CUMPLIDA",IF(J13="STAND BY","STAND BY",IF(J13=""," ",IF(Tabla1[[#This Row],[FECHA EJEC.]]="","PENDIENTE",CONCATENATE("RETRASO DE ",(K13-I13)," DIAS"))))) -> RETRASO DE 3 DIAS | P13: =VLOOKUP(MONTH(Tabla1[[#This Row],[FECHA PROG.]]),Tabla2[],2,0) -> Oct | Q13: =YEAR(Tabla1[[#This Row],[FECHA PROG.]]) -> 2018 | R13: =360-SUMIFS(Tabla1[HORAS],Tabla1[MÁQUINA],Tabla1[[#This Row],[MÁQUINA]],Tabla1[AÑO],Tabla1[[#This Row],[AÑO]],Tabla1[MES],Tabla1[[#This Row],[MES]]) -> 347.66667 | S13: =Tabla1[[#This Row],[HORAS DISPONIBLES]]/360 -> 0.96574074
... A243: MAQUINA DE PINTURA GRACO XTREME 60/1 | B243: MQP002 | C243: =VLOOKUP(RANDBETWEEN(1,13),Tablas!$N$7:$O$19,2,0) -> DRAGALINA | D243: PREVENTIVO | E243: MANTENIMIENTO MECANICO | F243: 107 | G243: DVARGAS | H243: 1420 | I243: =RANDBETWEEN(43101,43616) -> 43507 | J243: =IFERROR(IF(YEAR(Tabla1[[#This Row],[FECHA EJEC.]])>0,"CONFORME","STANDBY"),"PENDIENTE") -> CONFORME | K243: =IF(VLOOKUP(RANDBETWEEN(1,20),Tablas!$Q$6:$R$25,2,0)=0,"",Tabla1[[#This Row],[FECHA PROG.]]+VLOOKUP(RANDBETWEEN(1,20),Tablas!$Q$6:$R$25,2,0)) -> 43509 | L243: =IF(Tabla1[[#This Row],[FECHA EJEC.]]="","",TIME(RANDBETWEEN(9,15),RANDBETWEEN(10,40),0)) -> 0.54930556 | M243: =IF(Tabla1[[#This Row],[FECHA EJEC.]]="","",Tabla1[[#This Row],[HORA INICIO]]+TIME(RANDBETWEEN(1,4),RANDBETWEEN(10,30),0)) -> 0.73541667 | N243: =IF(Tabla1[[#This Row],[FECHA EJEC.]]="","",HOUR(Tabla1[[#This Row],[HORA TERMINO]]-Tabla1[[#This Row],[HORA INICIO]])+MINUTE(Tabla1[[#This Row],[HORA TERMINO]]-Tabla1[[#This Row],[HORA INICIO]])/60) -> 4.4666667 | O243: =IF(AND(K243=I243,J243="CONFORME"),"FECHA CUMPLIDA",IF(J243="STAND BY","STAND BY",IF(J243=""," ",IF(Tabla1[[#This Row],[FECHA EJEC.]]="","PENDIENTE",CONCATENATE("RETRASO DE ",(K243-I243)," DIAS"))))) -> RETRASO DE 2 DIAS | P243: =VLOOKUP(MONTH(Tabla1[[#This Row],[FECHA PROG.]]),Tabla2[],2,0) -> Feb | Q243: =YEAR(Tabla1[[#This Row],[FECHA PROG.]]) -> 2019 | R243: =360-SUMIFS(Tabla1[HORAS],Tabla1[MÁQUINA],Tabla1[[#This Row],[MÁQUINA]],Tabla1[AÑO],Tabla1[[#This Row],[AÑO]],Tabla1[MES],Tabla1[[#This Row],[MES]]) -> 343.6 | S243: =Tabla1[[#This Row],[HORAS DISPONIBLES]]/360 -> 0.95444444
A244: GENERADOR DE CALOR CON CHASIS DE ALUMINIO | B244: CG-02 | C244: =VLOOKUP(RANDBETWEEN(1,13),Tablas!$N$7:$O$19,2,0) -> RETROEXCAVADORA | E244: MANTENIMIENTO MECANICO-ELECTRICO | F244: 107 | G244: JMEJIA | H244: 1698 | I244: =RANDBETWEEN(43101,43616) -> 43400 | J244: =IFERROR(IF(YEAR(Tabla1[[#This Row],[FECHA EJEC.]])>0,"CONFORME","STANDBY"),"PENDIENTE") -> CONFORME | K244: =IF(VLOOKUP(RANDBETWEEN(1,20),Tablas!$Q$6:$R$25,2,0)=0,"",Tabla1[[#This Row],[FECHA PROG.]]+VLOOKUP(RANDBETWEEN(1,20),Tablas!$Q$6:$R$25,2,0)) -> 43400 | L244: =IF(Tabla1[[#This Row],[FECHA EJEC.]]="","",TIME(RANDBETWEEN(9,15),RANDBETWEEN(10,40),0)) -> 0.47708333 | M244: =IF(Tabla1[[#This Row],[FECHA EJEC.]]="","",Tabla1[[#This Row],[HORA INICIO]]+TIME(RANDBETWEEN(1,4),RANDBETWEEN(10,30),0)) -> 0.61388889 | N244: =IF(Tabla1[[#This Row],[FECHA EJEC.]]="","",HOUR(Tabla1[[#This Row],[HORA TERMINO]]-Tabla1[[#This Row],[HORA INICIO]])+MINUTE(Tabla1[[#This Row],[HORA TERMINO]]-Tabla1[[#This Row],[HORA INICIO]])/60) -> 3.2833333 | O244: =IF(AND(K244=I244,J244="CONFORME"),"FECHA CUMPLIDA",IF(J244="STAND BY","STAND BY",IF(J244=""," ",IF(Tabla1[[#This Row],[FECHA EJEC.]]="","PENDIENTE",CONCATENATE("RETRASO DE ",(K244-I244)," DIAS"))))) -> FECHA CUMPLIDA | P244: =VLOOKUP(MONTH(Tabla1[[#This Row],[FECHA PROG.]]),Tabla2[],2,0) -> Oct | Q244: =YEAR(Tabla1[[#This Row],[FECHA PROG.]]) -> 2018 | R244: =360-SUMIFS(Tabla1[HORAS],Tabla1[MÁQUINA],Tabla1[[#This Row],[MÁQUINA]],Tabla1[AÑO],Tabla1[[#This Row],[AÑO]],Tabla1[MES],Tabla1[[#This Row],[MES]]) -> 333.43333 | S244: =Tabla1[[#This Row],[HORAS DISPONIBLES]]/360 -> 0.9262037
A245: PORTICO GRÚA 1 10 TM/N1 | B245: PORT.G-01 | C245: =VLOOKUP(RANDBETWEEN(1,13),Tablas!$N$7:$O$19,2,0) -> MOTOTRAILLA | D245: PREVENTIVO | E245: MANTENIMIENTO MECANICO | F245: 107 | G245: DVARGAS | H245: 1420 | I245: =RANDBETWEEN(43101,43616) -> 43261 | J245: =IFERROR(IF(YEAR(Tabla1[[#This Row],[FECHA EJEC.]])>0,"CONFORME","STANDBY"),"PENDIENTE") -> PENDIENTE | K245: =IF(VLOOKUP(RANDBETWEEN(1,20),Tablas!$Q$6:$R$25,2,0)=0,"",Tabla1[[#This Row],[FECHA PROG.]]+VLOOKUP(RANDBETWEEN(1,20),Tablas!$Q$6:$R$25,2,0)) | L245: =IF(Tabla1[[#This Row],[FECHA EJEC.]]="","",TIME(RANDBETWEEN(9,15),RANDBETWEEN(10,40),0)) | M245: =IF(Tabla1[[#This Row],[FECHA EJEC.]]="","",Tabla1[[#This Row],[HORA INICIO]]+TIME(RANDBETWEEN(1,4),RANDBETWEEN(10,30),0)) | N245: =IF(Tabla1[[#This Row],[FECHA EJEC.]]="","",HOUR(Tabla1[[#This Row],[HORA TERMINO]]-Tabla1[[#This Row],[HORA INICIO]])+MINUTE(Tabla1[[#This Row],[HORA TERMINO]]-Tabla1[[#This Row],[HORA INICIO]])/60) | O245: =IF(AND(K245=I245,J245="CONFORME"),"FECHA CUMPLIDA",IF(J245="STAND BY","STAND BY",IF(J245=""," ",IF(Tabla1[[#This Row],[FECHA EJEC.]]="","PENDIENTE",CONCATENATE("RETRASO DE ",(K245-I245)," DIAS"))))) -> PENDIENTE | P245: =VLOOKUP(MONTH(Tabla1[[#This Row],[FECHA PROG.]]),Tabla2[],2,0) -> Jun | Q245: =YEAR(Tabla1[[#This Row],[FECHA PROG.]]) -> 2018 | R245: =360-SUMIFS(Tabla1[HORAS],Tabla1[MÁQUINA],Tabla1[[#This Row],[MÁQUINA]],Tabla1[AÑO],Tabla1[[#This Row],[AÑO]],Tabla1[MES],Tabla1[[#This Row],[MES]]) -> 356.51667 | S245: =Tabla1[[#This Row],[HORAS DISPONIBLES]]/360 -> 0.99032407
A246: PORTICO GRÚA 1 10 TM/N1 | B246: PORT.G-01 | C246: =VLOOKUP(RANDBETWEEN(1,13),Tablas!$N$7:$O$19,2,0) -> CARGADORA | D246: PREVENTIVO | E246: MANTENIMIENTO ELECTRICO | F246: 107 | G246: LGRANDEZ | H246: 1911 | I246: =RANDBETWEEN(43101,43616) -> 43365 | J246: =IFERROR(IF(YEAR(Tabla1[[#This Row],[FECHA EJEC.]])>0,"CONFORME","STANDBY"),"PENDIENTE") -> PENDIENTE | K246: =IF(VLOOKUP(RANDBETWEEN(1,20),Tablas!$Q$6:$R$25,2,0)=0,"",Tabla1[[#This Row],[FECHA PROG.]]+VLOOKUP(RANDBETWEEN(1,20),Tablas!$Q$6:$R$25,2,0)) | L246: =IF(Tabla1[[#This Row],[FECHA EJEC.]]="","",TIME(RANDBETWEEN(9,15),RANDBETWEEN(10,40),0)) | M246: =IF(Tabla1[[#This Row],[FECHA EJEC.]]="","",Tabla1[[#This Row],[HORA INICIO]]+TIME(RANDBETWEEN(1,4),RANDBETWEEN(10,30),0)) | N246: =IF(Tabla1[[#This Row],[FECHA EJEC.]]="","",HOUR(Tabla1[[#This Row],[HORA TERMINO]]-Tabla1[[#This Row],[HORA INICIO]])+MINUTE(Tabla1[[#This Row],[HORA TERMINO]]-Tabla1[[#This Row],[HORA INICIO]])/60) | O246: =IF(AND(K246=I246,J246="CONFORME"),"FECHA CUMPLIDA",IF(J246="STAND BY","STAND BY",IF(J246=""," ",IF(Tabla1[[#This Row],[FECHA EJEC.]]="","PENDIENTE",CONCATENATE("RETRASO DE ",(K246-I246)," DIAS"))))) -> PENDIENTE | P246: =VLOOKUP(MONTH(Tabla1[[#This Row],[FECHA PROG.]]),Tabla2[],2,0) -> Set | Q246: =YEAR(Tabla1[[#This Row],[FECHA PROG.]]) -> 2018 | R246: =360-SUMIFS(Tabla1[HORAS],Tabla1[MÁQUINA],Tabla1[[#This Row],[MÁQUINA]],Tabla1[AÑO],Tabla1[[#This Row],[AÑO]],Tabla1[MES],Tabla1[[#This Row],[MES]]) -> 340.91667 | S246: =Tabla1[[#This Row],[HORAS DISPONIBLES]]/360 -> 0.94699074
A247: MAQUINA GRANALLADORA MANUAL | B247: CSA-01 | C247: =VLOOKUP(RANDBETWEEN(1,13),Tablas!$N$7:$O$19,2,0) -> CARGADORA | D247: PREVENTIVO | E247: MANTENIMIENTO MECANICO | F247: 106 | G247: DVARGAS | H247: 1420 | I247: =RANDBETWEEN(43101,43616) -> 43137 | J247: =IFERROR(IF(YEAR(Tabla1[[#This Row],[FECHA EJEC.]])>0,"CONFORME","STANDBY"),"PENDIENTE") -> CONFORME | K247: =IF(VLOOKUP(RANDBETWEEN(1,20),Tablas!$Q$6:$R$25,2,0)=0,"",Tabla1[[#This Row],[FECHA PROG.]]+VLOOKUP(RANDBETWEEN(1,20),Tablas!$Q$6:$R$25,2,0)) -> 43141 | L247: =IF(Tabla1[[#This Row],[FECHA EJEC.]]="","",TIME(RANDBETWEEN(9,15),RANDBETWEEN(10,40),0)) -> 0.48194444 | M247: =IF(Tabla1[[#This Row],[FECHA EJEC.]]="","",Tabla1[[#This Row],[HORA INICIO]]+TIME(RANDBETWEEN(1,4),RANDBETWEEN(10,30),0)) -> 0.62222222 | N247: =IF(Tabla1[[#This Row],[FECHA EJEC.]]="","",HOUR(Tabla1[[#This Row],[HORA TERMINO]]-Tabla1[[#This Row],[HORA INICIO]])+MINUTE(Tabla1[[#This Row],[HORA TERMINO]]-Tabla1[[#This Row],[HORA INICIO]])/60) -> 3.3666667 | O247: =IF(AND(K247=I247,J247="CONFORME"),"FECHA CUMPLIDA",IF(J247="STAND BY","STAND BY",IF(J247=""," ",IF(Tabla1[[#This Row],[FECHA EJEC.]]="","PENDIENTE",CONCATENATE("RETRASO DE ",(K247-I247)," DIAS"))))) -> RETRASO DE 4 DIAS | P247: =VLOOKUP(MONTH(Tabla1[[#This Row],[FECHA PROG.]]),Tabla2[],2,0) -> Feb | Q247: =YEAR(Tabla1[[#This Row],[FECHA PROG.]]) -> 2018 | R247: =360-SUMIFS(Tabla1[HORAS],Tabla1[MÁQUINA],Tabla1[[#This Row],[MÁQUINA]],Tabla1[AÑO],Tabla1[[#This Row],[AÑO]],Tabla1[MES],Tabla1[[#This Row],[MES]]) -> 352.3 | S247: =Tabla1[[#This Row],[HORAS DISPONIBLES]]/360 -> 0.97861111
A248: MAQUINA GRANALLADORA MANUAL | B248: CSA-01 | C248: =VLOOKUP(RANDBETWEEN(1,13),Tablas!$N$7:$O$19,2,0) -> CARGADORA | D248: PREVENTIVO | E248: MANTENIMIENTO ELECTRICO | F248: 106 | G248: LGRANDEZ | H248: 1911 | I248: =RANDBETWEEN(43101,43616) -> 43167 | J248: =IFERROR(IF(YEAR(Tabla1[[#This Row],[FECHA EJEC.]])>0,"CONFORME","STANDBY"),"PENDIENTE") -> CONFORME | K248: =IF(VLOOKUP(RANDBETWEEN(1,20),Tablas!$Q$6:$R$25,2,0)=0,"",Tabla1[[#This Row],[FECHA PROG.]]+VLOOKUP(RANDBETWEEN(1,20),Tablas!$Q$6:$R$25,2,0)) -> 43167 | L248: =IF(Tabla1[[#This Row],[FECHA EJEC.]]="","",TIME(RANDBETWEEN(9,15),RANDBETWEEN(10,40),0)) -> 0.54930556 | M248: =IF(Tabla1[[#This Row],[FECHA EJEC.]]="","",Tabla1[[#This Row],[HORA INICIO]]+TIME(RANDBETWEEN(1,4),RANDBETWEEN(10,30),0)) -> 0.72708333 | N248: =IF(Tabla1[[#This Row],[FECHA EJEC.]]="","",HOUR(Tabla1[[#This Row],[HORA TERMINO]]-Tabla1[[#This Row],[HORA INICIO]])+MINUTE(Tabla1[[#This Row],[HORA TERMINO]]-Tabla1[[#This Row],[HORA INICIO]])/60) -> 4.2666667 | O248: =IF(AND(K248=I248,J248="CONFORME"),"FECHA CUMPLIDA",IF(J248="STAND BY","STAND BY",IF(J248=""," ",IF(Tabla1[[#This Row],[FECHA EJEC.]]="","PENDIENTE",CONCATENATE("RETRASO DE ",(K248-I248)," DIAS"))))) -> FECHA CUMPLIDA | P248: =VLOOKUP(MONTH(Tabla1[[#This Row],[FECHA PROG.]]),Tabla2[],2,0) -> Mar | Q248: =YEAR(Tabla1[[#This Row],[FECHA PROG.]]) -> 2018 | R248: =360-SUMIFS(Tabla1[HORAS],Tabla1[MÁQUINA],Tabla1[[#This Row],[MÁQUINA]],Tabla1[AÑO],Tabla1[[#This Row],[AÑO]],Tabla1[MES],Tabla1[[#This Row],[MES]]) -> 346.9 | S248: =Tabla1[[#This Row],[HORAS DISPONIBLES]]/360 -> 0.96361111
A249: COMPRESOR GA22 SERIE: API325785 | B249: COMPRESOR 5 | C249: =VLOOKUP(RANDBETWEEN(1,13),Tablas!$N$7:$O$19,2,0) -> COMPACTADORA | D249: PREVENTIVO | E249: MANTENIMIENTO MECANICO-ELECTRICO | F249: 107 | G249: JMEJIA | H249: 1698 | I249: =RANDBETWEEN(43101,43616) -> 43597 | J249: =IFERROR(IF(YEAR(Tabla1[[#This Row],[FECHA EJEC.]])>0,"CONFORME","STANDBY"),"PENDIENTE") -> PENDIENTE | K249: =IF(VLOOKUP(RANDBETWEEN(1,20),Tablas!$Q$6:$R$25,2,0)=0,"",Tabla1[[#This Row],[FECHA PROG.]]+VLOOKUP(RANDBETWEEN(1,20),Tablas!$Q$6:$R$25,2,0)) | L249: =IF(Tabla1[[#This Row],[FECHA EJEC.]]="","",TIME(RANDBETWEEN(9,15),RANDBETWEEN(10,40),0)) | M249: =IF(Tabla1[[#This Row],[FECHA EJEC.]]="","",Tabla1[[#This Row],[HORA INICIO]]+TIME(RANDBETWEEN(1,4),RANDBETWEEN(10,30),0)) | N249: =IF(Tabla1[[#This Row],[FECHA EJEC.]]="","",HOUR(Tabla1[[#This Row],[HORA TERMINO]]-Tabla1[[#This Row],[HORA INICIO]])+MINUTE(Tabla1[[#This Row],[HORA TERMINO]]-Tabla1[[#This Row],[HORA INICIO]])/60) | O249: =IF(AND(K249=I249,J249="CONFORME"),"FECHA CUMPLIDA",IF(J249="STAND BY","STAND BY",IF(J249=""," ",IF(Tabla1[[#This Row],[FECHA EJEC.]]="","PENDIENTE",CONCATENATE("RETRASO DE ",(K249-I249)," DIAS"))))) -> PENDIENTE | P249: =VLOOKUP(MONTH(Tabla1[[#This Row],[FECHA PROG.]]),Tabla2[],2,0) -> May | Q249: =YEAR(Tabla1[[#This Row],[FECHA PROG.]]) -> 2019 | R249: =360-SUMIFS(Tabla1[HORAS],Tabla1[MÁQUINA],Tabla1[[#This Row],[MÁQUINA]],Tabla1[AÑO],Tabla1[[#This Row],[AÑO]],Tabla1[MES],Tabla1[[#This Row],[MES]]) -> 356.6 | S249: =Tabla1[[#This Row],[HORAS DISPONIBLES]]/360 -> 0.99055556
A250: MAQUINA DE PINTURA GRACO XTREME 40/1 | B250: MQP003 | C250: =VLOOKUP(RANDBETWEEN(1,13),Tablas!$N$7:$O$19,2,0) -> LAS VOLQUETAS | D250: PREVENTIVO | E250: MANTENIMIENTO MECANICO | F250: 107 | G250: DVARGAS | H250: 1420 | I250: =RANDBETWEEN(43101,43616) -> 43351 | J250: =IFERROR(IF(YEAR(Tabla1[[#This Row],[FECHA EJEC.]])>0,"CONFORME","STANDBY"),"PENDIENTE") -> CONFORME | K250: =IF(VLOOKUP(RANDBETWEEN(1,20),Tablas!$Q$6:$R$25,2,0)=0,"",Tabla1[[#This Row],[FECHA PROG.]]+VLOOKUP(RANDBETWEEN(1,20),Tablas!$Q$6:$R$25,2,0)) -> 43352 | L250: =IF(Tabla1[[#This Row],[FECHA EJEC.]]="","",TIME(RANDBETWEEN(9,15),RANDBETWEEN(10,40),0)) -> 0.52777778 | M250: =IF(Tabla1[[#This Row],[FECHA EJEC.]]="","",Tabla1[[#This Row],[HORA INICIO]]+TIME(RANDBETWEEN(1,4),RANDBETWEEN(10,30),0)) -> 0.57847222 | N250: =IF(Tabla1[[#This Row],[FECHA EJEC.]]="","",HOUR(Tabla1[[#This Row],[HORA TERMINO]]-Tabla1[[#This Row],[HORA INICIO]])+MINUTE(Tabla1[[#This Row],[HORA TERMINO]]-Tabla1[[#This Row],[HORA INICIO]])/60) -> 1.2166667 | O250: =IF(AND(K250=I250,J250="CONFORME"),"FECHA CUMPLIDA",IF(J250="STAND BY","STAND BY",IF(J250=""," ",IF(Tabla1[[#This Row],[FECHA EJEC.]]="","PENDIENTE",CONCATENATE("RETRASO DE ",(K250-I250)," DIAS"))))) -> RETRASO DE 1 DIAS | P250: =VLOOKUP(MONTH(Tabla1[[#This Row],[FECHA PROG.]]),Tabla2[],2,0) -> Set | Q250: =YEAR(Tabla1[[#This Row],[FECHA PROG.]]) -> 2018 | R250: =360-SUMIFS(Tabla1[HORAS],Tabla1[MÁQUINA],Tabla1[[#This Row],[MÁQUINA]],Tabla1[AÑO],Tabla1[[#This Row],[AÑO]],Tabla1[MES],Tabla1[[#This Row],[MES]]) -> 351.06667 | S250: =Tabla1[[#This Row],[HORAS DISPONIBLES]]/360 -> 0.97518519
A251: GENERADOR DE CALOR CON CHASIS DE ALUMINIO | B251: CG-03 | C251: =VLOOKUP(RANDBETWEEN(1,13),Tablas!$N$7:$O$19,2,0) -> DRAGAS | E251: MANTENIMIENTO MECANICO-ELECTRICO | F251: 107 | G251: JMEJIA | H251: 1698 | I251: =RANDBETWEEN(43101,43616) -> 43223 | J251: =IFERROR(IF(YEAR(Tabla1[[#This Row],[FECHA EJEC.]])>0,"CONFORME","STANDBY"),"PENDIENTE") -> PENDIENTE | K251: =IF(VLOOKUP(RANDBETWEEN(1,20),Tablas!$Q$6:$R$25,2,0)=0,"",Tabla1[[#This Row],[FECHA PROG.]]+VLOOKUP(RANDBETWEEN(1,20),Tablas!$Q$6:$R$25,2,0)) | L251: =IF(Tabla1[[#This Row],[FECHA EJEC.]]="","",TIME(RANDBETWEEN(9,15),RANDBETWEEN(10,40),0)) | M251: =IF(Tabla1[[#This Row],[FECHA EJEC.]]="","",Tabla1[[#This Row],[HORA INICIO]]+TIME(RANDBETWEEN(1,4),RANDBETWEEN(10,30),0)) | N251: =IF(Tabla1[[#This Row],[FECHA EJEC.]]="","",HOUR(Tabla1[[#This Row],[HORA TERMINO]]-Tabla1[[#This Row],[HORA INICIO]])+MINUTE(Tabla1[[#This Row],[HORA TERMINO]]-Tabla1[[#This Row],[HORA INICIO]])/60) | O251: =IF(AND(K251=I251,J251="CONFORME"),"FECHA CUMPLIDA",IF(J251="STAND BY","STAND BY",IF(J251=""," ",IF(Tabla1[[#This Row],[FECHA EJEC.]]="","PENDIENTE",CONCATENATE("RETRASO DE ",(K251-I251)," DIAS"))))) -> PENDIENTE | P251: =VLOOKUP(MONTH(Tabla1[[#This Row],[FECHA PROG.]]),Tabla2[],2,0) -> May | Q251: =YEAR(Tabla1[[#This Row],[FECHA PROG.]]) -> 2018 | R251: =360-SUMIFS(Tabla1[HORAS],Tabla1[MÁQUINA],Tabla1[[#This Row],[MÁQUINA]],Tabla1[AÑO],Tabla1[[#This Row],[AÑO]],Tabla1[MES],Tabla1[[#This Row],[MES]]) -> 340.66667 | S251: =Tabla1[[#This Row],[HORAS DISPONIBLES]]/360 -> 0.9462963
A252: MÁQUINA GRANALLADORA | B252: GR-02 | C252: =VLOOKUP(RANDBETWEEN(1,13),Tablas!$N$7:$O$19,2,0) -> CISTERNAS DE AGUA | D252: PREVENTIVO | E252: MANTENIMIENTO MECANICO | F252: 106 | G252: DVARGAS | H252: 1420 | I252: =RANDBETWEEN(43101,43616) -> 43132 | J252: =IFERROR(IF(YEAR(Tabla1[[#This Row],[FECHA EJEC.]])>0,"CONFORME","STANDBY"),"PENDIENTE") -> CONFORME | K252: =IF(VLOOKUP(RANDBETWEEN(1,20),Tablas!$Q$6:$R$25,2,0)=0,"",Tabla1[[#This Row],[FECHA PROG.]]+VLOOKUP(RANDBETWEEN(1,20),Tablas!$Q$6:$R$25,2,0)) -> 43134 | L252: =IF(Tabla1[[#This Row],[FECHA EJEC.]]="","",TIME(RANDBETWEEN(9,15),RANDBETWEEN(10,40),0)) -> 0.60486111 | M252: =IF(Tabla1[[#This Row],[FECHA EJEC.]]="","",Tabla1[[#This Row],[HORA INICIO]]+TIME(RANDBETWEEN(1,4),RANDBETWEEN(10,30),0)) -> 0.65902778 | N252: =IF(Tabla1[[#This Row],[FECHA EJEC.]]="","",HOUR(Tabla1[[#This Row],[HORA TERMINO]]-Tabla1[[#This Row],[HORA INICIO]])+MINUTE(Tabla1[[#This Row],[HORA TERMINO]]-Tabla1[[#This Row],[HORA INICIO]])/60) -> 1.3 | O252: =IF(AND(K252=I252,J252="CONFORME"),"FECHA CUMPLIDA",IF(J252="STAND BY","STAND BY",IF(J252=""," ",IF(Tabla1[[#This Row],[FECHA EJEC.]]="","PENDIENTE",CONCATENATE("RETRASO DE ",(K252-I252)," DIAS"))))) -> RETRASO DE 2 DIAS | P252: =VLOOKUP(MONTH(Tabla1[[#This Row],[FECHA PROG.]]),Tabla2[],2,0) -> Feb | Q252: =YEAR(Tabla1[[#This Row],[FECHA PROG.]]) -> 2018 | R252: =360-SUMIFS(Tabla1[HORAS],Tabla1[MÁQUINA],Tabla1[[#This Row],[MÁQUINA]],Tabla1[AÑO],Tabla1[[#This Row],[AÑO]],Tabla1[MES],Tabla1[[#This Row],[MES]]) -> 318.2 | S252: =Tabla1[[#This Row],[HORAS DISPONIBLES]]/360 -> 0.88388889
A253: MÁQUINA GRANALLADORA | B253: GR-02 | C253: =VLOOKUP(RANDBETWEEN(1,13),Tablas!$N$7:$O$19,2,0) -> EXCAVADORA | D253: PREVENTIVO | E253: MANTENIMIENTO ELECTRICO | F253: 106 | G253: LGRANDEZ | H253: 1911 | I253: =RANDBETWEEN(43101,43616) -> 43341 | J253: =IFERROR(IF(YEAR(Tabla1[[#This Row],[FECHA EJEC.]])>0,"CONFORME","STANDBY"),"PENDIENTE") -> CONFORME | K253: =IF(VLOOKUP(RANDBETWEEN(1,20),Tablas!$Q$6:$R$25,2,0)=0,"",Tabla1[[#This Row],[FECHA PROG.]]+VLOOKUP(RANDBETWEEN(1,20),Tablas!$Q$6:$R$25,2,0)) -> 43342 | L253: =IF(Tabla1[[#This Row],[FECHA EJEC.]]="","",TIME(RANDBETWEEN(9,15),RANDBETWEEN(10,40),0)) -> 0.55694444 | M253: =IF(Tabla1[[#This Row],[FECHA EJEC.]]="","",Tabla1[[#This Row],[HORA INICIO]]+TIME(RANDBETWEEN(1,4),RANDBETWEEN(10,30),0)) -> 0.73611111 | N253: =IF(Tabla1[[#This Row],[FECHA EJEC.]]="","",HOUR(Tabla1[[#This Row],[HORA TERMINO]]-Tabla1[[#This Row],[HORA INICIO]])+MINUTE(Tabla1[[#This Row],[HORA TERMINO]]-Tabla1[[#This Row],[HORA INICIO]])/60) -> 4.3 | O253: =IF(AND(K253=I253,J253="CONFORME"),"FECHA CUMPLIDA",IF(J253="STAND BY","STAND BY",IF(J253=""," ",IF(Tabla1[[#This Row],[FECHA EJEC.]]="","PENDIENTE",CONCATENATE("RETRASO DE ",(K253-I253)," DIAS"))))) -> RETRASO DE 1 DIAS | P253: =VLOOKUP(MONTH(Tabla1[[#This Row],[FECHA PROG.]]),Tabla2[],2,0) -> Ago | Q253: =YEAR(Tabla1[[#This Row],[FECHA PROG.]]) -> 2018 | R253: =360-SUMIFS(Tabla1[HORAS],Tabla1[MÁQUINA],Tabla1[[#This Row],[MÁQUINA]],Tabla1[AÑO],Tabla1[[#This Row],[AÑO]],Tabla1[MES],Tabla1[[#This Row],[MES]]) -> 310.93333 | S253: =Tabla1[[#This Row],[HORAS DISPONIBLES]]/360 -> 0.8637037
A254: COMPRESOR GA55 SERIE: API623639 | B254: COMPRESOR 6 | C254: =VLOOKUP(RANDBETWEEN(1,13),Tablas!$N$7:$O$19,2,0) -> CARGADORA | D254: PREVENTIVO | E254: MANTENIMIENTO MECANICO-ELECTRICO | F254: 107 | G254: JMEJIA | H254: 1698 | I254: =RANDBETWEEN(43101,43616) -> 43559 | J254: =IFERROR(IF(YEAR(Tabla1[[#This Row],[FECHA EJEC.]])>0,"CONFORME","STANDBY"),"PENDIENTE") -> PENDIENTE | K254: =IF(VLOOKUP(RANDBETWEEN(1,20),Tablas!$Q$6:$R$25,2,0)=0,"",Tabla1[[#This Row],[FECHA PROG.]]+VLOOKUP(RANDBETWEEN(1,20),Tablas!$Q$6:$R$25,2,0)) | L254: =IF(Tabla1[[#This Row],[FECHA EJEC.]]="","",TIME(RANDBETWEEN(9,15),RANDBETWEEN(10,40),0)) | M254: =IF(Tabla1[[#This Row],[FECHA EJEC.]]="","",Tabla1[[#This Row],[HORA INICIO]]+TIME(RANDBETWEEN(1,4),RANDBETWEEN(10,30),0)) | N254: =IF(Tabla1[[#This Row],[FECHA EJEC.]]="","",HOUR(Tabla1[[#This Row],[HORA TERMINO]]-Tabla1[[#This Row],[HORA INICIO]])+MINUTE(Tabla1[[#This Row],[HORA TERMINO]]-Tabla1[[#This Row],[HORA INICIO]])/60) | O254: =IF(AND(K254=I254,J254="CONFORME"),"FECHA CUMPLIDA",IF(J254="STAND BY","STAND BY",IF(J254=""," ",IF(Tabla1[[#This Row],[FECHA EJEC.]]="","PENDIENTE",CONCATENATE("RETRASO DE ",(K254-I254)," DIAS"))))) -> PENDIENTE | P254: =VLOOKUP(MONTH(Tabla1[[#This Row],[FECHA PROG.]]),Tabla2[],2,0) -> Abr | Q254: =YEAR(Tabla1[[#This Row],[FECHA PROG.]]) -> 2019 | R254: =360-SUMIFS(Tabla1[HORAS],Tabla1[MÁQUINA],Tabla1[[#This Row],[MÁQUINA]],Tabla1[AÑO],Tabla1[[#This Row],[AÑO]],Tabla1[MES],Tabla1[[#This Row],[MES]]) -> 355.5 | S254: =Tabla1[[#This Row],[HORAS DISPONIBLES]]/360 -> 0.9875
A255: MONTACARGAS 7 TON (DIESEL) | B255: MC-02 | C255: =VLOOKUP(RANDBETWEEN(1,13),Tablas!$N$7:$O$19,2,0) -> LAS VOLQUETAS | D255: PREVENTIVO | E255: MANTENIMIENTO POR HOROMETRO | F255: 201 | G255: ABLAS | H255: 1168 | I255: =RANDBETWEEN(43101,43616) -> 43573 | J255: =IFERROR(IF(YEAR(Tabla1[[#This Row],[FECHA EJEC.]])>0,"CONFORME","STANDBY"),"PENDIENTE") -> CONFORME | K255: =IF(VLOOKUP(RANDBETWEEN(1,20),Tablas!$Q$6:$R$25,2,0)=0,"",Tabla1[[#This Row],[FECHA PROG.]]+VLOOKUP(RANDBETWEEN(1,20),Tablas!$Q$6:$R$25,2,0)) -> 43575 | L255: =IF(Tabla1[[#This Row],[FECHA EJEC.]]="","",TIME(RANDBETWEEN(9,15),RANDBETWEEN(10,40),0)) -> 0.55277778 | M255: =IF(Tabla1[[#This Row],[FECHA EJEC.]]="","",Tabla1[[#This Row],[HORA INICIO]]+TIME(RANDBETWEEN(1,4),RANDBETWEEN(10,30),0)) -> 0.65625 | N255: =IF(Tabla1[[#This Row],[FECHA EJEC.]]="","",HOUR(Tabla1[[#This Row],[HORA TERMINO]]-Tabla1[[#This Row],[HORA INICIO]])+MINUTE(Tabla1[[#This Row],[HORA TERMINO]]-Tabla1[[#This Row],[HORA INICIO]])/60) -> 2.4833333 | O255: =IF(AND(K255=I255,J255="CONFORME"),"FECHA CUMPLIDA",IF(J255="STAND BY","STAND BY",IF(J255=""," ",IF(Tabla1[[#This Row],[FECHA EJEC.]]="","PENDIENTE",CONCATENATE("RETRASO DE ",(K255-I255)," DIAS"))))) -> RETRASO DE 2 DIAS | P255: =VLOOKUP(MONTH(Tabla1[[#This Row],[FECHA PROG.]]),Tabla2[],2,0) -> Abr | Q255: =YEAR(Tabla1[[#This Row],[FECHA PROG.]]) -> 2019 | R255: =360-SUMIFS(Tabla1[HORAS],Tabla1[MÁQUINA],Tabla1[[#This Row],[MÁQUINA]],Tabla1[AÑO],Tabla1[[#This Row],[AÑO]],Tabla1[MES],Tabla1[[#This Row],[MES]]) -> 352.61667 | S255: =Tabla1[[#This Row],[HORAS DISPONIBLES]]/360 -> 0.97949074
A256: MAQUINA DE PINTURA GRACO XTREME 70/1 | B256: MQP004 | C256: =VLOOKUP(RANDBETWEEN(1,13),Tablas!$N$7:$O$19,2,0) -> CARGADORA | D256: PREVENTIVO | E256: MANTENIMIENTO MECANICO | F256: 107 | G256: DVARGAS | H256: 1420 | I256: =RANDBETWEEN(43101,43616) -> 43611 | J256: =IFERROR(IF(YEAR(Tabla1[[#This Row],[FECHA EJEC.]])>0,"CONFORME","STANDBY"),"PENDIENTE") -> CONFORME | K256: =IF(VLOOKUP(RANDBETWEEN(1,20),Tablas!$Q$6:$R$25,2,0)=0,"",Tabla1[[#This Row],[FECHA PROG.]]+VLOOKUP(RANDBETWEEN(1,20),Tablas!$Q$6:$R$25,2,0)) -> 43613 | L256: =IF(Tabla1[[#This Row],[FECHA EJEC.]]="","",TIME(RANDBETWEEN(9,15),RANDBETWEEN(10,40),0)) -> 0.43680556 | M256: =IF(Tabla1[[#This Row],[FECHA EJEC.]]="","",Tabla1[[#This Row],[HORA INICIO]]+TIME(RANDBETWEEN(1,4),RANDBETWEEN(10,30),0)) -> 0.57291667 | N256: =IF(Tabla1[[#This Row],[FECHA EJEC.]]="","",HOUR(Tabla1[[#This Row],[HORA TERMINO]]-Tabla1[[#This Row],[HORA INICIO]])+MINUTE(Tabla1[[#This Row],[HORA TERMINO]]-Tabla1[[#This Row],[HORA INICIO]])/60) -> 3.2666667 | O256: =IF(AND(K256=I256,J256="CONFORME"),"FECHA CUMPLIDA",IF(J256="STAND BY","STAND BY",IF(J256=""," ",IF(Tabla1[[#This Row],[FECHA EJEC.]]="","PENDIENTE",CONCATENATE("RETRASO DE ",(K256-I256)," DIAS"))))) -> RETRASO DE 2 DIAS | P256: =VLOOKUP(MONTH(Tabla1[[#This Row],[FECHA PROG.]]),Tabla2[],2,0) -> May | Q256: =YEAR(Tabla1[[#This Row],[FECHA PROG.]]) -> 2019 | R256: =360-SUMIFS(Tabla1[HORAS],Tabla1[MÁQUINA],Tabla1[[#This Row],[MÁQUINA]],Tabla1[AÑO],Tabla1[[#This Row],[AÑO]],Tabla1[MES],Tabla1[[#This Row],[MES]]) -> 356.73333 | S256: =Tabla1[[#This Row],[HORAS DISPONIBLES]]/360 -> 0.99092593
A257: GENERADOR DE CALOR CON CHASIS DE ACERO INOXIDABLE | B257: CG-04N | C257: =VLOOKUP(RANDBETWEEN(1,13),Tablas!$N$7:$O$19,2,0) -> PAVIMENTADORA | E257: MANTENIMIENTO ELECTRICO | F257: 107 | G257: JMEJIA | H257: 1698 | I257: =RANDBETWEEN(43101,43616) -> 43609 | J257: =IFERROR(IF(YEAR(Tabla1[[#This Row],[FECHA EJEC.]])>0,"CONFORME","STANDBY"),"PENDIENTE") -> PENDIENTE | K257: =IF(VLOOKUP(RANDBETWEEN(1,20),Tablas!$Q$6:$R$25,2,0)=0,"",Tabla1[[#This Row],[FECHA PROG.]]+VLOOKUP(RANDBETWEEN(1,20),Tablas!$Q$6:$R$25,2,0)) | L257: =IF(Tabla1[[#This Row],[FECHA EJEC.]]="","",TIME(RANDBETWEEN(9,15),RANDBETWEEN(10,40),0)) | M257: =IF(Tabla1[[#This Row],[FECHA EJEC.]]="","",Tabla1[[#This Row],[HORA INICIO]]+TIME(RANDBETWEEN(1,4),RANDBETWEEN(10,30),0)) | N257: =IF(Tabla1[[#This Row],[FECHA EJEC.]]="","",HOUR(Tabla1[[#This Row],[HORA TERMINO]]-Tabla1[[#This Row],[HORA INICIO]])+MINUTE(Tabla1[[#This Row],[HORA TERMINO]]-Tabla1[[#This Row],[HORA INICIO]])/60) | O257: =IF(AND(K257=I257,J257="CONFORME"),"FECHA CUMPLIDA",IF(J257="STAND BY","STAND BY",IF(J257=""," ",IF(Tabla1[[#This Row],[FECHA EJEC.]]="","PENDIENTE",CONCATENATE("RETRASO DE ",(K257-I257)," DIAS"))))) -> PENDIENTE | P257: =VLOOKUP(MONTH(Tabla1[[#This Row],[FECHA PROG.]]),Tabla2[],2,0) -> May | Q257: =YEAR(Tabla1[[#This Row],[FECHA PROG.]]) -> 2019 | R257: =360-SUMIFS(Tabla1[HORAS],Tabla1[MÁQUINA],Tabla1[[#This Row],[MÁQUINA]],Tabla1[AÑO],Tabla1[[#This Row],[AÑO]],Tabla1[MES],Tabla1[[#This Row],[MES]]) -> 355.53333 | S257: =Tabla1[[#This Row],[HORAS DISPONIBLES]]/360 -> 0.98759259
A258: MÁQUINA GRANALLADORA | B258: GR-01 | C258: =VLOOKUP(RANDBETWEEN(1,13),Tablas!$N$7:$O$19,2,0) -> LAS VOLQUETAS | D258: PREVENTIVO | E258: MANTENIMIENTO MECANICO | F258: 106 | G258: DVARGAS | H258: 1420 | I258: =RANDBETWEEN(43101,43616) -> 43235 | J258: =IFERROR(IF(YEAR(Tabla1[[#This Row],[FECHA EJEC.]])>0,"CONFORME","STANDBY"),"PENDIENTE") -> CONFORME | K258: =IF(VLOOKUP(RANDBETWEEN(1,20),Tablas!$Q$6:$R$25,2,0)=0,"",Tabla1[[#This Row],[FECHA PROG.]]+VLOOKUP(RANDBETWEEN(1,20),Tablas!$Q$6:$R$25,2,0)) -> 43235 | L258: =IF(Tabla1[[#This Row],[FECHA EJEC.]]="","",TIME(RANDBETWEEN(9,15),RANDBETWEEN(10,40),0)) -> 0.61111111 | M258: =IF(Tabla1[[#This Row],[FECHA EJEC.]]="","",Tabla1[[#This Row],[HORA INICIO]]+TIME(RANDBETWEEN(1,4),RANDBETWEEN(10,30),0)) -> 0.78958333 | N258: =IF(Tabla1[[#This Row],[FECHA EJEC.]]="","",HOUR(Tabla1[[#This Row],[HORA TERMINO]]-Tabla1[[#This Row],[HORA INICIO]])+MINUTE(Tabla1[[#This Row],[HORA TERMINO]]-Tabla1[[#This Row],[HORA INICIO]])/60) -> 4.2833333 | O258: =IF(AND(K258=I258,J258="CONFORME"),"FECHA CUMPLIDA",IF(J258="STAND BY","STAND BY",IF(J258=""," ",IF(Tabla1[[#This Row],[FECHA EJEC.]]="","PENDIENTE",CONCATENATE("RETRASO DE ",(K258-I258)," DIAS"))))) -> FECHA CUMPLIDA | P258: =VLOOKUP(MONTH(Tabla1[[#This Row],[FECHA PROG.]]),Tabla2[],2,0) -> May | Q258: =YEAR(Tabla1[[#This Row],[FECHA PROG.]]) -> 2018 | R258: =360-SUMIFS(Tabla1[HORAS],Tabla1[MÁQUINA],Tabla1[[#This Row],[MÁQUINA]],Tabla1[AÑO],Tabla1[[#This Row],[AÑO]],Tabla1[MES],Tabla1[[#This Row],[MES]]) -> 335.8 | S258: =Tabla1[[#This Row],[HORAS DISPONIBLES]]/360 -> 0.93277778
A259: MÁQUINA GRANALLADORA | B259: GR-01 | C259: =VLOOKUP(RANDBETWEEN(1,13),Tablas!$N$7:$O$19,2,0) -> LAS VOLQUETAS | D259: PREVENTIVO | E259: MANTENIMIENTO ELECTRICO | F259: 106 | G259: LGRANDEZ | H259: 1911 | I259: =RANDBETWEEN(43101,43616) -> 43352 | J259: =IFERROR(IF(YEAR(Tabla1[[#This Row],[FECHA EJEC.]])>0,"CONFORME","STANDBY"),"PENDIENTE") -> CONFORME | K259: =IF(VLOOKUP(RANDBETWEEN(1,20),Tablas!$Q$6:$R$25,2,0)=0,"",Tabla1[[#This Row],[FECHA PROG.]]+VLOOKUP(RANDBETWEEN(1,20),Tablas!$Q$6:$R$25,2,0)) -> 43353 | L259: =IF(Tabla1[[#This Row],[FECHA EJEC.]]="","",TIME(RANDBETWEEN(9,15),RANDBETWEEN(10,40),0)) -> 0.43819444 | M259: =IF(Tabla1[[#This Row],[FECHA EJEC.]]="","",Tabla1[[#This Row],[HORA INICIO]]+TIME(RANDBETWEEN(1,4),RANDBETWEEN(10,30),0)) -> 0.58055556 | N259: =IF(Tabla1[[#This Row],[FECHA EJEC.]]="","",HOUR(Tabla1[[#This Row],[HORA TERMINO]]-Tabla1[[#This Row],[HORA INICIO]])+MINUTE(Tabla1[[#This Row],[HORA TERMINO]]-Tabla1[[#This Row],[HORA INICIO]])/60) -> 3.4166667 | O259: =IF(AND(K259=I259,J259="CONFORME"),"FECHA CUMPLIDA",IF(J259="STAND BY","STAND BY",IF(J259=""," ",IF(Tabla1[[#This Row],[FECHA EJEC.]]="","PENDIENTE",CONCATENATE("RETRASO DE ",(K259-I259)," DIAS"))))) -> RETRASO DE 1 DIAS | P259: =VLOOKUP(MONTH(Tabla1[[#This Row],[FECHA PROG.]]),Tabla2[],2,0) -> Set | Q259: =YEAR(Tabla1[[#This Row],[FECHA PROG.]]) -> 2018 | R259: =360-SUMIFS(Tabla1[HORAS],Tabla1[MÁQUINA],Tabla1[[#This Row],[MÁQUINA]],Tabla1[AÑO],Tabla1[[#This Row],[AÑO]],Tabla1[MES],Tabla1[[#This Row],[MES]]) -> 322.11667 | S259: =Tabla1[[#This Row],[HORAS DISPONIBLES]]/360 -> 0.89476852
A260: MONTACARGAS 4.5 TON (DIESEL) | B260: MC-04 | C260: =VLOOKUP(RANDBETWEEN(1,13),Tablas!$N$7:$O$19,2,0) -> PAVIMENTADORA | D260: PREVENTIVO | E260: MANTENIMIENTO POR HOROMETRO | F260: 201 | G260: ABLAS | H260: 1168 | I260: =RANDBETWEEN(43101,43616) -> 43330 | J260: =IFERROR(IF(YEAR(Tabla1[[#This Row],[FECHA EJEC.]])>0,"CONFORME","STANDBY"),"PENDIENTE") -> CONFORME | K260: =IF(VLOOKUP(RANDBETWEEN(1,20),Tablas!$Q$6:$R$25,2,0)=0,"",Tabla1[[#This Row],[FECHA PROG.]]+VLOOKUP(RANDBETWEEN(1,20),Tablas!$Q$6:$R$25,2,0)) -> 43330 | L260: =IF(Tabla1[[#This Row],[FECHA EJEC.]]="","",TIME(RANDBETWEEN(9,15),RANDBETWEEN(10,40),0)) -> 0.64166667 | M260: =IF(Tabla1[[#This Row],[FECHA EJEC.]]="","",Tabla1[[#This Row],[HORA INICIO]]+TIME(RANDBETWEEN(1,4),RANDBETWEEN(10,30),0)) -> 0.77430556 | N260: =IF(Tabla1[[#This Row],[FECHA EJEC.]]="","",HOUR(Tabla1[[#This Row],[HORA TERMINO]]-Tabla1[[#This Row],[HORA INICIO]])+MINUTE(Tabla1[[#This Row],[HORA TERMINO]]-Tabla1[[#This Row],[HORA INICIO]])/60) -> 3.1833333 | O260: =IF(AND(K260=I260,J260="CONFORME"),"FECHA CUMPLIDA",IF(J260="STAND BY","STAND BY",IF(J260=""," ",IF(Tabla1[[#This Row],[FECHA EJEC.]]="","PENDIENTE",CONCATENATE("RETRASO DE ",(K260-I260)," DIAS"))))) -> FECHA CUMPLIDA | P260: =VLOOKUP(MONTH(Tabla1[[#This Row],[FECHA PROG.]]),Tabla2[],2,0) -> Ago | Q260: =YEAR(Tabla1[[#This Row],[FECHA PROG.]]) -> 2018 | R260: =360-SUMIFS(Tabla1[HORAS],Tabla1[MÁQUINA],Tabla1[[#This Row],[MÁQUINA]],Tabla1[AÑO],Tabla1[[#This Row],[AÑO]],Tabla1[MES],Tabla1[[#This Row],[MES]]) -> 345.7 | S260: =Tabla1[[#This Row],[HORAS DISPONIBLES]]/360 -> 0.96027778
A261: MAQUINA DE PINTURA GRACO XTREME 40/1 | B261: MQP005 | C261: =VLOOKUP(RANDBETWEEN(1,13),Tablas!$N$7:$O$19,2,0) -> PAVIMENTADORA | D261: PREVENTIVO | E261: MANTENIMIENTO MECANICO | F261: 107 | G261: DVARGAS | H261: 1420 | I261: =RANDBETWEEN(43101,43616) -> 43572 | J261: =IFERROR(IF(YEAR(Tabla1[[#This Row],[FECHA EJEC.]])>0,"CONFORME","STANDBY"),"PENDIENTE") -> CONFORME | K261: =IF(VLOOKUP(RANDBETWEEN(1,20),Tablas!$Q$6:$R$25,2,0)=0,"",Tabla1[[#This Row],[FECHA PROG.]]+VLOOKUP(RANDBETWEEN(1,20),Tablas!$Q$6:$R$25,2,0)) -> 43572 | L261: =IF(Tabla1[[#This Row],[FECHA EJEC.]]="","",TIME(RANDBETWEEN(9,15),RANDBETWEEN(10,40),0)) -> 0.44375 | M261: =IF(Tabla1[[#This Row],[FECHA EJEC.]]="","",Tabla1[[#This Row],[HORA INICIO]]+TIME(RANDBETWEEN(1,4),RANDBETWEEN(10,30),0)) -> 0.57638889 | N261: =IF(Tabla1[[#This Row],[FECHA EJEC.]]="","",HOUR(Tabla1[[#This Row],[HORA TERMINO]]-Tabla1[[#This Row],[HORA INICIO]])+MINUTE(Tabla1[[#This Row],[HORA TERMINO]]-Tabla1[[#This Row],[HORA INICIO]])/60) -> 3.1833333 | O261: =IF(AND(K261=I261,J261="CONFORME"),"FECHA CUMPLIDA",IF(J261="STAND BY","STAND BY",IF(J261=""," ",IF(Tabla1[[#This Row],[FECHA EJEC.]]="","PENDIENTE",CONCATENATE("RETRASO DE ",(K261-I261)," DIAS"))))) -> FECHA CUMPLIDA | P261: =VLOOKUP(MONTH(Tabla1[[#This Row],[FECHA PROG.]]),Tabla2[],2,0) -> Abr | Q261: =YEAR(Tabla1[[#This Row],[FECHA PROG.]]) -> 2019 | R261: =360-SUMIFS(Tabla1[HORAS],Tabla1[MÁQUINA],Tabla1[[#This Row],[MÁQUINA]],Tabla1[AÑO],Tabla1[[#This Row],[AÑO]],Tabla1[MES],Tabla1[[#This Row],[MES]]) -> 353.31667 | S261: =Tabla1[[#This Row],[HORAS DISPONIBLES]]/360 -> 0.98143519
A262: GENERADOR DE CALOR CON CHASIS DE ALUMINIO | B262: CG-04 | C262: =VLOOKUP(RANDBETWEEN(1,13),Tablas!$N$7:$O$19,2,0) -> RETROEXCAVADORA | E262: MANTENIMIENTO ELECTRICO | F262: 107 | G262: JMEJIA | H262: 1698 | I262: =RANDBETWEEN(43101,43616) -> 43487 | J262: =IFERROR(IF(YEAR(Tabla1[[#This Row],[FECHA EJEC.]])>0,"CONFORME","STANDBY"),"PENDIENTE") -> CONFORME | K262: =IF(VLOOKUP(RANDBETWEEN(1,20),Tablas!$Q$6:$R$25,2,0)=0,"",Tabla1[[#This Row],[FECHA PROG.]]+VLOOKUP(RANDBETWEEN(1,20),Tablas!$Q$6:$R$25,2,0)) -> 43487 | L262: =IF(Tabla1[[#This Row],[FECHA EJEC.]]="","",TIME(RANDBETWEEN(9,15),RANDBETWEEN(10,40),0)) -> 0.59791667 | M262: =IF(Tabla1[[#This Row],[FECHA EJEC.]]="","",Tabla1[[#This Row],[HORA INICIO]]+TIME(RANDBETWEEN(1,4),RANDBETWEEN(10,30),0)) -> 0.64861111 | N262: =IF(Tabla1[[#This Row],[FECHA EJEC.]]="","",HOUR(Tabla1[[#This Row],[HORA TERMINO]]-Tabla1[[#This Row],[HORA INICIO]])+MINUTE(Tabla1[[#This Row],[HORA TERMINO]]-Tabla1[[#This Row],[HORA INICIO]])/60) -> 1.2166667 | O262: =IF(AND(K262=I262,J262="CONFORME"),"FECHA CUMPLIDA",IF(J262="STAND BY","STAND BY",IF(J262=""," ",IF(Tabla1[[#This Row],[FECHA EJEC.]]="","PENDIENTE",CONCATENATE("RETRASO DE ",(K262-I262)," DIAS"))))) -> FECHA CUMPLIDA | P262: =VLOOKUP(MONTH(Tabla1[[#This Row],[FECHA PROG.]]),Tabla2[],2,0) -> Ene | Q262: =YEAR(Tabla1[[#This Row],[FECHA PROG.]]) -> 2019 | R262: =360-SUMIFS(Tabla1[HORAS],Tabla1[MÁQUINA],Tabla1[[#This Row],[MÁQUINA]],Tabla1[AÑO],Tabla1[[#This Row],[AÑO]],Tabla1[MES],Tabla1[[#This Row],[MES]]) -> 342.5 | S262: =Tabla1[[#This Row],[HORAS DISPONIBLES]]/360 -> 0.95138889
A263: MÁQUINA DE SOLDAR LINCOLN FLEXTEC 450 CÓDIGO 603 | B263: LINC-01 | C263: =VLOOKUP(RANDBETWEEN(1,13),Tablas!$N$7:$O$19,2,0) -> COMPACTADORA | E263: MANTENIMIENTO ELECTRICO | F263: 201 | G263: LGRANDEZ | H263: 1911 | I263: =RANDBETWEEN(43101,43616) -> 43133 | J263: =IFERROR(IF(YEAR(Tabla1[[#This Row],[FECHA EJEC.]])>0,"CONFORME","STANDBY"),"PENDIENTE") -> CONFORME | K263: =IF(VLOOKUP(RANDBETWEEN(1,20),Tablas!$Q$6:$R$25,2,0)=0,"",Tabla1[[#This Row],[FECHA PROG.]]+VLOOKUP(RANDBETWEEN(1,20),Tablas!$Q$6:$R$25,2,0)) -> 43134 | L263: =IF(Tabla1[[#This Row],[FECHA EJEC.]]="","",TIME(RANDBETWEEN(9,15),RANDBETWEEN(10,40),0)) -> 0.47916667 | M263: =IF(Tabla1[[#This Row],[FECHA EJEC.]]="","",Tabla1[[#This Row],[HORA INICIO]]+TIME(RANDBETWEEN(1,4),RANDBETWEEN(10,30),0)) -> 0.5375 | N263: =IF(Tabla1[[#This Row],[FECHA EJEC.]]="","",HOUR(Tabla1[[#This Row],[HORA TERMINO]]-Tabla1[[#This Row],[HORA INICIO]])+MINUTE(Tabla1[[#This Row],[HORA TERMINO]]-Tabla1[[#This Row],[HORA INICIO]])/60) -> 1.4 | O263: =IF(AND(K263=I263,J263="CONFORME"),"FECHA CUMPLIDA",IF(J263="STAND BY","STAND BY",IF(J263=""," ",IF(Tabla1[[#This Row],[FECHA EJEC.]]="","PENDIENTE",CONCATENATE("RETRASO DE ",(K263-I263)," DIAS"))))) -> RETRASO DE 1 DIAS | P263: =VLOOKUP(MONTH(Tabla1[[#This Row],[FECHA PROG.]]),Tabla2[],2,0) -> Feb | Q263: =YEAR(Tabla1[[#This Row],[FECHA PROG.]]) -> 2018 | R263: =360-SUMIFS(Tabla1[HORAS],Tabla1[MÁQUINA],Tabla1[[#This Row],[MÁQUINA]],Tabla1[AÑO],Tabla1[[#This Row],[AÑO]],Tabla1[MES],Tabla1[[#This Row],[MES]]) -> 358.6 | S263: =Tabla1[[#This Row],[HORAS DISPONIBLES]]/360 -> 0.99611111
A264: MAQUINA GRANALLADORA MANUAL | B264: CSA-01 | C264: =VLOOKUP(RANDBETWEEN(1,13),Tablas!$N$7:$O$19,2,0) -> RETROEXCAVADORA | D264: PREVENTIVO | E264: MANTENIMIENTO MECANICO | F264: 106 | G264: DVARGAS | H264: 1420 | I264: =RANDBETWEEN(43101,43616) -> 43134 | J264: =IFERROR(IF(YEAR(Tabla1[[#This Row],[FECHA EJEC.]])>0,"CONFORME","STANDBY"),"PENDIENTE") -> CONFORME | K264: =IF(VLOOKUP(RANDBETWEEN(1,20),Tablas!$Q$6:$R$25,2,0)=0,"",Tabla1[[#This Row],[FECHA PROG.]]+VLOOKUP(RANDBETWEEN(1,20),Tablas!$Q$6:$R$25,2,0)) -> 43137 | L264: =IF(Tabla1[[#This Row],[FECHA EJEC.]]="","",TIME(RANDBETWEEN(9,15),RANDBETWEEN(10,40),0)) -> 0.44444444 | M264: =IF(Tabla1[[#This Row],[FECHA EJEC.]]="","",Tabla1[[#This Row],[HORA INICIO]]+TIME(RANDBETWEEN(1,4),RANDBETWEEN(10,30),0)) -> 0.625 | N264: =IF(Tabla1[[#This Row],[FECHA EJEC.]]="","",HOUR(Tabla1[[#This Row],[HORA TERMINO]]-Tabla1[[#This Row],[HORA INICIO]])+MINUTE(Tabla1[[#This Row],[HORA TERMINO]]-Tabla1[[#This Row],[HORA INICIO]])/60) -> 4.3333333 | O264: =IF(AND(K264=I264,J264="CONFORME"),"FECHA CUMPLIDA",IF(J264="STAND BY","STAND BY",IF(J264=""," ",IF(Tabla1[[#This Row],[FECHA EJEC.]]="","PENDIENTE",CONCATENATE("RETRASO DE ",(K264-I264)," DIAS"))))) -> RETRASO DE 3 DIAS | P264: =VLOOKUP(MONTH(Tabla1[[#This Row],[FECHA PROG.]]),Tabla2[],2,0) -> Feb | Q264: =YEAR(Tabla1[[#This Row],[FECHA PROG.]]) -> 2018 | R264: =360-SUMIFS(Tabla1[HORAS],Tabla1[MÁQUINA],Tabla1[[#This Row],[MÁQUINA]],Tabla1[AÑO],Tabla1[[#This Row],[AÑO]],Tabla1[MES],Tabla1[[#This Row],[MES]]) -> 352.3 | S264: =Tabla1[[#This Row],[HORAS DISPONIBLES]]/360 -> 0.97861111
A265: MAQUINA GRANALLADORA MANUAL | B265: CSA-01 | C265: =VLOOKUP(RANDBETWEEN(1,13),Tablas!$N$7:$O$19,2,0) -> EXCAVADORA | D265: PREVENTIVO | E265: MANTENIMIENTO ELECTRICO | F265: 106 | G265: LGRANDEZ | H265: 1911 | I265: =RANDBETWEEN(43101,43616) -> 43251 | J265: =IFERROR(IF(YEAR(Tabla1[[#This Row],[FECHA EJEC.]])>0,"CONFORME","STANDBY"),"PENDIENTE") -> PENDIENTE | K265: =IF(VLOOKUP(RANDBETWEEN(1,20),Tablas!$Q$6:$R$25,2,0)=0,"",Tabla1[[#This Row],[FECHA PROG.]]+VLOOKUP(RANDBETWEEN(1,20),Tablas!$Q$6:$R$25,2,0)) | L265: =IF(Tabla1[[#This Row],[FECHA EJEC.]]="","",TIME(RANDBETWEEN(9,15),RANDBETWEEN(10,40),0)) | M265: =IF(Tabla1[[#This Row],[FECHA EJEC.]]="","",Tabla1[[#This Row],[HORA INICIO]]+TIME(RANDBETWEEN(1,4),RANDBETWEEN(10,30),0)) | N265: =IF(Tabla1[[#This Row],[FECHA EJEC.]]="","",HOUR(Tabla1[[#This Row],[HORA TERMINO]]-Tabla1[[#This Row],[HORA INICIO]])+MINUTE(Tabla1[[#This Row],[HORA TERMINO]]-Tabla1[[#This Row],[HORA INICIO]])/60) | O265: =IF(AND(K265=I265,J265="CONFORME"),"FECHA CUMPLIDA",IF(J265="STAND BY","STAND BY",IF(J265=""," ",IF(Tabla1[[#This Row],[FECHA EJEC.]]="","PENDIENTE",CONCATENATE("RETRASO DE ",(K265-I265)," DIAS"))))) -> PENDIENTE | P265: =VLOOKUP(MONTH(Tabla1[[#This Row],[FECHA PROG.]]),Tabla2[],2,0) -> May | Q265: =YEAR(Tabla1[[#This Row],[FECHA PROG.]]) -> 2018 | R265: =360-SUMIFS(Tabla1[HORAS],Tabla1[MÁQUINA],Tabla1[[#This Row],[MÁQUINA]],Tabla1[AÑO],Tabla1[[#This Row],[AÑO]],Tabla1[MES],Tabla1[[#This Row],[MES]]) -> 351.33333 | S265: =Tabla1[[#This Row],[HORAS DISPONIBLES]]/360 -> 0.97592593
A266: MONTACARGAS 4.5 TON (DIESEL) | B266: MC-05 | C266: =VLOOKUP(RANDBETWEEN(1,13),Tablas!$N$7:$O$19,2,0) -> PAVIMENTADORA | D266: PREVENTIVO | E266: MANTENIMIENTO POR HOROMETRO | F266: 201 | G266: ABLAS | H266: 1168 | I266: =RANDBETWEEN(43101,43616) -> 43433 | J266: =IFERROR(IF(YEAR(Tabla1[[#This Row],[FECHA EJEC.]])>0,"CONFORME","STANDBY"),"PENDIENTE") -> CONFORME | K266: =IF(VLOOKUP(RANDBETWEEN(1,20),Tablas!$Q$6:$R$25,2,0)=0,"",Tabla1[[#This Row],[FECHA PROG.]]+VLOOKUP(RANDBETWEEN(1,20),Tablas!$Q$6:$R$25,2,0)) -> 43434 | L266: =IF(Tabla1[[#This Row],[FECHA EJEC.]]="","",TIME(RANDBETWEEN(9,15),RANDBETWEEN(10,40),0)) -> 0.64444444 | M266: =IF(Tabla1[[#This Row],[FECHA EJEC.]]="","",Tabla1[[#This Row],[HORA INICIO]]+TIME(RANDBETWEEN(1,4),RANDBETWEEN(10,30),0)) -> 0.77638889 | N266: =IF(Tabla1[[#This Row],[FECHA EJEC.]]="","",HOUR(Tabla1[[#This Row],[HORA TERMINO]]-Tabla1[[#This Row],[HORA INICIO]])+MINUTE(Tabla1[[#This Row],[HORA TERMINO]]-Tabla1[[#This Row],[HORA INICIO]])/60) -> 3.1666667 | O266: =IF(AND(K266=I266,J266="CONFORME"),"FECHA CUMPLIDA",IF(J266="STAND BY","STAND BY",IF(J266=""," ",IF(Tabla1[[#This Row],[FECHA EJEC.]]="","PENDIENTE",CONCATENATE("RETRASO DE ",(K266-I266)," DIAS"))))) -> RETRASO DE 1 DIAS | P266: =VLOOKUP(MONTH(Tabla1[[#This Row],[FECHA PROG.]]),Tabla2[],2,0) -> Nov | Q266: =YEAR(Tabla1[[#This Row],[FECHA PROG.]]) -> 2018 | R266: =360-SUMIFS(Tabla1[HORAS],Tabla1[MÁQUINA],Tabla1[[#This Row],[MÁQUINA]],Tabla1[AÑO],Tabla1[[#This Row],[AÑO]],Tabla1[MES],Tabla1[[#This Row],[MES]]) -> 352.18333 | S266: =Tabla1[[#This Row],[HORAS DISPONIBLES]]/360 -> 0.97828704
A267: MAQUINA DE PINTURA GRACO XTREME 60/1 | B267: MQP006 | C267: =VLOOKUP(RANDBETWEEN(1,13),Tablas!$N$7:$O$19,2,0) -> EXCAVADORA | D267: PREVENTIVO | E267: MANTENIMIENTO MECANICO | F267: 107 | G267: DVARGAS | H267: 1420 | I267: =RANDBETWEEN(43101,43616) -> 43407 | J267: =IFERROR(IF(YEAR(Tabla1[[#This Row],[FECHA EJEC.]])>0,"CONFORME","STANDBY"),"PENDIENTE") -> CONFORME | K267: =IF(VLOOKUP(RANDBETWEEN(1,20),Tablas!$Q$6:$R$25,2,0)=0,"",Tabla1[[#This Row],[FECHA PROG.]]+VLOOKUP(RANDBETWEEN(1,20),Tablas!$Q$6:$R$25,2,0)) -> 43410 | L267: =IF(Tabla1[[#This Row],[FECHA EJEC.]]="","",TIME(RANDBETWEEN(9,15),RANDBETWEEN(10,40),0)) -> 0.63541667 | M267: =IF(Tabla1[[#This Row],[FECHA EJEC.]]="","",Tabla1[[#This Row],[HORA INICIO]]+TIME(RANDBETWEEN(1,4),RANDBETWEEN(10,30),0)) -> 0.73263889 | N267: =IF(Tabla1[[#This Row],[FECHA EJEC.]]="","",HOUR(Tabla1[[#This Row],[HORA TERMINO]]-Tabla1[[#This Row],[HORA INICIO]])+MINUTE(Tabla1[[#This Row],[HORA TERMINO]]-Tabla1[[#This Row],[HORA INICIO]])/60) -> 2.3333333 | O267: =IF(AND(K267=I267,J267="CONFORME"),"FECHA CUMPLIDA",IF(J267="STAND BY","STAND BY",IF(J267=""," ",IF(Tabla1[[#This Row],[FECHA EJEC.]]="","PENDIENTE",CONCATENATE("RETRASO DE ",(K267-I267)," DIAS"))))) -> RETRASO DE 3 DIAS | P267: =VLOOKUP(MONTH(Tabla1[[#This Row],[FECHA PROG.]]),Tabla2[],2,0) -> Nov | Q267: =YEAR(Tabla1[[#This Row],[FECHA PROG.]]) -> 2018 | R267: =360-SUMIFS(Tabla1[HORAS],Tabla1[MÁQUINA],Tabla1[[#This Row],[MÁQUINA]],Tabla1[AÑO],Tabla1[[#This Row],[AÑO]],Tabla1[MES],Tabla1[[#This Row],[MES]]) -> 351.61667 | S267: =Tabla1[[#This Row],[HORAS DISPONIBLES]]/360 -> 0.97671296
A268: MÁQUINA GRANALLADORA | B268: GR-01 | C268: =VLOOKUP(RANDBETWEEN(1,13),Tablas!$N$7:$O$19,2,0) -> PAVIMENTADORA | D268: PREVENTIVO | E268: MANTENIMIENTO MECANICO | F268: 106 | G268: DVARGAS | H268: 1420 | I268: =RANDBETWEEN(43101,43616) -> 43484 | J268: =IFERROR(IF(YEAR(Tabla1[[#This Row],[FECHA EJEC.]])>0,"CONFORME","STANDBY"),"PENDIENTE") -> CONFORME | K268: =IF(VLOOKUP(RANDBETWEEN(1,20),Tablas!$Q$6:$R$25,2,0)=0,"",Tabla1[[#This Row],[FECHA PROG.]]+VLOOKUP(RANDBETWEEN(1,20),Tablas!$Q$6:$R$25,2,0)) -> 43488 | L268: =IF(Tabla1[[#This Row],[FECHA EJEC.]]="","",TIME(RANDBETWEEN(9,15),RANDBETWEEN(10,40),0)) -> 0.39166667 | M268: =IF(Tabla1[[#This Row],[FECHA EJEC.]]="","",Tabla1[[#This Row],[HORA INICIO]]+TIME(RANDBETWEEN(1,4),RANDBETWEEN(10,30),0)) -> 0.48541667 | N268: =IF(Tabla1[[#This Row],[FECHA EJEC.]]="","",HOUR(Tabla1[[#This Row],[HORA TERMINO]]-Tabla1[[#This Row],[HORA INICIO]])+MINUTE(Tabla1[[#This Row],[HORA TERMINO]]-Tabla1[[#This Row],[HORA INICIO]])/60) -> 2.25 | O268: =IF(AND(K268=I268,J268="CONFORME"),"FECHA CUMPLIDA",IF(J268="STAND BY","STAND BY",IF(J268=""," ",IF(Tabla1[[#This Row],[FECHA EJEC.]]="","PENDIENTE",CONCATENATE("RETRASO DE ",(K268-I268)," DIAS"))))) -> RETRASO DE 4 DIAS | P268: =VLOOKUP(MONTH(Tabla1[[#This Row],[FECHA PROG.]]),Tabla2[],2,0) -> Ene | Q268: =YEAR(Tabla1[[#This Row],[FECHA PROG.]]) -> 2019 | R268: =360-SUMIFS(Tabla1[HORAS],Tabla1[MÁQUINA],Tabla1[[#This Row],[MÁQUINA]],Tabla1[AÑO],Tabla1[[#This Row],[AÑO]],Tabla1[MES],Tabla1[[#This Row],[MES]]) -> 322.83333 | S268: =Tabla1[[#This Row],[HORAS DISPONIBLES]]/360 -> 0.89675926
A269: MÁQUINA GRANALLADORA | B269: GR-01 | C269: =VLOOKUP(RANDBETWEEN(1,13),Tablas!$N$7:$O$19,2,0) -> DRAGALINA | D269: PREVENTIVO | E269: MANTENIMIENTO ELECTRICO | F269: 106 | G269: LGRANDEZ | H269: 1911 | I269: =RANDBETWEEN(43101,43616) -> 43525 | J269: =IFERROR(IF(YEAR(Tabla1[[#This Row],[FECHA EJEC.]])>0,"CONFORME","STANDBY"),"PENDIENTE") -> CONFORME | K269: =IF(VLOOKUP(RANDBETWEEN(1,20),Tablas!$Q$6:$R$25,2,0)=0,"",Tabla1[[#This Row],[FECHA PROG.]]+VLOOKUP(RANDBETWEEN(1,20),Tablas!$Q$6:$R$25,2,0)) -> 43526 | L269: =IF(Tabla1[[#This Row],[FECHA EJEC.]]="","",TIME(RANDBETWEEN(9,15),RANDBETWEEN(10,40),0)) -> 0.50972222 | M269: =IF(Tabla1[[#This Row],[FECHA EJEC.]]="","",Tabla1[[#This Row],[HORA INICIO]]+TIME(RANDBETWEEN(1,4),RANDBETWEEN(10,30),0)) -> 0.60416667 | N269: =IF(Tabla1[[#This Row],[FECHA EJEC.]]="","",HOUR(Tabla1[[#This Row],[HORA TERMINO]]-Tabla1[[#This Row],[HORA INICIO]])+MINUTE(Tabla1[[#This Row],[HORA TERMINO]]-Tabla1[[#This Row],[HORA INICIO]])/60) -> 2.2666667 | O269: =IF(AND(K269=I269,J269="CONFORME"),"FECHA CUMPLIDA",IF(J269="STAND BY","STAND BY",IF(J269=""," ",IF(Tabla1[[#This Row],[FECHA EJEC.]]="","PENDIENTE",CONCATENATE("RETRASO DE ",(K269-I269)," DIAS"))))) -> RETRASO DE 1 DIAS | P269: =VLOOKUP(MONTH(Tabla1[[#This Row],[FECHA PROG.]]),Tabla2[],2,0) -> Mar | Q269: =YEAR(Tabla1[[#This Row],[FECHA PROG.]]) -> 2019 | R269: =360-SUMIFS(Tabla1[HORAS],Tabla1[MÁQUINA],Tabla1[[#This Row],[MÁQUINA]],Tabla1[AÑO],Tabla1[[#This Row],[AÑO]],Tabla1[MES],Tabla1[[#This Row],[MES]]) -> 300.46667 | S269: =Tabla1[[#This Row],[HORAS DISPONIBLES]]/360 -> 0.83462963
A270: MÁQUINA GRANALLADORA | B270: GR-02 | C270: =VLOOKUP(RANDBETWEEN(1,13),Tablas!$N$7:$O$19,2,0) -> EXCAVADORA | D270: PREVENTIVO | E270: MANTENIMIENTO MECANICO | F270: 106 | G270: DVARGAS | H270: 1420 | I270: =RANDBETWEEN(43101,43616) -> 43126 | J270: =IFERROR(IF(YEAR(Tabla1[[#This Row],[FECHA EJEC.]])>0,"CONFORME","STANDBY"),"PENDIENTE") -> CONFORME | K270: =IF(VLOOKUP(RANDBETWEEN(1,20),Tablas!$Q$6:$R$25,2,0)=0,"",Tabla1[[#This Row],[FECHA PROG.]]+VLOOKUP(RANDBETWEEN(1,20),Tablas!$Q$6:$R$25,2,0)) -> 43126 | L270: =IF(Tabla1[[#This Row],[FECHA EJEC.]]="","",TIME(RANDBETWEEN(9,15),RANDBETWEEN(10,40),0)) -> 0.63263889 | M270: =IF(Tabla1[[#This Row],[FECHA EJEC.]]="","",Tabla1[[#This Row],[HORA INICIO]]+TIME(RANDBETWEEN(1,4),RANDBETWEEN(10,30),0)) -> 0.77013889 | N270: =IF(Tabla1[[#This Row],[FECHA EJEC.]]="","",HOUR(Tabla1[[#This Row],[HORA TERMINO]]-Tabla1[[#This Row],[HORA INICIO]])+MINUTE(Tabla1[[#This Row],[HORA TERMINO]]-Tabla1[[#This Row],[HORA INICIO]])/60) -> 3.3 | O270: =IF(AND(K270=I270,J270="CONFORME"),"FECHA CUMPLIDA",IF(J270="STAND BY","STAND BY",IF(J270=""," ",IF(Tabla1[[#This Row],[FECHA EJEC.]]="","PENDIENTE",CONCATENATE("RETRASO DE ",(K270-I270)," DIAS"))))) -> FECHA CUMPLIDA | P270: =VLOOKUP(MONTH(Tabla1[[#This Row],[FECHA PROG.]]),Tabla2[],2,0) -> Ene | Q270: =YEAR(Tabla1[[#This Row],[FECHA PROG.]]) -> 2018 | R270: =360-SUMIFS(Tabla1[HORAS],Tabla1[MÁQUINA],Tabla1[[#This Row],[MÁQUINA]],Tabla1[AÑO],Tabla1[[#This Row],[AÑO]],Tabla1[MES],Tabla1[[#This Row],[MES]]) -> 310.15 | S270: =Tabla1[[#This Row],[HORAS DISPONIBLES]]/360 -> 0.86152778
A271: MÁQUINA GRANALLADORA | B271: GR-02 | C271: =VLOOKUP(RANDBETWEEN(1,13),Tablas!$N$7:$O$19,2,0) -> PAVIMENTADORA | D271: PREVENTIVO | E271: MANTENIMIENTO ELECTRICO | F271: 106 | G271: LGRANDEZ | H271: 1911 | I271: =RANDBETWEEN(43101,43616) -> 43432 | J271: =IFERROR(IF(YEAR(Tabla1[[#This Row],[FECHA EJEC.]])>0,"CONFORME","STANDBY"),"PENDIENTE") -> CONFORME | K271: =IF(VLOOKUP(RANDBETWEEN(1,20),Tablas!$Q$6:$R$25,2,0)=0,"",Tabla1[[#This Row],[FECHA PROG.]]+VLOOKUP(RANDBETWEEN(1,20),Tablas!$Q$6:$R$25,2,0)) -> 43432 | L271: =IF(Tabla1[[#This Row],[FECHA EJEC.]]="","",TIME(RANDBETWEEN(9,15),RANDBETWEEN(10,40),0)) -> 0.48541667 | M271: =IF(Tabla1[[#This Row],[FECHA EJEC.]]="","",Tabla1[[#This Row],[HORA INICIO]]+TIME(RANDBETWEEN(1,4),RANDBETWEEN(10,30),0)) -> 0.62083333 | N271: =IF(Tabla1[[#This Row],[FECHA EJEC.]]="","",HOUR(Tabla1[[#This Row],[HORA TERMINO]]-Tabla1[[#This Row],[HORA INICIO]])+MINUTE(Tabla1[[#This Row],[HORA TERMINO]]-Tabla1[[#This Row],[HORA INICIO]])/60) -> 3.25 | O271: =IF(AND(K271=I271,J271="CONFORME"),"FECHA CUMPLIDA",IF(J271="STAND BY","STAND BY",IF(J271=""," ",IF(Tabla1[[#This Row],[FECHA EJEC.]]="","PENDIENTE",CONCATENATE("RETRASO DE ",(K271-I271)," DIAS"))))) -> FECHA CUMPLIDA | P271: =VLOOKUP(MONTH(Tabla1[[#This Row],[FECHA PROG.]]),Tabla2[],2,0) -> Nov | Q271: =YEAR(Tabla1[[#This Row],[FECHA PROG.]]) -> 2018 | R271: =360-SUMIFS(Tabla1[HORAS],Tabla1[MÁQUINA],Tabla1[[#This Row],[MÁQUINA]],Tabla1[AÑO],Tabla1[[#This Row],[AÑO]],Tabla1[MES],Tabla1[[#This Row],[MES]]) -> 321.15 | S271: =Tabla1[[#This Row],[HORAS DISPONIBLES]]/360 -> 0.89208333
A272: COMPRESOR GA90 SERIE: API615855 | B272: COMPRESOR 3 | C272: =VLOOKUP(RANDBETWEEN(1,13),Tablas!$N$7:$O$19,2,0) -> RETROEXCAVADORA | D272: PREVENTIVO | E272: MANTENIMIENTO MECANICO-ELECTRICO | F272: 106 | G272: JMEJIA | H272: 1698 | I272: =RANDBETWEEN(43101,43616) -> 43270 | J272: =IFERROR(IF(YEAR(Tabla1[[#This Row],[FECHA EJEC.]])>0,"CONFORME","STANDBY"),"PENDIENTE") -> CONFORME | K272: =IF(VLOOKUP(RANDBETWEEN(1,20),Tablas!$Q$6:$R$25,2,0)=0,"",Tabla1[[#This Row],[FECHA PROG.]]+VLOOKUP(RANDBETWEEN(1,20),Tablas!$Q$6:$R$25,2,0)) -> 43271 | L272: =IF(Tabla1[[#This Row],[FECHA EJEC.]]="","",TIME(RANDBETWEEN(9,15),RANDBETWEEN(10,40),0)) -> 0.47291667 | M272: =IF(Tabla1[[#This Row],[FECHA EJEC.]]="","",Tabla1[[#This Row],[HORA INICIO]]+TIME(RANDBETWEEN(1,4),RANDBETWEEN(10,30),0)) -> 0.61805556 | N272: =IF(Tabla1[[#This Row],[FECHA EJEC.]]="","",HOUR(Tabla1[[#This Row],[HORA TERMINO]]-Tabla1[[#This Row],[HORA INICIO]])+MINUTE(Tabla1[[#This Row],[HORA TERMINO]]-Tabla1[[#This Row],[HORA INICIO]])/60) -> 3.4833333 | O272: =IF(AND(K272=I272,J272="CONFORME"),"FECHA CUMPLIDA",IF(J272="STAND BY","STAND BY",IF(J272=""," ",IF(Tabla1[[#This Row],[FECHA EJEC.]]="","PENDIENTE",CONCATENATE("RETRASO DE ",(K272-I272)," DIAS"))))) -> RETRASO DE 1 DIAS | P272: =VLOOKUP(MONTH(Tabla1[[#This Row],[FECHA PROG.]]),Tabla2[],2,0) -> Jun | Q272: =YEAR(Tabla1[[#This Row],[FECHA PROG.]]) -> 2018 | R272: =360-SUMIFS(Tabla1[HORAS],Tabla1[MÁQUINA],Tabla1[[#This Row],[MÁQUINA]],Tabla1[AÑO],Tabla1[[#This Row],[AÑO]],Tabla1[MES],Tabla1[[#This Row],[MES]]) -> 352.06667 | S272: =Tabla1[[#This Row],[HORAS DISPONIBLES]]/360 -> 0.97796296
A273: MONTACARGAS 5 TON (GLP) 00000-37 | B273: MC-06 | C273: =VLOOKUP(RANDBETWEEN(1,13),Tablas!$N$7:$O$19,2,0) -> DRAGAS | D273: PREVENTIVO | E273: MANTENIMIENTO POR HOROMETRO | F273: 201 | G273: ABLAS | H273: 1168 | I273: =RANDBETWEEN(43101,43616) -> 43374 | J273: =IFERROR(IF(YEAR(Tabla1[[#This Row],[FECHA EJEC.]])>0,"CONFORME","STANDBY"),"PENDIENTE") -> CONFORME | K273: =IF(VLOOKUP(RANDBETWEEN(1,20),Tablas!$Q$6:$R$25,2,0)=0,"",Tabla1[[#This Row],[FECHA PROG.]]+VLOOKUP(RANDBETWEEN(1,20),Tablas!$Q$6:$R$25,2,0)) -> 43375 | L273: =IF(Tabla1[[#This Row],[FECHA EJEC.]]="","",TIME(RANDBETWEEN(9,15),RANDBETWEEN(10,40),0)) -> 0.38958333 | M273: =IF(Tabla1[[#This Row],[FECHA EJEC.]]="","",Tabla1[[#This Row],[HORA INICIO]]+TIME(RANDBETWEEN(1,4),RANDBETWEEN(10,30),0)) -> 0.57638889 | N273: =IF(Tabla1[[#This Row],[FECHA EJEC.]]="","",HOUR(Tabla1[[#This Row],[HORA TERMINO]]-Tabla1[[#This Row],[HORA INICIO]])+MINUTE(Tabla1[[#This Row],[HORA TERMINO]]-Tabla1[[#This Row],[HORA INICIO]])/60) -> 4.4833333 | O273: =IF(AND(K273=I273,J273="CONFORME"),"FECHA CUMPLIDA",IF(J273="STAND BY","STAND BY",IF(J273=""," ",IF(Tabla1[[#This Row],[FECHA EJEC.]]="","PENDIENTE",CONCATENATE("RETRASO DE ",(K273-I273)," DIAS"))))) -> RETRASO DE 1 DIAS | P273: =VLOOKUP(MONTH(Tabla1[[#This Row],[FECHA PROG.]]),Tabla2[],2,0) -> Oct | Q273: =YEAR(Tabla1[[#This Row],[FECHA PROG.]]) -> 2018 | R273: =360-SUMIFS(Tabla1[HORAS],Tabla1[MÁQUINA],Tabla1[[#This Row],[MÁQUINA]],Tabla1[AÑO],Tabla1[[#This Row],[AÑO]],Tabla1[MES],Tabla1[[#This Row],[MES]]) -> 351.56667 | S273: =Tabla1[[#This Row],[HORAS DISPONIBLES]]/360 -> 0.97657407
A274: MAQUINA DE PINTURA GRACO XTREME 60/1 | B274: MQP007 | C274: =VLOOKUP(RANDBETWEEN(1,13),Tablas!$N$7:$O$19,2,0) -> MOTONIVELADORA | D274: PREVENTIVO | E274: MANTENIMIENTO MECANICO | F274: 107 | G274: DVARGAS | H274: 1420 | I274: =RANDBETWEEN(43101,43616) -> 43225 | J274: =IFERROR(IF(YEAR(Tabla1[[#This Row],[FECHA EJEC.]])>0,"CONFORME","STANDBY"),"PENDIENTE") -> CONFORME | K274: =IF(VLOOKUP(RANDBETWEEN(1,20),Tablas!$Q$6:$R$25,2,0)=0,"",Tabla1[[#This Row],[FECHA PROG.]]+VLOOKUP(RANDBETWEEN(1,20),Tablas!$Q$6:$R$25,2,0)) -> 43226 | L274: =IF(Tabla1[[#This Row],[FECHA EJEC.]]="","",TIME(RANDBETWEEN(9,15),RANDBETWEEN(10,40),0)) -> 0.38263889 | M274: =IF(Tabla1[[#This Row],[FECHA EJEC.]]="","",Tabla1[[#This Row],[HORA INICIO]]+TIME(RANDBETWEEN(1,4),RANDBETWEEN(10,30),0)) -> 0.56180556 | N274: =IF(Tabla1[[#This Row],[FECHA EJEC.]]="","",HOUR(Tabla1[[#This Row],[HORA TERMINO]]-Tabla1[[#This Row],[HORA INICIO]])+MINUTE(Tabla1[[#This Row],[HORA TERMINO]]-Tabla1[[#This Row],[HORA INICIO]])/60) -> 4.3 | O274: =IF(AND(K274=I274,J274="CONFORME"),"FECHA CUMPLIDA",IF(J274="STAND BY","STAND BY",IF(J274=""," ",IF(Tabla1[[#This Row],[FECHA EJEC.]]="","PENDIENTE",CONCATENATE("RETRASO DE ",(K274-I274)," DIAS"))))) -> RETRASO DE 1 DIAS | P274: =VLOOKUP(MONTH(Tabla1[[#This Row],[FECHA PROG.]]),Tabla2[],2,0) -> May | Q274: =YEAR(Tabla1[[#This Row],[FECHA PROG.]]) -> 2018 | R274: =360-SUMIFS(Tabla1[HORAS],Tabla1[MÁQUINA],Tabla1[[#This Row],[MÁQUINA]],Tabla1[AÑO],Tabla1[[#This Row],[AÑO]],Tabla1[MES],Tabla1[[#This Row],[MES]]) -> 337.96667 | S274: =Tabla1[[#This Row],[HORAS DISPONIBLES]]/360 -> 0.9387963
A275: GENERADOR DE CALOR CON CHASIS DE ALUMINIO | B275: CG-05 | C275: =VLOOKUP(RANDBETWEEN(1,13),Tablas!$N$7:$O$19,2,0) -> DRAGALINA | E275: MANTENIMIENTO ELECTRICO | F275: 107 | G275: JMEJIA | H275: 1698 | I275: =RANDBETWEEN(43101,43616) -> 43235 | J275: =IFERROR(IF(YEAR(Tabla1[[#This Row],[FECHA EJEC.]])>0,"CONFORME","STANDBY"),"PENDIENTE") -> CONFORME | K275: =IF(VLOOKUP(RANDBETWEEN(1,20),Tablas!$Q$6:$R$25,2,0)=0,"",Tabla1[[#This Row],[FECHA PROG.]]+VLOOKUP(RANDBETWEEN(1,20),Tablas!$Q$6:$R$25,2,0)) -> 43236 | L275: =IF(Tabla1[[#This Row],[FECHA EJEC.]]="","",TIME(RANDBETWEEN(9,15),RANDBETWEEN(10,40),0)) -> 0.64305556 | M275: =IF(Tabla1[[#This Row],[FECHA EJEC.]]="","",Tabla1[[#This Row],[HORA INICIO]]+TIME(RANDBETWEEN(1,4),RANDBETWEEN(10,30),0)) -> 0.73472222 | N275: =IF(Tabla1[[#This Row],[FECHA EJEC.]]="","",HOUR(Tabla1[[#This Row],[HORA TERMINO]]-Tabla1[[#This Row],[HORA INICIO]])+MINUTE(Tabla1[[#This Row],[HORA TERMINO]]-Tabla1[[#This Row],[HORA INICIO]])/60) -> 2.2 | O275: =IF(AND(K275=I275,J275="CONFORME"),"FECHA CUMPLIDA",IF(J275="STAND BY","STAND BY",IF(J275=""," ",IF(Tabla1[[#This Row],[FECHA EJEC.]]="","PENDIENTE",CONCATENATE("RETRASO DE ",(K275-I275)," DIAS"))))) -> RETRASO DE 1 DIAS | P275: =VLOOKUP(MONTH(Tabla1[[#This Row],[FECHA PROG.]]),Tabla2[],2,0) -> May | Q275: =YEAR(Tabla1[[#This Row],[FECHA PROG.]]) -> 2018 | R275: =360-SUMIFS(Tabla1[HORAS],Tabla1[MÁQUINA],Tabla1[[#This Row],[MÁQUINA]],Tabla1[AÑO],Tabla1[[#This Row],[AÑO]],Tabla1[MES],Tabla1[[#This Row],[MES]]) -> 340.66667 | S275: =Tabla1[[#This Row],[HORAS DISPONIBLES]]/360 -> 0.9462963
A276: TABLERO ELÉCTRICO MANTENIMIENTO 220 V | B276: TAB-01 | C276: =VLOOKUP(RANDBETWEEN(1,13),Tablas!$N$7:$O$19,2,0) -> CARGADORA | E276: MANTENIMIENTO ELECTRICO | F276: 201 | G276: LGRANDEZ | H276: 1911 | I276: =RANDBETWEEN(43101,43616) -> 43300 | J276: =IFERROR(IF(YEAR(Tabla1[[#This Row],[FECHA EJEC.]])>0,"CONFORME","STANDBY"),"PENDIENTE") -> CONFORME | K276: =IF(VLOOKUP(RANDBETWEEN(1,20),Tablas!$Q$6:$R$25,2,0)=0,"",Tabla1[[#This Row],[FECHA PROG.]]+VLOOKUP(RANDBETWEEN(1,20),Tablas!$Q$6:$R$25,2,0)) -> 43304 | L276: =IF(Tabla1[[#This Row],[FECHA EJEC.]]="","",TIME(RANDBETWEEN(9,15),RANDBETWEEN(10,40),0)) -> 0.38194444 | M276: =IF(Tabla1[[#This Row],[FECHA EJEC.]]="","",Tabla1[[#This Row],[HORA INICIO]]+TIME(RANDBETWEEN(1,4),RANDBETWEEN(10,30),0)) -> 0.51805556 | N276: =IF(Tabla1[[#This Row],[FECHA EJEC.]]="","",HOUR(Tabla1[[#This Row],[HORA TERMINO]]-Tabla1[[#This Row],[HORA INICIO]])+MINUTE(Tabla1[[#This Row],[HORA TERMINO]]-Tabla1[[#This Row],[HORA INICIO]])/60) -> 3.2666667 | O276: =IF(AND(K276=I276,J276="CONFORME"),"FECHA CUMPLIDA",IF(J276="STAND BY","STAND BY",IF(J276=""," ",IF(Tabla1[[#This Row],[FECHA EJEC.]]="","PENDIENTE",CONCATENATE("RETRASO DE ",(K276-I276)," DIAS"))))) -> RETRASO DE 4 DIAS | P276: =VLOOKUP(MONTH(Tabla1[[#This Row],[FECHA PROG.]]),Tabla2[],2,0) -> Jul | Q276: =YEAR(Tabla1[[#This Row],[FECHA PROG.]]) -> 2018 | R276: =360-SUMIFS(Tabla1[HORAS],Tabla1[MÁQUINA],Tabla1[[#This Row],[MÁQUINA]],Tabla1[AÑO],Tabla1[[#This Row],[AÑO]],Tabla1[MES],Tabla1[[#This Row],[MES]]) -> 356.73333 | S276: =Tabla1[[#This Row],[HORAS DISPONIBLES]]/360 -> 0.99092593
A277: TABLERO ELÉCTRICO SOMA 220 V | B277: TAB-02 | C277: =VLOOKUP(RANDBETWEEN(1,13),Tablas!$N$7:$O$19,2,0) -> MOTONIVELADORA | E277: MANTENIMIENTO ELECTRICO | F277: 201 | G277: LGRANDEZ | H277: 1911 | I277: =RANDBETWEEN(43101,43616) -> 43542 | J277: =IFERROR(IF(YEAR(Tabla1[[#This Row],[FECHA EJEC.]])>0,"CONFORME","STANDBY"),"PENDIENTE") -> CONFORME | K277: =IF(VLOOKUP(RANDBETWEEN(1,20),Tablas!$Q$6:$R$25,2,0)=0,"",Tabla1[[#This Row],[FECHA PROG.]]+VLOOKUP(RANDBETWEEN(1,20),Tablas!$Q$6:$R$25,2,0)) -> 43542 | L277: =IF(Tabla1[[#This Row],[FECHA EJEC.]]="","",TIME(RANDBETWEEN(9,15),RANDBETWEEN(10,40),0)) -> 0.425 | M277: =IF(Tabla1[[#This Row],[FECHA EJEC.]]="","",Tabla1[[#This Row],[HORA INICIO]]+TIME(RANDBETWEEN(1,4),RANDBETWEEN(10,30),0)) -> 0.51597222 | N277: =IF(Tabla1[[#This Row],[FECHA EJEC.]]="","",HOUR(Tabla1[[#This Row],[HORA TERMINO]]-Tabla1[[#This Row],[HORA INICIO]])+MINUTE(Tabla1[[#This Row],[HORA TERMINO]]-Tabla1[[#This Row],[HORA INICIO]])/60) -> 2.1833333 | O277: =IF(AND(K277=I277,J277="CONFORME"),"FECHA CUMPLIDA",IF(J277="STAND BY","STAND BY",IF(J277=""," ",IF(Tabla1[[#This Row],[FECHA EJEC.]]="","PENDIENTE",CONCATENATE("RETRASO DE ",(K277-I277)," DIAS"))))) -> FECHA CUMPLIDA | P277: =VLOOKUP(MONTH(Tabla1[[#This Row],[FECHA PROG.]]),Tabla2[],2,0) -> Mar | Q277: =YEAR(Tabla1[[#This Row],[FECHA PROG.]]) -> 2019 | R277: =360-SUMIFS(Tabla1[HORAS],Tabla1[MÁQUINA],Tabla1[[#This Row],[MÁQUINA]],Tabla1[AÑO],Tabla1[[#This Row],[AÑO]],Tabla1[MES],Tabla1[[#This Row],[MES]]) -> 357.81667 | S277: =Tabla1[[#This Row],[HORAS DISPONIBLES]]/360 -> 0.99393519
A278: TABLERO ELÉCTRICO BOMBA DE AGUA 220 V | B278: TAB-03 | C278: =VLOOKUP(RANDBETWEEN(1,13),Tablas!$N$7:$O$19,2,0) -> EXCAVADORA | E278: MANTENIMIENTO ELECTRICO | F278: 201 | G278: LGRANDEZ | H278: 1911 | I278: =RANDBETWEEN(43101,43616) -> 43106 | J278: =IFERROR(IF(YEAR(Tabla1[[#This Row],[FECHA EJEC.]])>0,"CONFORME","STANDBY"),"PENDIENTE") -> CONFORME | K278: =IF(VLOOKUP(RANDBETWEEN(1,20),Tablas!$Q$6:$R$25,2,0)=0,"",Tabla1[[#This Row],[FECHA PROG.]]+VLOOKUP(RANDBETWEEN(1,20),Tablas!$Q$6:$R$25,2,0)) -> 43106 | L278: =IF(Tabla1[[#This Row],[FECHA EJEC.]]="","",TIME(RANDBETWEEN(9,15),RANDBETWEEN(10,40),0)) -> 0.55416667 | M278: =IF(Tabla1[[#This Row],[FECHA EJEC.]]="","",Tabla1[[#This Row],[HORA INICIO]]+TIME(RANDBETWEEN(1,4),RANDBETWEEN(10,30),0)) -> 0.74027778 | N278: =IF(Tabla1[[#This Row],[FECHA EJEC.]]="","",HOUR(Tabla1[[#This Row],[HORA TERMINO]]-Tabla1[[#This Row],[HORA INICIO]])+MINUTE(Tabla1[[#This Row],[HORA TERMINO]]-Tabla1[[#This Row],[HORA INICIO]])/60) -> 4.4666667 | O278: =IF(AND(K278=I278,J278="CONFORME"),"FECHA CUMPLIDA",IF(J278="STAND BY","STAND BY",IF(J278=""," ",IF(Tabla1[[#This Row],[FECHA EJEC.]]="","PENDIENTE",CONCATENATE("RETRASO DE ",(K278-I278)," DIAS"))))) -> FECHA CUMPLIDA | P278: =VLOOKUP(MONTH(Tabla1[[#This Row],[FECHA PROG.]]),Tabla2[],2,0) -> Ene | Q278: =YEAR(Tabla1[[#This Row],[FECHA PROG.]]) -> 2018 | R278: =360-SUMIFS(Tabla1[HORAS],Tabla1[MÁQUINA],Tabla1[[#This Row],[MÁQUINA]],Tabla1[AÑO],Tabla1[[#This Row],[AÑO]],Tabla1[MES],Tabla1[[#This Row],[MES]]) -> 355.53333 | S278: =Tabla1[[#This Row],[HORAS DISPONIBLES]]/360 -> 0.98759259
A279: TABLERO ELÉCTRICO MANTENIMIENTO - COMPRESORA 220 V | B279: TAB-04 | C279: =VLOOKUP(RANDBETWEEN(1,13),Tablas!$N$7:$O$19,2,0) -> RETROEXCAVADORA | E279: MANTENIMIENTO ELECTRICO | F279: 201 | G279: LGRANDEZ | H279: 1911 | I279: =RANDBETWEEN(43101,43616) -> 43449 | J279: =IFERROR(IF(YEAR(Tabla1[[#This Row],[FECHA EJEC.]])>0,"CONFORME","STANDBY"),"PENDIENTE") -> CONFORME | K279: =IF(VLOOKUP(RANDBETWEEN(1,20),Tablas!$Q$6:$R$25,2,0)=0,"",Tabla1[[#This Row],[FECHA PROG.]]+VLOOKUP(RANDBETWEEN(1,20),Tablas!$Q$6:$R$25,2,0)) -> 43449 | L279: =IF(Tabla1[[#This Row],[FECHA EJEC.]]="","",TIME(RANDBETWEEN(9,15),RANDBETWEEN(10,40),0)) -> 0.55763889 | M279: =IF(Tabla1[[#This Row],[FECHA EJEC.]]="","",Tabla1[[#This Row],[HORA INICIO]]+TIME(RANDBETWEEN(1,4),RANDBETWEEN(10,30),0)) -> 0.73819444 | N279: =IF(Tabla1[[#This Row],[FECHA EJEC.]]="","",HOUR(Tabla1[[#This Row],[HORA TERMINO]]-Tabla1[[#This Row],[HORA INICIO]])+MINUTE(Tabla1[[#This Row],[HORA TERMINO]]-Tabla1[[#This Row],[HORA INICIO]])/60) -> 4.3333333 | O279: =IF(AND(K279=I279,J279="CONFORME"),"FECHA CUMPLIDA",IF(J279="STAND BY","STAND BY",IF(J279=""," ",IF(Tabla1[[#This Row],[FECHA EJEC.]]="","PENDIENTE",CONCATENATE("RETRASO DE ",(K279-I279)," DIAS"))))) -> FECHA CUMPLIDA | P279: =VLOOKUP(MONTH(Tabla1[[#This Row],[FECHA PROG.]]),Tabla2[],2,0) -> Dic | Q279: =YEAR(Tabla1[[#This Row],[FECHA PROG.]]) -> 2018 | R279: =360-SUMIFS(Tabla1[HORAS],Tabla1[MÁQUINA],Tabla1[[#This Row],[MÁQUINA]],Tabla1[AÑO],Tabla1[[#This Row],[AÑO]],Tabla1[MES],Tabla1[[#This Row],[MES]]) -> 351.41667 | S279: =Tabla1[[#This Row],[HORAS DISPONIBLES]]/360 -> 0.97615741
A280: TABLERO ELÉCTRICO OFICINAS 220 V | B280: TAB-05 | C280: =VLOOKUP(RANDBETWEEN(1,13),Tablas!$N$7:$O$19,2,0) -> CARGADORA | E280: MANTENIMIENTO ELECTRICO | F280: 201 | G280: LGRANDEZ | H280: 1911 | I280: =RANDBETWEEN(43101,43616) -> 43231 | J280: =IFERROR(IF(YEAR(Tabla1[[#This Row],[FECHA EJEC.]])>0,"CONFORME","STANDBY"),"PENDIENTE") -> PENDIENTE | K280: =IF(VLOOKUP(RANDBETWEEN(1,20),Tablas!$Q$6:$R$25,2,0)=0,"",Tabla1[[#This Row],[FECHA PROG.]]+VLOOKUP(RANDBETWEEN(1,20),Tablas!$Q$6:$R$25,2,0)) | L280: =IF(Tabla1[[#This Row],[FECHA EJEC.]]="","",TIME(RANDBETWEEN(9,15),RANDBETWEEN(10,40),0)) | M280: =IF(Tabla1[[#This Row],[FECHA EJEC.]]="","",Tabla1[[#This Row],[HORA INICIO]]+TIME(RANDBETWEEN(1,4),RANDBETWEEN(10,30),0)) | N280: =IF(Tabla1[[#This Row],[FECHA EJEC.]]="","",HOUR(Tabla1[[#This Row],[HORA TERMINO]]-Tabla1[[#This Row],[HORA INICIO]])+MINUTE(Tabla1[[#This Row],[HORA TERMINO]]-Tabla1[[#This Row],[HORA INICIO]])/60) | O280: =IF(AND(K280=I280,J280="CONFORME"),"FECHA CUMPLIDA",IF(J280="STAND BY","STAND BY",IF(J280=""," ",IF(Tabla1[[#This Row],[FECHA EJEC.]]="","PENDIENTE",CONCATENATE("RETRASO DE ",(K280-I280)," DIAS"))))) -> PENDIENTE | P280: =VLOOKUP(MONTH(Tabla1[[#This Row],[FECHA PROG.]]),Tabla2[],2,0) -> May | Q280: =YEAR(Tabla1[[#This Row],[FECHA PROG.]]) -> 2018 | R280: =360-SUMIFS(Tabla1[HORAS],Tabla1[MÁQUINA],Tabla1[[#This Row],[MÁQUINA]],Tabla1[AÑO],Tabla1[[#This Row],[AÑO]],Tabla1[MES],Tabla1[[#This Row],[MES]]) -> 360 | S280: =Tabla1[[#This Row],[HORAS DISPONIBLES]]/360 -> 1
A281: TABLERO ELÉCTRICO OFICINAS - ILUMINACIÓN PERIMÉTRICA 220 V | B281: TAB-06 | C281: =VLOOKUP(RANDBETWEEN(1,13),Tablas!$N$7:$O$19,2,0) -> LAS VOLQUETAS | E281: MANTENIMIENTO ELECTRICO | F281: 201 | G281: LGRANDEZ | H281: 1911 | I281: =RANDBETWEEN(43101,43616) -> 43383 | J281: =IFERROR(IF(YEAR(Tabla1[[#This Row],[FECHA EJEC.]])>0,"CONFORME","STANDBY"),"PENDIENTE") -> CONFORME | K281: =IF(VLOOKUP(RANDBETWEEN(1,20),Tablas!$Q$6:$R$25,2,0)=0,"",Tabla1[[#This Row],[FECHA PROG.]]+VLOOKUP(RANDBETWEEN(1,20),Tablas!$Q$6:$R$25,2,0)) -> 43385 | L281: =IF(Tabla1[[#This Row],[FECHA EJEC.]]="","",TIME(RANDBETWEEN(9,15),RANDBETWEEN(10,40),0)) -> 0.56805556 | M281: =IF(Tabla1[[#This Row],[FECHA EJEC.]]="","",Tabla1[[#This Row],[HORA INICIO]]+TIME(RANDBETWEEN(1,4),RANDBETWEEN(10,30),0)) -> 0.67013889 | N281: =IF(Tabla1[[#This Row],[FECHA EJEC.]]="","",HOUR(Tabla1[[#This Row],[HORA TERMINO]]-Tabla1[[#This Row],[HORA INICIO]])+MINUTE(Tabla1[[#This Row],[HORA TERMINO]]-Tabla1[[#This Row],[HORA INICIO]])/60) -> 2.45 | O281: =IF(AND(K281=I281,J281="CONFORME"),"FECHA CUMPLIDA",IF(J281="STAND BY","STAND BY",IF(J281=""," ",IF(Tabla1[[#This Row],[FECHA EJEC.]]="","PENDIENTE",CONCATENATE("RETRASO DE ",(K281-I281)," DIAS"))))) -> RETRASO DE 2 DIAS | P281: =VLOOKUP(MONTH(Tabla1[[#This Row],[FECHA PROG.]]),Tabla2[],2,0) -> Oct | Q281: =YEAR(Tabla1[[#This Row],[FECHA PROG.]]) -> 2018 | R281: =360-SUMIFS(Tabla1[HORAS],Tabla1[MÁQUINA],Tabla1[[#This Row],[MÁQUINA]],Tabla1[AÑO],Tabla1[[#This Row],[AÑO]],Tabla1[MES],Tabla1[[#This Row],[MES]]) -> 356.35 | S281: =Tabla1[[#This Row],[HORAS DISPONIBLES]]/360 -> 0.98986111
A282: MÁQUINA GRANALLADORA | B282: GR-01 | C282: =VLOOKUP(RANDBETWEEN(1,13),Tablas!$N$7:$O$19,2,0) -> TRACTORES | D282: PREVENTIVO | E282: MANTENIMIENTO MECANICO | F282: 106 | G282: DVARGAS | H282: 1420 | I282: =RANDBETWEEN(43101,43616) -> 43462 | J282: =IFERROR(IF(YEAR(Tabla1[[#This Row],[FECHA EJEC.]])>0,"CONFORME","STANDBY"),"PENDIENTE") -> CONFORME | K282: =IF(VLOOKUP(RANDBETWEEN(1,20),Tablas!$Q$6:$R$25,2,0)=0,"",Tabla1[[#This Row],[FECHA PROG.]]+VLOOKUP(RANDBETWEEN(1,20),Tablas!$Q$6:$R$25,2,0)) -> 43465 | L282: =IF(Tabla1[[#This Row],[FECHA EJEC.]]="","",TIME(RANDBETWEEN(9,15),RANDBETWEEN(10,40),0)) -> 0.38472222 | M282: =IF(Tabla1[[#This Row],[FECHA EJEC.]]="","",Tabla1[[#This Row],[HORA INICIO]]+TIME(RANDBETWEEN(1,4),RANDBETWEEN(10,30),0)) -> 0.48055556 | N282: =IF(Tabla1[[#This Row],[FECHA EJEC.]]="","",HOUR(Tabla1[[#This Row],[HORA TERMINO]]-Tabla1[[#This Row],[HORA INICIO]])+MINUTE(Tabla1[[#This Row],[HORA TERMINO]]-Tabla1[[#This Row],[HORA INICIO]])/60) -> 2.3 | O282: =IF(AND(K282=I282,J282="CONFORME"),"FECHA CUMPLIDA",IF(J282="STAND BY","STAND BY",IF(J282=""," ",IF(Tabla1[[#This Row],[FECHA EJEC.]]="","PENDIENTE",CONCATENATE("RETRASO DE ",(K282-I282)," DIAS"))))) -> RETRASO DE 3 DIAS | P282: =VLOOKUP(MONTH(Tabla1[[#This Row],[FECHA PROG.]]),Tabla2[],2,0) -> Dic | Q282: =YEAR(Tabla1[[#This Row],[FECHA PROG.]]) -> 2018 | R282: =360-SUMIFS(Tabla1[HORAS],Tabla1[MÁQUINA],Tabla1[[#This Row],[MÁQUINA]],Tabla1[AÑO],Tabla1[[#This Row],[AÑO]],Tabla1[MES],Tabla1[[#This Row],[MES]]) -> 332.58333 | S282: =Tabla1[[#This Row],[HORAS DISPONIBLES]]/360 -> 0.92384259
A283: MÁQUINA GRANALLADORA | B283: GR-01 | C283: =VLOOKUP(RANDBETWEEN(1,13),Tablas!$N$7:$O$19,2,0) -> PAVIMENTADORA | D283: PREVENTIVO | E283: MANTENIMIENTO ELECTRICO | F283: 106 | G283: LGRANDEZ | H283: 1911 | I283: =RANDBETWEEN(43101,43616) -> 43144 | J283: =IFERROR(IF(YEAR(Tabla1[[#This Row],[FECHA EJEC.]])>0,"CONFORME","STANDBY"),"PENDIENTE") -> CONFORME | K283: =IF(VLOOKUP(RANDBETWEEN(1,20),Tablas!$Q$6:$R$25,2,0)=0,"",Tabla1[[#This Row],[FECHA PROG.]]+VLOOKUP(RANDBETWEEN(1,20),Tablas!$Q$6:$R$25,2,0)) -> 43145 | L283: =IF(Tabla1[[#This Row],[FECHA EJEC.]]="","",TIME(RANDBETWEEN(9,15),RANDBETWEEN(10,40),0)) -> 0.60416667 | M283: =IF(Tabla1[[#This Row],[FECHA EJEC.]]="","",Tabla1[[#This Row],[HORA INICIO]]+TIME(RANDBETWEEN(1,4),RANDBETWEEN(10,30),0)) -> 0.70694444 | N283: =IF(Tabla1[[#This Row],[FECHA EJEC.]]="","",HOUR(Tabla1[[#This Row],[HORA TERMINO]]-Tabla1[[#This Row],[HORA INICIO]])+MINUTE(Tabla1[[#This Row],[HORA TERMINO]]-Tabla1[[#This Row],[HORA INICIO]])/60) -> 2.4666667 | O283: =IF(AND(K283=I283,J283="CONFORME"),"FECHA CUMPLIDA",IF(J283="STAND BY","STAND BY",IF(J283=""," ",IF(Tabla1[[#This Row],[FECHA EJEC.]]="","PENDIENTE",CONCATENATE("RETRASO DE ",(K283-I283)," DIAS"))))) -> RETRASO DE 1 DIAS | P283: =VLOOKUP(MONTH(Tabla1[[#This Row],[FECHA PROG.]]),Tabla2[],2,0) -> Feb | Q283: =YEAR(Tabla1[[#This Row],[FECHA PROG.]]) -> 2018 | R283: =360-SUMIFS(Tabla1[HORAS],Tabla1[MÁQUINA],Tabla1[[#This Row],[MÁQUINA]],Tabla1[AÑO],Tabla1[[#This Row],[AÑO]],Tabla1[MES],Tabla1[[#This Row],[MES]]) -> 318.2 | S283: =Tabla1[[#This Row],[HORAS DISPONIBLES]]/360 -> 0.88388889
A284: COMPRESOR GA90 SERIE: AP1616505 | B284: COMPRESOR 4 | C284: =VLOOKUP(RANDBETWEEN(1,13),Tablas!$N$7:$O$19,2,0) -> MOTOTRAILLA | D284: PREVENTIVO | E284: MANTENIMIENTO MECANICO-ELECTRICO | F284: 106 | G284: JMEJIA | H284: 1698 | I284: =RANDBETWEEN(43101,43616) -> 43412 | J284: =IFERROR(IF(YEAR(Tabla1[[#This Row],[FECHA EJEC.]])>0,"CONFORME","STANDBY"),"PENDIENTE") -> CONFORME | K284: =IF(VLOOKUP(RANDBETWEEN(1,20),Tablas!$Q$6:$R$25,2,0)=0,"",Tabla1[[#This Row],[FECHA PROG.]]+VLOOKUP(RANDBETWEEN(1,20),Tablas!$Q$6:$R$25,2,0)) -> 43415 | L284: =IF(Tabla1[[#This Row],[FECHA EJEC.]]="","",TIME(RANDBETWEEN(9,15),RANDBETWEEN(10,40),0)) -> 0.39861111 | M284: =IF(Tabla1[[#This Row],[FECHA EJEC.]]="","",Tabla1[[#This Row],[HORA INICIO]]+TIME(RANDBETWEEN(1,4),RANDBETWEEN(10,30),0)) -> 0.49930556 | N284: =IF(Tabla1[[#This Row],[FECHA EJEC.]]="","",HOUR(Tabla1[[#This Row],[HORA TERMINO]]-Tabla1[[#This Row],[HORA INICIO]])+MINUTE(Tabla1[[#This Row],[HORA TERMINO]]-Tabla1[[#This Row],[HORA INICIO]])/60) -> 2.4166667 | O284: =IF(AND(K284=I284,J284="CONFORME"),"FECHA CUMPLIDA",IF(J284="STAND BY","STAND BY",IF(J284=""," ",IF(Tabla1[[#This Row],[FECHA EJEC.]]="","PENDIENTE",CONCATENATE("RETRASO DE ",(K284-I284)," DIAS"))))) -> RETRASO DE 3 DIAS | P284: =VLOOKUP(MONTH(Tabla1[[#This Row],[FECHA PROG.]]),Tabla2[],2,0) -> Nov | Q284: =YEAR(Tabla1[[#This Row],[FECHA PROG.]]) -> 2018 | R284: =360-SUMIFS(Tabla1[HORAS],Tabla1[MÁQUINA],Tabla1[[#This Row],[MÁQUINA]],Tabla1[AÑO],Tabla1[[#This Row],[AÑO]],Tabla1[MES],Tabla1[[#This Row],[MES]]) -> 355.08333 | S284: =Tabla1[[#This Row],[HORAS DISPONIBLES]]/360 -> 0.98634259
A285: MONTACARGAS 5 TON (GLP) 00000-39 | B285: MC-07 | C285: =VLOOKUP(RANDBETWEEN(1,13),Tablas!$N$7:$O$19,2,0) -> CARGADORA | D285: PREVENTIVO | E285: MANTENIMIENTO POR HOROMETRO | F285: 201 | G285: ABLAS | H285: 1168 | I285: =RANDBETWEEN(43101,43616) -> 43513 | J285: =IFERROR(IF(YEAR(Tabla1[[#This Row],[FECHA EJEC.]])>0,"CONFORME","STANDBY"),"PENDIENTE") -> CONFORME | K285: =IF(VLOOKUP(RANDBETWEEN(1,20),Tablas!$Q$6:$R$25,2,0)=0,"",Tabla1[[#This Row],[FECHA PROG.]]+VLOOKUP(RANDBETWEEN(1,20),Tablas!$Q$6:$R$25,2,0)) -> 43513 | L285: =IF(Tabla1[[#This Row],[FECHA EJEC.]]="","",TIME(RANDBETWEEN(9,15),RANDBETWEEN(10,40),0)) -> 0.59583333 | M285: =IF(Tabla1[[#This Row],[FECHA EJEC.]]="","",Tabla1[[#This Row],[HORA INICIO]]+TIME(RANDBETWEEN(1,4),RANDBETWEEN(10,30),0)) -> 0.69791667 | N285: =IF(Tabla1[[#This Row],[FECHA EJEC.]]="","",HOUR(Tabla1[[#This Row],[HORA TERMINO]]-Tabla1[[#This Row],[HORA INICIO]])+MINUTE(Tabla1[[#This Row],[HORA TERMINO]]-Tabla1[[#This Row],[HORA INICIO]])/60) -> 2.45 | O285: =IF(AND(K285=I285,J285="CONFORME"),"FECHA CUMPLIDA",IF(J285="STAND BY","STAND BY",IF(J285=""," ",IF(Tabla1[[#This Row],[FECHA EJEC.]]="","PENDIENTE",CONCATENATE("RETRASO DE ",(K285-I285)," DIAS"))))) -> FECHA CUMPLIDA | P285: =VLOOKUP(MONTH(Tabla1[[#This Row],[FECHA PROG.]]),Tabla2[],2,0) -> Feb | Q285: =YEAR(Tabla1[[#This Row],[FECHA PROG.]]) -> 2019 | R285: =360-SUMIFS(Tabla1[HORAS],Tabla1[MÁQUINA],Tabla1[[#This Row],[MÁQUINA]],Tabla1[AÑO],Tabla1[[#This Row],[AÑO]],Tabla1[MES],Tabla1[[#This Row],[MES]]) -> 350.98333 | S285: =Tabla1[[#This Row],[HORAS DISPONIBLES]]/360 -> 0.9749537
A286: MAQUINA DE PINTURA GRACO XTREME 60/1 | B286: MQP008 | C286: =VLOOKUP(RANDBETWEEN(1,13),Tablas!$N$7:$O$19,2,0) -> COMPACTADORA | D286: PREVENTIVO | E286: MANTENIMIENTO MECANICO | F286: 107 | G286: DVARGAS | H286: 1420 | I286: =RANDBETWEEN(43101,43616) -> 43204 | J286: =IFERROR(IF(YEAR(Tabla1[[#This Row],[FECHA EJEC.]])>0,"CONFORME","STANDBY"),"PENDIENTE") -> PENDIENTE | K286: =IF(VLOOKUP(RANDBETWEEN(1,20),Tablas!$Q$6:$R$25,2,0)=0,"",Tabla1[[#This Row],[FECHA PROG.]]+VLOOKUP(RANDBETWEEN(1,20),Tablas!$Q$6:$R$25,2,0)) | L286: =IF(Tabla1[[#This Row],[FECHA EJEC.]]="","",TIME(RANDBETWEEN(9,15),RANDBETWEEN(10,40),0)) | M286: =IF(Tabla1[[#This Row],[FECHA EJEC.]]="","",Tabla1[[#This Row],[HORA INICIO]]+TIME(RANDBETWEEN(1,4),RANDBETWEEN(10,30),0)) | N286: =IF(Tabla1[[#This Row],[FECHA EJEC.]]="","",HOUR(Tabla1[[#This Row],[HORA TERMINO]]-Tabla1[[#This Row],[HORA INICIO]])+MINUTE(Tabla1[[#This Row],[HORA TERMINO]]-Tabla1[[#This Row],[HORA INICIO]])/60) | O286: =IF(AND(K286=I286,J286="CONFORME"),"FECHA CUMPLIDA",IF(J286="STAND BY","STAND BY",IF(J286=""," ",IF(Tabla1[[#This Row],[FECHA EJEC.]]="","PENDIENTE",CONCATENATE("RETRASO DE ",(K286-I286)," DIAS"))))) -> PENDIENTE | P286: =VLOOKUP(MONTH(Tabla1[[#This Row],[FECHA PROG.]]),Tabla2[],2,0) -> Abr | Q286: =YEAR(Tabla1[[#This Row],[FECHA PROG.]]) -> 2018 | R286: =360-SUMIFS(Tabla1[HORAS],Tabla1[MÁQUINA],Tabla1[[#This Row],[MÁQUINA]],Tabla1[AÑO],Tabla1[[#This Row],[AÑO]],Tabla1[MES],Tabla1[[#This Row],[MES]]) -> 355.61667 | S286: =Tabla1[[#This Row],[HORAS DISPONIBLES]]/360 -> 0.98782407
A287: GENERADOR DE CALOR CON CHASIS DE ALUMINIO | B287: CG-07 | C287: =VLOOKUP(RANDBETWEEN(1,13),Tablas!$N$7:$O$19,2,0) -> EXCAVADORA | E287: MANTENIMIENTO ELECTRICO | F287: 107 | G287: JMEJIA | H287: 1698 | I287: =RANDBETWEEN(43101,43616) -> 43219 | J287: =IFERROR(IF(YEAR(Tabla1[[#This Row],[FECHA EJEC.]])>0,"CONFORME","STANDBY"),"PENDIENTE") -> PENDIENTE | K287: =IF(VLOOKUP(RANDBETWEEN(1,20),Tablas!$Q$6:$R$25,2,0)=0,"",Tabla1[[#This Row],[FECHA PROG.]]+VLOOKUP(RANDBETWEEN(1,20),Tablas!$Q$6:$R$25,2,0)) | L287: =IF(Tabla1[[#This Row],[FECHA EJEC.]]="","",TIME(RANDBETWEEN(9,15),RANDBETWEEN(10,40),0)) | M287: =IF(Tabla1[[#This Row],[FECHA EJEC.]]="","",Tabla1[[#This Row],[HORA INICIO]]+TIME(RANDBETWEEN(1,4),RANDBETWEEN(10,30),0)) | N287: =IF(Tabla1[[#This Row],[FECHA EJEC.]]="","",HOUR(Tabla1[[#This Row],[HORA TERMINO]]-Tabla1[[#This Row],[HORA INICIO]])+MINUTE(Tabla1[[#This Row],[HORA TERMINO]]-Tabla1[[#This Row],[HORA INICIO]])/60) | O287: =IF(AND(K287=I287,J287="CONFORME"),"FECHA CUMPLIDA",IF(J287="STAND BY","STAND BY",IF(J287=""," ",IF(Tabla1[[#This Row],[FECHA EJEC.]]="","PENDIENTE",CONCATENATE("RETRASO DE ",(K287-I287)," DIAS"))))) -> PENDIENTE | P287: =VLOOKUP(MONTH(Tabla1[[#This Row],[FECHA PROG.]]),Tabla2[],2,0) -> Abr | Q287: =YEAR(Tabla1[[#This Row],[FECHA PROG.]]) -> 2018 | R287: =360-SUMIFS(Tabla1[HORAS],Tabla1[MÁQUINA],Tabla1[[#This Row],[MÁQUINA]],Tabla1[AÑO],Tabla1[[#This Row],[AÑO]],Tabla1[MES],Tabla1[[#This Row],[MES]]) -> 338.68333 | S287: =Tabla1[[#This Row],[HORAS DISPONIBLES]]/360 -> 0.94078704
A288: TABLERO ELÉCTRICO POZO PROFUNDO - ALIMENTACIÓN 220V | B288: TAB-07 | C288: =VLOOKUP(RANDBETWEEN(1,13),Tablas!$N$7:$O$19,2,0) -> DRAGAS | E288: MANTENIMIENTO ELECTRICO | F288: 201 | G288: LGRANDEZ | H288: 1911 | I288: =RANDBETWEEN(43101,43616) -> 43191 | J288: =IFERROR(IF(YEAR(Tabla1[[#This Row],[FECHA EJEC.]])>0,"CONFORME","STANDBY"),"PENDIENTE") -> CONFORME | K288: =IF(VLOOKUP(RANDBETWEEN(1,20),Tablas!$Q$6:$R$25,2,0)=0,"",Tabla1[[#This Row],[FECHA PROG.]]+VLOOKUP(RANDBETWEEN(1,20),Tablas!$Q$6:$R$25,2,0)) -> 43193 | L288: =IF(Tabla1[[#This Row],[FECHA EJEC.]]="","",TIME(RANDBETWEEN(9,15),RANDBETWEEN(10,40),0)) -> 0.48402778 | M288: =IF(Tabla1[[#This Row],[FECHA EJEC.]]="","",Tabla1[[#This Row],[HORA INICIO]]+TIME(RANDBETWEEN(1,4),RANDBETWEEN(10,30),0)) -> 0.61875 | N288: =IF(Tabla1[[#This Row],[FECHA EJEC.]]="","",HOUR(Tabla1[[#This Row],[HORA TERMINO]]-Tabla1[[#This Row],[HORA INICIO]])+MINUTE(Tabla1[[#This Row],[HORA TERMINO]]-Tabla1[[#This Row],[HORA INICIO]])/60) -> 3.2333333 | O288: =IF(AND(K288=I288,J288="CONFORME"),"FECHA CUMPLIDA",IF(J288="STAND BY","STAND BY",IF(J288=""," ",IF(Tabla1[[#This Row],[FECHA EJEC.]]="","PENDIENTE",CONCATENATE("RETRASO DE ",(K288-I288)," DIAS"))))) -> RETRASO DE 2 DIAS | P288: =VLOOKUP(MONTH(Tabla1[[#This Row],[FECHA PROG.]]),Tabla2[],2,0) -> Abr | Q288: =YEAR(Tabla1[[#This Row],[FECHA PROG.]]) -> 2018 | R288: =360-SUMIFS(Tabla1[HORAS],Tabla1[MÁQUINA],Tabla1[[#This Row],[MÁQUINA]],Tabla1[AÑO],Tabla1[[#This Row],[AÑO]],Tabla1[MES],Tabla1[[#This Row],[MES]]) -> 352.85 | S288: =Tabla1[[#This Row],[HORAS DISPONIBLES]]/360 -> 0.98013889
A289: TABLERO ELÉCTRICO POZO PROFUNDO 220V | B289: TAB-08 | C289: =VLOOKUP(RANDBETWEEN(1,13),Tablas!$N$7:$O$19,2,0) -> DRAGAS | E289: MANTENIMIENTO ELECTRICO | F289: 201 | G289: LGRANDEZ | H289: 1911 | I289: =RANDBETWEEN(43101,43616) -> 43244 | J289: =IFERROR(IF(YEAR(Tabla1[[#This Row],[FECHA EJEC.]])>0,"CONFORME","STANDBY"),"PENDIENTE") -> CONFORME | K289: =IF(VLOOKUP(RANDBETWEEN(1,20),Tablas!$Q$6:$R$25,2,0)=0,"",Tabla1[[#This Row],[FECHA PROG.]]+VLOOKUP(RANDBETWEEN(1,20),Tablas!$Q$6:$R$25,2,0)) -> 43248 | L289: =IF(Tabla1[[#This Row],[FECHA EJEC.]]="","",TIME(RANDBETWEEN(9,15),RANDBETWEEN(10,40),0)) -> 0.48333333 | M289: =IF(Tabla1[[#This Row],[FECHA EJEC.]]="","",Tabla1[[#This Row],[HORA INICIO]]+TIME(RANDBETWEEN(1,4),RANDBETWEEN(10,30),0)) -> 0.5875 | N289: =IF(Tabla1[[#This Row],[FECHA EJEC.]]="","",HOUR(Tabla1[[#This Row],[HORA TERMINO]]-Tabla1[[#This Row],[HORA INICIO]])+MINUTE(Tabla1[[#This Row],[HORA TERMINO]]-Tabla1[[#This Row],[HORA INICIO]])/60) -> 2.5 | O289: =IF(AND(K289=I289,J289="CONFORME"),"FECHA CUMPLIDA",IF(J289="STAND BY","STAND BY",IF(J289=""," ",IF(Tabla1[[#This Row],[FECHA EJEC.]]="","PENDIENTE",CONCATENATE("RETRASO DE ",(K289-I289)," DIAS"))))) -> RETRASO DE 4 DIAS | P289: =VLOOKUP(MONTH(Tabla1[[#This Row],[FECHA PROG.]]),Tabla2[],2,0) -> May | Q289: =YEAR(Tabla1[[#This Row],[FECHA PROG.]]) -> 2018 | R289: =360-SUMIFS(Tabla1[HORAS],Tabla1[MÁQUINA],Tabla1[[#This Row],[MÁQUINA]],Tabla1[AÑO],Tabla1[[#This Row],[AÑO]],Tabla1[MES],Tabla1[[#This Row],[MES]]) -> 357.5 | S289: =Tabla1[[#This Row],[HORAS DISPONIBLES]]/360 -> 0.99305556
A290: TABLERO ELÉCTRICO MODIFICACIONES - COMPRESORA 220 V | B290: TAB-09 | C290: =VLOOKUP(RANDBETWEEN(1,13),Tablas!$N$7:$O$19,2,0) -> DRAGAS | E290: MANTENIMIENTO ELECTRICO | F290: 201 | G290: LGRANDEZ | H290: 1911 | I290: =RANDBETWEEN(43101,43616) -> 43278 | J290: =IFERROR(IF(YEAR(Tabla1[[#This Row],[FECHA EJEC.]])>0,"CONFORME","STANDBY"),"PENDIENTE") -> CONFORME | K290: =IF(VLOOKUP(RANDBETWEEN(1,20),Tablas!$Q$6:$R$25,2,0)=0,"",Tabla1[[#This Row],[FECHA PROG.]]+VLOOKUP(RANDBETWEEN(1,20),Tablas!$Q$6:$R$25,2,0)) -> 43278 | L290: =IF(Tabla1[[#This Row],[FECHA EJEC.]]="","",TIME(RANDBETWEEN(9,15),RANDBETWEEN(10,40),0)) -> 0.59791667 | M290: =IF(Tabla1[[#This Row],[FECHA EJEC.]]="","",Tabla1[[#This Row],[HORA INICIO]]+TIME(RANDBETWEEN(1,4),RANDBETWEEN(10,30),0)) -> 0.77361111 | N290: =IF(Tabla1[[#This Row],[FECHA EJEC.]]="","",HOUR(Tabla1[[#This Row],[HORA TERMINO]]-Tabla1[[#This Row],[HORA INICIO]])+MINUTE(Tabla1[[#This Row],[HORA TERMINO]]-Tabla1[[#This Row],[HORA INICIO]])/60) -> 4.2166667 | O290: =IF(AND(K290=I290,J290="CONFORME"),"FECHA CUMPLIDA",IF(J290="STAND BY","STAND BY",IF(J290=""," ",IF(Tabla1[[#This Row],[FECHA EJEC.]]="","PENDIENTE",CONCATENATE("RETRASO DE ",(K290-I290)," DIAS"))))) -> FECHA CUMPLIDA | P290: =VLOOKUP(MONTH(Tabla1[[#This Row],[FECHA PROG.]]),Tabla2[],2,0) -> Jun | Q290: =YEAR(Tabla1[[#This Row],[FECHA PROG.]]) -> 2018 | R290: =360-SUMIFS(Tabla1[HORAS],Tabla1[MÁQUINA],Tabla1[[#This Row],[MÁQUINA]],Tabla1[AÑO],Tabla1[[#This Row],[AÑO]],Tabla1[MES],Tabla1[[#This Row],[MES]]) -> 355.78333 | S290: =Tabla1[[#This Row],[HORAS DISPONIBLES]]/360 -> 0.98828704
A291: TABLERO ELÉCTRICO MODIFICACIONES - TOMAS 220 - 440 V | B291: TAB-10 | C291: =VLOOKUP(RANDBETWEEN(1,13),Tablas!$N$7:$O$19,2,0) -> TRACTORES | E291: MANTENIMIENTO ELECTRICO | F291: 201 | G291: LGRANDEZ | H291: 1911 | I291: =RANDBETWEEN(43101,43616) -> 43173 | J291: =IFERROR(IF(YEAR(Tabla1[[#This Row],[FECHA EJEC.]])>0,"CONFORME","STANDBY"),"PENDIENTE") -> CONFORME | K291: =IF(VLOOKUP(RANDBETWEEN(1,20),Tablas!$Q$6:$R$25,2,0)=0,"",Tabla1[[#This Row],[FECHA PROG.]]+VLOOKUP(RANDBETWEEN(1,20),Tablas!$Q$6:$R$25,2,0)) -> 43175 | L291: =IF(Tabla1[[#This Row],[FECHA EJEC.]]="","",TIME(RANDBETWEEN(9,15),RANDBETWEEN(10,40),0)) -> 0.51388889 | M291: =IF(Tabla1[[#This Row],[FECHA EJEC.]]="","",Tabla1[[#This Row],[HORA INICIO]]+TIME(RANDBETWEEN(1,4),RANDBETWEEN(10,30),0)) -> 0.65069444 | N291: =IF(Tabla1[[#This Row],[FECHA EJEC.]]="","",HOUR(Tabla1[[#This Row],[HORA TERMINO]]-Tabla1[[#This Row],[HORA INICIO]])+MINUTE(Tabla1[[#This Row],[HORA TERMINO]]-Tabla1[[#This Row],[HORA INICIO]])/60) -> 3.2833333 | O291: =IF(AND(K291=I291,J291="CONFORME"),"FECHA CUMPLIDA",IF(J291="STAND BY","STAND BY",IF(J291=""," ",IF(Tabla1[[#This Row],[FECHA EJEC.]]="","PENDIENTE",CONCATENATE("RETRASO DE ",(K291-I291)," DIAS"))))) -> RETRASO DE 2 DIAS | P291: =VLOOKUP(MONTH(Tabla1[[#This Row],[FECHA PROG.]]),Tabla2[],2,0) -> Mar | Q291: =YEAR(Tabla1[[#This Row],[FECHA PROG.]]) -> 2018 | R291: =360-SUMIFS(Tabla1[HORAS],Tabla1[MÁQUINA],Tabla1[[#This Row],[MÁQUINA]],Tabla1[AÑO],Tabla1[[#This Row],[AÑO]],Tabla1[MES],Tabla1[[#This Row],[MES]]) -> 356.71667 | S291: =Tabla1[[#This Row],[HORAS DISPONIBLES]]/360 -> 0.99087963
A292: TABLERO ELÉCTRICO MODIFICACIONES - ILUMINACIÓN 220 V | B292: TAB-11 | C292: =VLOOKUP(RANDBETWEEN(1,13),Tablas!$N$7:$O$19,2,0) -> MOTOTRAILLA | E292: MANTENIMIENTO ELECTRICO | F292: 201 | G292: LGRANDEZ | H292: 1911 | I292: =RANDBETWEEN(43101,43616) -> 43285 | J292: =IFERROR(IF(YEAR(Tabla1[[#This Row],[FECHA EJEC.]])>0,"CONFORME","STANDBY"),"PENDIENTE") -> CONFORME | K292: =IF(VLOOKUP(RANDBETWEEN(1,20),Tablas!$Q$6:$R$25,2,0)=0,"",Tabla1[[#This Row],[FECHA PROG.]]+VLOOKUP(RANDBETWEEN(1,20),Tablas!$Q$6:$R$25,2,0)) -> 43286 | L292: =IF(Tabla1[[#This Row],[FECHA EJEC.]]="","",TIME(RANDBETWEEN(9,15),RANDBETWEEN(10,40),0)) -> 0.475 | M292: =IF(Tabla1[[#This Row],[FECHA EJEC.]]="","",Tabla1[[#This Row],[HORA INICIO]]+TIME(RANDBETWEEN(1,4),RANDBETWEEN(10,30),0)) -> 0.6625 | N292: =IF(Tabla1[[#This Row],[FECHA EJEC.]]="","",HOUR(Tabla1[[#This Row],[HORA TERMINO]]-Tabla1[[#This Row],[HORA INICIO]])+MINUTE(Tabla1[[#This Row],[HORA TERMINO]]-Tabla1[[#This Row],[HORA INICIO]])/60) -> 4.5 | O292: =IF(AND(K292=I292,J292="CONFORME"),"FECHA CUMPLIDA",IF(J292="STAND BY","STAND BY",IF(J292=""," ",IF(Tabla1[[#This Row],[FECHA EJEC.]]="","PENDIENTE",CONCATENATE("RETRASO DE ",(K292-I292)," DIAS"))))) -> RETRASO DE 1 DIAS | P292: =VLOOKUP(MONTH(Tabla1[[#This Row],[FECHA PROG.]]),Tabla2[],2,0) -> Jul | Q292: =YEAR(Tabla1[[#This Row],[FECHA PROG.]]) -> 2018 | R292: =360-SUMIFS(Tabla1[HORAS],Tabla1[MÁQUINA],Tabla1[[#This Row],[MÁQUINA]],Tabla1[AÑO],Tabla1[[#This Row],[AÑO]],Tabla1[MES],Tabla1[[#This Row],[MES]]) -> 353.01667 | S292: =Tabla1[[#This Row],[HORAS DISPONIBLES]]/360 -> 0.98060185
A293: TABLERO ELÉCTRICO MODIFICACIONES - ALIMENTACIÓN 220 V | B293: TAB-12 | C293: =VLOOKUP(RANDBETWEEN(1,13),Tablas!$N$7:$O$19,2,0) -> PAVIMENTADORA | E293: MANTENIMIENTO ELECTRICO | F293: 201 | G293: LGRANDEZ | H293: 1911 | I293: =RANDBETWEEN(43101,43616) -> 43210 | J293: =IFERROR(IF(YEAR(Tabla1[[#This Row],[FECHA EJEC.]])>0,"CONFORME","STANDBY"),"PENDIENTE") -> CONFORME | K293: =IF(VLOOKUP(RANDBETWEEN(1,20),Tablas!$Q$6:$R$25,2,0)=0,"",Tabla1[[#This Row],[FECHA PROG.]]+VLOOKUP(RANDBETWEEN(1,20),Tablas!$Q$6:$R$25,2,0)) -> 43210 | L293: =IF(Tabla1[[#This Row],[FECHA EJEC.]]="","",TIME(RANDBETWEEN(9,15),RANDBETWEEN(10,40),0)) -> 0.59722222 | M293: =IF(Tabla1[[#This Row],[FECHA EJEC.]]="","",Tabla1[[#This Row],[HORA INICIO]]+TIME(RANDBETWEEN(1,4),RANDBETWEEN(10,30),0)) -> 0.77638889 | N293: =IF(Tabla1[[#This Row],[FECHA EJEC.]]="","",HOUR(Tabla1[[#This Row],[HORA TERMINO]]-Tabla1[[#This Row],[HORA INICIO]])+MINUTE(Tabla1[[#This Row],[HORA TERMINO]]-Tabla1[[#This Row],[HORA INICIO]])/60) -> 4.3 | O293: =IF(AND(K293=I293,J293="CONFORME"),"FECHA CUMPLIDA",IF(J293="STAND BY","STAND BY",IF(J293=""," ",IF(Tabla1[[#This Row],[FECHA EJEC.]]="","PENDIENTE",CONCATENATE("RETRASO DE ",(K293-I293)," DIAS"))))) -> FECHA CUMPLIDA | P293: =VLOOKUP(MONTH(Tabla1[[#This Row],[FECHA PROG.]]),Tabla2[],2,0) -> Abr | Q293: =YEAR(Tabla1[[#This Row],[FECHA PROG.]]) -> 2018 | R293: =360-SUMIFS(Tabla1[HORAS],Tabla1[MÁQUINA],Tabla1[[#This Row],[MÁQUINA]],Tabla1[AÑO],Tabla1[[#This Row],[AÑO]],Tabla1[MES],Tabla1[[#This Row],[MES]]) -> 355.7 | S293: =Tabla1[[#This Row],[HORAS DISPONIBLES]]/360 -> 0.98805556
A294: TABLERO ELÉCTRICO MODIFICACIONES - ALIMENTACIÓN 440 V | B294: TAB-13 | C294: =VLOOKUP(RANDBETWEEN(1,13),Tablas!$N$7:$O$19,2,0) -> MOTOTRAILLA | E294: MANTENIMIENTO ELECTRICO | F294: 201 | G294: LGRANDEZ | H294: 1911 | I294: =RANDBETWEEN(43101,43616) -> 43268 | J294: =IFERROR(IF(YEAR(Tabla1[[#This Row],[FECHA EJEC.]])>0,"CONFORME","STANDBY"),"PENDIENTE") -> CONFORME | K294: =IF(VLOOKUP(RANDBETWEEN(1,20),Tablas!$Q$6:$R$25,2,0)=0,"",Tabla1[[#This Row],[FECHA PROG.]]+VLOOKUP(RANDBETWEEN(1,20),Tablas!$Q$6:$R$25,2,0)) -> 43268 | L294: =IF(Tabla1[[#This Row],[FECHA EJEC.]]="","",TIME(RANDBETWEEN(9,15),RANDBETWEEN(10,40),0)) -> 0.5125 | M294: =IF(Tabla1[[#This Row],[FECHA EJEC.]]="","",Tabla1[[#This Row],[HORA INICIO]]+TIME(RANDBETWEEN(1,4),RANDBETWEEN(10,30),0)) -> 0.64791667 | N294: =IF(Tabla1[[#This Row],[FECHA EJEC.]]="","",HOUR(Tabla1[[#This Row],[HORA TERMINO]]-Tabla1[[#This Row],[HORA INICIO]])+MINUTE(Tabla1[[#This Row],[HORA TERMINO]]-Tabla1[[#This Row],[HORA INICIO]])/60) -> 3.25 | O294: =IF(AND(K294=I294,J294="CONFORME"),"FECHA CUMPLIDA",IF(J294="STAND BY","STAND BY",IF(J294=""," ",IF(Tabla1[[#This Row],[FECHA EJEC.]]="","PENDIENTE",CONCATENATE("RETRASO DE ",(K294-I294)," DIAS"))))) -> FECHA CUMPLIDA | P294: =VLOOKUP(MONTH(Tabla1[[#This Row],[FECHA PROG.]]),Tabla2[],2,0) -> Jun | Q294: =YEAR(Tabla1[[#This Row],[FECHA PROG.]]) -> 2018 | R294: =360-SUMIFS(Tabla1[HORAS],Tabla1[MÁQUINA],Tabla1[[#This Row],[MÁQUINA]],Tabla1[AÑO],Tabla1[[#This Row],[AÑO]],Tabla1[MES],Tabla1[[#This Row],[MES]]) -> 356.75 | S294: =Tabla1[[#This Row],[HORAS DISPONIBLES]]/360 -> 0.99097222
A295: TABLERO ELÉCTRICO MODIFICACIONES - PRENSA CORTADORA 440 V | B295: TAB-14 | C295: =VLOOKUP(RANDBETWEEN(1,13),Tablas!$N$7:$O$19,2,0) -> MOTONIVELADORA | E295: MANTENIMIENTO ELECTRICO | F295: 201 | G295: LGRANDEZ | H295: 1911 | I295: =RANDBETWEEN(43101,43616) -> 43240 | J295: =IFERROR(IF(YEAR(Tabla1[[#This Row],[FECHA EJEC.]])>0,"CONFORME","STANDBY"),"PENDIENTE") -> CONFORME | K295: =IF(VLOOKUP(RANDBETWEEN(1,20),Tablas!$Q$6:$R$25,2,0)=0,"",Tabla1[[#This Row],[FECHA PROG.]]+VLOOKUP(RANDBETWEEN(1,20),Tablas!$Q$6:$R$25,2,0)) -> 43240 | L295: =IF(Tabla1[[#This Row],[FECHA EJEC.]]="","",TIME(RANDBETWEEN(9,15),RANDBETWEEN(10,40),0)) -> 0.44236111 | M295: =IF(Tabla1[[#This Row],[FECHA EJEC.]]="","",Tabla1[[#This Row],[HORA INICIO]]+TIME(RANDBETWEEN(1,4),RANDBETWEEN(10,30),0)) -> 0.53680556 | N295: =IF(Tabla1[[#This Row],[FECHA EJEC.]]="","",HOUR(Tabla1[[#This Row],[HORA TERMINO]]-Tabla1[[#This Row],[HORA INICIO]])+MINUTE(Tabla1[[#This Row],[HORA TERMINO]]-Tabla1[[#This Row],[HORA INICIO]])/60) -> 2.2666667 | O295: =IF(AND(K295=I295,J295="CONFORME"),"FECHA CUMPLIDA",IF(J295="STAND BY","STAND BY",IF(J295=""," ",IF(Tabla1[[#This Row],[FECHA EJEC.]]="","PENDIENTE",CONCATENATE("RETRASO DE ",(K295-I295)," DIAS"))))) -> FECHA CUMPLIDA | P295: =VLOOKUP(MONTH(Tabla1[[#This Row],[FECHA PROG.]]),Tabla2[],2,0) -> May | Q295: =YEAR(Tabla1[[#This Row],[FECHA PROG.]]) -> 2018 | R295: =360-SUMIFS(Tabla1[HORAS],Tabla1[MÁQUINA],Tabla1[[#This Row],[MÁQUINA]],Tabla1[AÑO],Tabla1[[#This Row],[AÑO]],Tabla1[MES],Tabla1[[#This Row],[MES]]) -> 357.73333 | S295: =Tabla1[[#This Row],[HORAS DISPONIBLES]]/360 -> 0.9937037
A296: PORTICO GRÚA 2 10 TM/N2 | B296: PORT.G-02 | C296: =VLOOKUP(RANDBETWEEN(1,13),Tablas!$N$7:$O$19,2,0) -> MOTOTRAILLA | D296: PREVENTIVO | E296: MANTENIMIENTO MECANICO | F296: 107 | G296: DVARGAS | H296: 1420 | I296: =RANDBETWEEN(43101,43616) -> 43493 | J296: =IFERROR(IF(YEAR(Tabla1[[#This Row],[FECHA EJEC.]])>0,"CONFORME","STANDBY"),"PENDIENTE") -> CONFORME | K296: =IF(VLOOKUP(RANDBETWEEN(1,20),Tablas!$Q$6:$R$25,2,0)=0,"",Tabla1[[#This Row],[FECHA PROG.]]+VLOOKUP(RANDBETWEEN(1,20),Tablas!$Q$6:$R$25,2,0)) -> 43496 | L296: =IF(Tabla1[[#This Row],[FECHA EJEC.]]="","",TIME(RANDBETWEEN(9,15),RANDBETWEEN(10,40),0)) -> 0.55694444 | M296: =IF(Tabla1[[#This Row],[FECHA EJEC.]]="","",Tabla1[[#This Row],[HORA INICIO]]+TIME(RANDBETWEEN(1,4),RANDBETWEEN(10,30),0)) -> 0.73472222 | N296: =IF(Tabla1[[#This Row],[FECHA EJEC.]]="","",HOUR(Tabla1[[#This Row],[HORA TERMINO]]-Tabla1[[#This Row],[HORA INICIO]])+MINUTE(Tabla1[[#This Row],[HORA TERMINO]]-Tabla1[[#This Row],[HORA INICIO]])/60) -> 4.2666667 | O296: =IF(AND(K296=I296,J296="CONFORME"),"FECHA CUMPLIDA",IF(J296="STAND BY","STAND BY",IF(J296=""," ",IF(Tabla1[[#This Row],[FECHA EJEC.]]="","PENDIENTE",CONCATENATE("RETRASO DE ",(K296-I296)," DIAS"))))) -> RETRASO DE 3 DIAS | P296: =VLOOKUP(MONTH(Tabla1[[#This Row],[FECHA PROG.]]),Tabla2[],2,0) -> Ene | Q296: =YEAR(Tabla1[[#This Row],[FECHA PROG.]]) -> 2019 | R296: =360-SUMIFS(Tabla1[HORAS],Tabla1[MÁQUINA],Tabla1[[#This Row],[MÁQUINA]],Tabla1[AÑO],Tabla1[[#This Row],[AÑO]],Tabla1[MES],Tabla1[[#This Row],[MES]]) -> 349.8 | S296: =Tabla1[[#This Row],[HORAS DISPONIBLES]]/360 -> 0.97166667
A297: PORTICO GRÚA 2 10 TM/N2 | B297: PORT.G-02 | C297: =VLOOKUP(RANDBETWEEN(1,13),Tablas!$N$7:$O$19,2,0) -> PAVIMENTADORA | D297: PREVENTIVO | E297: MANTENIMIENTO ELECTRICO | F297: 107 | G297: LGRANDEZ | H297: 1911 | I297: =RANDBETWEEN(43101,43616) -> 43181 | J297: =IFERROR(IF(YEAR(Tabla1[[#This Row],[FECHA EJEC.]])>0,"CONFORME","STANDBY"),"PENDIENTE") -> CONFORME | K297: =IF(VLOOKUP(RANDBETWEEN(1,20),Tablas!$Q$6:$R$25,2,0)=0,"",Tabla1[[#This Row],[FECHA PROG.]]+VLOOKUP(RANDBETWEEN(1,20),Tablas!$Q$6:$R$25,2,0)) -> 43183 | L297: =IF(Tabla1[[#This Row],[FECHA EJEC.]]="","",TIME(RANDBETWEEN(9,15),RANDBETWEEN(10,40),0)) -> 0.64791667 | M297: =IF(Tabla1[[#This Row],[FECHA EJEC.]]="","",Tabla1[[#This Row],[HORA INICIO]]+TIME(RANDBETWEEN(1,4),RANDBETWEEN(10,30),0)) -> 0.75208333 | N297: =IF(Tabla1[[#This Row],[FECHA EJEC.]]="","",HOUR(Tabla1[[#This Row],[HORA TERMINO]]-Tabla1[[#This Row],[HORA INICIO]])+MINUTE(Tabla1[[#This Row],[HORA TERMINO]]-Tabla1[[#This Row],[HORA INICIO]])/60) -> 2.5 | O297: =IF(AND(K297=I297,J297="CONFORME"),"FECHA CUMPLIDA",IF(J297="STAND BY","STAND BY",IF(J297=""," ",IF(Tabla1[[#This Row],[FECHA EJEC.]]="","PENDIENTE",CONCATENATE("RETRASO DE ",(K297-I297)," DIAS"))))) -> RETRASO DE 2 DIAS | P297: =VLOOKUP(MONTH(Tabla1[[#This Row],[FECHA PROG.]]),Tabla2[],2,0) -> Mar | Q297: =YEAR(Tabla1[[#This Row],[FECHA PROG.]]) -> 2018 | R297: =360-SUMIFS(Tabla1[HORAS],Tabla1[MÁQUINA],Tabla1[[#This Row],[MÁQUINA]],Tabla1[AÑO],Tabla1[[#This Row],[AÑO]],Tabla1[MES],Tabla1[[#This Row],[MES]]) -> 357.5 | S297: =Tabla1[[#This Row],[HORAS DISPONIBLES]]/360 -> 0.99305556
A298: MAQUINA GRANALLADORA MANUAL | B298: CSA-01 | C298: =VLOOKUP(RANDBETWEEN(1,13),Tablas!$N$7:$O$19,2,0) -> MOTOTRAILLA | D298: PREVENTIVO | E298: MANTENIMIENTO MECANICO | F298: 106 | G298: DVARGAS | H298: 1420 | I298: =RANDBETWEEN(43101,43616) -> 43345 | J298: =IFERROR(IF(YEAR(Tabla1[[#This Row],[FECHA EJEC.]])>0,"CONFORME","STANDBY"),"PENDIENTE") -> CONFORME | K298: =IF(VLOOKUP(RANDBETWEEN(1,20),Tablas!$Q$6:$R$25,2,0)=0,"",Tabla1[[#This Row],[FECHA PROG.]]+VLOOKUP(RANDBETWEEN(1,20),Tablas!$Q$6:$R$25,2,0)) -> 43345 | L298: =IF(Tabla1[[#This Row],[FECHA EJEC.]]="","",TIME(RANDBETWEEN(9,15),RANDBETWEEN(10,40),0)) -> 0.39861111 | M298: =IF(Tabla1[[#This Row],[FECHA EJEC.]]="","",Tabla1[[#This Row],[HORA INICIO]]+TIME(RANDBETWEEN(1,4),RANDBETWEEN(10,30),0)) -> 0.45902778 | N298: =IF(Tabla1[[#This Row],[FECHA EJEC.]]="","",HOUR(Tabla1[[#This Row],[HORA TERMINO]]-Tabla1[[#This Row],[HORA INICIO]])+MINUTE(Tabla1[[#This Row],[HORA TERMINO]]-Tabla1[[#This Row],[HORA INICIO]])/60) -> 1.45 | O298: =IF(AND(K298=I298,J298="CONFORME"),"FECHA CUMPLIDA",IF(J298="STAND BY","STAND BY",IF(J298=""," ",IF(Tabla1[[#This Row],[FECHA EJEC.]]="","PENDIENTE",CONCATENATE("RETRASO DE ",(K298-I298)," DIAS"))))) -> FECHA CUMPLIDA | P298: =VLOOKUP(MONTH(Tabla1[[#This Row],[FECHA PROG.]]),Tabla2[],2,0) -> Set | Q298: =YEAR(Tabla1[[#This Row],[FECHA PROG.]]) -> 2018 | R298: =360-SUMIFS(Tabla1[HORAS],Tabla1[MÁQUINA],Tabla1[[#This Row],[MÁQUINA]],Tabla1[AÑO],Tabla1[[#This Row],[AÑO]],Tabla1[MES],Tabla1[[#This Row],[MES]]) -> 358.55 | S298: =Tabla1[[#This Row],[HORAS DISPONIBLES]]/360 -> 0.99597222
A299: MAQUINA GRANALLADORA MANUAL | B299: CSA-01 | C299: =VLOOKUP(RANDBETWEEN(1,13),Tablas!$N$7:$O$19,2,0) -> ESCREPA | D299: PREVENTIVO | E299: MANTENIMIENTO ELECTRICO | F299: 106 | G299: LGRANDEZ | H299: 1911 | I299: =RANDBETWEEN(43101,43616) -> 43284 | J299: =IFERROR(IF(YEAR(Tabla1[[#This Row],[FECHA EJEC.]])>0,"CONFORME","STANDBY"),"PENDIENTE") -> CONFORME | K299: =IF(VLOOKUP(RANDBETWEEN(1,20),Tablas!$Q$6:$R$25,2,0)=0,"",Tabla1[[#This Row],[FECHA PROG.]]+VLOOKUP(RANDBETWEEN(1,20),Tablas!$Q$6:$R$25,2,0)) -> 43287 | L299: =IF(Tabla1[[#This Row],[FECHA EJEC.]]="","",TIME(RANDBETWEEN(9,15),RANDBETWEEN(10,40),0)) -> 0.59652778 | M299: =IF(Tabla1[[#This Row],[FECHA EJEC.]]="","",Tabla1[[#This Row],[HORA INICIO]]+TIME(RANDBETWEEN(1,4),RANDBETWEEN(10,30),0)) -> 0.72847222 | N299: =IF(Tabla1[[#This Row],[FECHA EJEC.]]="","",HOUR(Tabla1[[#This Row],[HORA TERMINO]]-Tabla1[[#This Row],[HORA INICIO]])+MINUTE(Tabla1[[#This Row],[HORA TERMINO]]-Tabla1[[#This Row],[HORA INICIO]])/60) -> 3.1666667 | O299: =IF(AND(K299=I299,J299="CONFORME"),"FECHA CUMPLIDA",IF(J299="STAND BY","STAND BY",IF(J299=""," ",IF(Tabla1[[#This Row],[FECHA EJEC.]]="","PENDIENTE",CONCATENATE("RETRASO DE ",(K299-I299)," DIAS"))))) -> RETRASO DE 3 DIAS | P299: =VLOOKUP(MONTH(Tabla1[[#This Row],[FECHA PROG.]]),Tabla2[],2,0) -> Jul | Q299: =YEAR(Tabla1[[#This Row],[FECHA PROG.]]) -> 2018 | R299: =360-SUMIFS(Tabla1[HORAS],Tabla1[MÁQUINA],Tabla1[[#This Row],[MÁQUINA]],Tabla1[AÑO],Tabla1[[#This Row],[AÑO]],Tabla1[MES],Tabla1[[#This Row],[MES]]) -> 344.63333 | S299: =Tabla1[[#This Row],[HORAS DISPONIBLES]]/360 -> 0.95731481
A300: COMPRESOR GA22 SERIE: API325785 | B300: COMPRESOR 5 | C300: =VLOOKUP(RANDBETWEEN(1,13),Tablas!$N$7:$O$19,2,0) -> DRAGALINA | D300: PREVENTIVO | E300: MANTENIMIENTO MECANICO-ELECTRICO | F300: 107 | G300: JMEJIA | H300: 1698 | I300: =RANDBETWEEN(43101,43616) -> 43379 | J300: =IFERROR(IF(YEAR(Tabla1[[#This Row],[FECHA EJEC.]])>0,"CONFORME","STANDBY"),"PENDIENTE") -> CONFORME | K300: =IF(VLOOKUP(RANDBETWEEN(1,20),Tablas!$Q$6:$R$25,2,0)=0,"",Tabla1[[#This Row],[FECHA PROG.]]+VLOOKUP(RANDBETWEEN(1,20),Tablas!$Q$6:$R$25,2,0)) -> 43381 | L300: =IF(Tabla1[[#This Row],[FECHA EJEC.]]="","",TIME(RANDBETWEEN(9,15),RANDBETWEEN(10,40),0)) -> 0.44236111 | M300: =IF(Tabla1[[#This Row],[FECHA EJEC.]]="","",Tabla1[[#This Row],[HORA INICIO]]+TIME(RANDBETWEEN(1,4),RANDBETWEEN(10,30),0)) -> 0.49861111 | N300: =IF(Tabla1[[#This Row],[FECHA EJEC.]]="","",HOUR(Tabla1[[#This Row],[HORA TERMINO]]-Tabla1[[#This Row],[HORA INICIO]])+MINUTE(Tabla1[[#This Row],[HORA TERMINO]]-Tabla1[[#This Row],[HORA INICIO]])/60) -> 1.35 | O300: =IF(AND(K300=I300,J300="CONFORME"),"FECHA CUMPLIDA",IF(J300="STAND BY","STAND BY",IF(J300=""," ",IF(Tabla1[[#This Row],[FECHA EJEC.]]="","PENDIENTE",CONCATENATE("RETRASO DE ",(K300-I300)," DIAS"))))) -> RETRASO DE 2 DIAS | P300: =VLOOKUP(MONTH(Tabla1[[#This Row],[FECHA PROG.]]),Tabla2[],2,0) -> Oct | Q300: =YEAR(Tabla1[[#This Row],[FECHA PROG.]]) -> 2018 | R300: =360-SUMIFS(Tabla1[HORAS],Tabla1[MÁQUINA],Tabla1[[#This Row],[MÁQUINA]],Tabla1[AÑO],Tabla1[[#This Row],[AÑO]],Tabla1[MES],Tabla1[[#This Row],[MES]]) -> 355.13333 | S300: =Tabla1[[#This Row],[HORAS DISPONIBLES]]/360 -> 0.98648148
A301: MONTACARGAS 7 TON (GLP) 00000-31 | B301: MC-08 | C301: =VLOOKUP(RANDBETWEEN(1,13),Tablas!$N$7:$O$19,2,0) -> CISTERNAS DE AGUA | D301: PREVENTIVO | E301: MANTENIMIENTO POR HOROMETRO | F301: 201 | G301: ABLAS | H301: 1168 | I301: =RANDBETWEEN(43101,43616) -> 43516 | J301: =IFERROR(IF(YEAR(Tabla1[[#This Row],[FECHA EJEC.]])>0,"CONFORME","STANDBY"),"PENDIENTE") -> CONFORME | K301: =IF(VLOOKUP(RANDBETWEEN(1,20),Tablas!$Q$6:$R$25,2,0)=0,"",Tabla1[[#This Row],[FECHA PROG.]]+VLOOKUP(RANDBETWEEN(1,20),Tablas!$Q$6:$R$25,2,0)) -> 43520 | L301: =IF(Tabla1[[#This Row],[FECHA EJEC.]]="","",TIME(RANDBETWEEN(9,15),RANDBETWEEN(10,40),0)) -> 0.59930556 | M301: =IF(Tabla1[[#This Row],[FECHA EJEC.]]="","",Tabla1[[#This Row],[HORA INICIO]]+TIME(RANDBETWEEN(1,4),RANDBETWEEN(10,30),0)) -> 0.73680556 | N301: =IF(Tabla1[[#This Row],[FECHA EJEC.]]="","",HOUR(Tabla1[[#This Row],[HORA TERMINO]]-Tabla1[[#This Row],[HORA INICIO]])+MINUTE(Tabla1[[#This Row],[HORA TERMINO]]-Tabla1[[#This Row],[HORA INICIO]])/60) -> 3.3 | O301: =IF(AND(K301=I301,J301="CONFORME"),"FECHA CUMPLIDA",IF(J301="STAND BY","STAND BY",IF(J301=""," ",IF(Tabla1[[#This Row],[FECHA EJEC.]]="","PENDIENTE",CONCATENATE("RETRASO DE ",(K301-I301)," DIAS"))))) -> RETRASO DE 4 DIAS | P301: =VLOOKUP(MONTH(Tabla1[[#This Row],[FECHA PROG.]]),Tabla2[],2,0) -> Feb | Q301: =YEAR(Tabla1[[#This Row],[FECHA PROG.]]) -> 2019 | R301: =360-SUMIFS(Tabla1[HORAS],Tabla1[MÁQUINA],Tabla1[[#This Row],[MÁQUINA]],Tabla1[AÑO],Tabla1[[#This Row],[AÑO]],Tabla1[MES],Tabla1[[#This Row],[MES]]) -> 356.7 | S301: =Tabla1[[#This Row],[HORAS DISPONIBLES]]/360 -> 0.99083333
A302: MAQUINA DE PINTURA GRACO XTREME 60/1 | B302: MQP009 | C302: =VLOOKUP(RANDBETWEEN(1,13),Tablas!$N$7:$O$19,2,0) -> DRAGALINA | D302: PREVENTIVO | E302: MANTENIMIENTO MECANICO | F302: 107 | G302: DVARGAS | H302: 1420 | I302: =RANDBETWEEN(43101,43616) -> 43412 | J302: =IFERROR(IF(YEAR(Tabla1[[#This Row],[FECHA EJEC.]])>0,"CONFORME","STANDBY"),"PENDIENTE") -> PENDIENTE | K302: =IF(VLOOKUP(RANDBETWEEN(1,20),Tablas!$Q$6:$R$25,2,0)=0,"",Tabla1[[#This Row],[FECHA PROG.]]+VLOOKUP(RANDBETWEEN(1,20),Tablas!$Q$6:$R$25,2,0)) | L302: =IF(Tabla1[[#This Row],[FECHA EJEC.]]="","",TIME(RANDBETWEEN(9,15),RANDBETWEEN(10,40),0)) | M302: =IF(Tabla1[[#This Row],[FECHA EJEC.]]="","",Tabla1[[#This Row],[HORA INICIO]]+TIME(RANDBETWEEN(1,4),RANDBETWEEN(10,30),0)) | N302: =IF(Tabla1[[#This Row],[FECHA EJEC.]]="","",HOUR(Tabla1[[#This Row],[HORA TERMINO]]-Tabla1[[#This Row],[HORA INICIO]])+MINUTE(Tabla1[[#This Row],[HORA TERMINO]]-Tabla1[[#This Row],[HORA INICIO]])/60) | O302: =IF(AND(K302=I302,J302="CONFORME"),"FECHA CUMPLIDA",IF(J302="STAND BY","STAND BY",IF(J302=""," ",IF(Tabla1[[#This Row],[FECHA EJEC.]]="","PENDIENTE",CONCATENATE("RETRASO DE ",(K302-I302)," DIAS"))))) -> PENDIENTE | P302: =VLOOKUP(MONTH(Tabla1[[#This Row],[FECHA PROG.]]),Tabla2[],2,0) -> Nov | Q302: =YEAR(Tabla1[[#This Row],[FECHA PROG.]]) -> 2018 | R302: =360-SUMIFS(Tabla1[HORAS],Tabla1[MÁQUINA],Tabla1[[#This Row],[MÁQUINA]],Tabla1[AÑO],Tabla1[[#This Row],[AÑO]],Tabla1[MES],Tabla1[[#This Row],[MES]]) -> 351.61667 | S302: =Tabla1[[#This Row],[HORAS DISPONIBLES]]/360 -> 0.97671296
A303: GENERADOR DE CALOR CON CHASIS DE ALUMINIO | B303: CG-08 | C303: =VLOOKUP(RANDBETWEEN(1,13),Tablas!$N$7:$O$19,2,0) -> ESCREPA | E303: MANTENIMIENTO ELECTRICO | F303: 107 | G303: JMEJIA | H303: 1698 | I303: =RANDBETWEEN(43101,43616) -> 43161 | J303: =IFERROR(IF(YEAR(Tabla1[[#This Row],[FECHA EJEC.]])>0,"CONFORME","STANDBY"),"PENDIENTE") -> CONFORME | K303: =IF(VLOOKUP(RANDBETWEEN(1,20),Tablas!$Q$6:$R$25,2,0)=0,"",Tabla1[[#This Row],[FECHA PROG.]]+VLOOKUP(RANDBETWEEN(1,20),Tablas!$Q$6:$R$25,2,0)) -> 43165 | L303: =IF(Tabla1[[#This Row],[FECHA EJEC.]]="","",TIME(RANDBETWEEN(9,15),RANDBETWEEN(10,40),0)) -> 0.38194444 | M303: =IF(Tabla1[[#This Row],[FECHA EJEC.]]="","",Tabla1[[#This Row],[HORA INICIO]]+TIME(RANDBETWEEN(1,4),RANDBETWEEN(10,30),0)) -> 0.43541667 | N303: =IF(Tabla1[[#This Row],[FECHA EJEC.]]="","",HOUR(Tabla1[[#This Row],[HORA TERMINO]]-Tabla1[[#This Row],[HORA INICIO]])+MINUTE(Tabla1[[#This Row],[HORA TERMINO]]-Tabla1[[#This Row],[HORA INICIO]])/60) -> 1.2833333 | O303: =IF(AND(K303=I303,J303="CONFORME"),"FECHA CUMPLIDA",IF(J303="STAND BY","STAND BY",IF(J303=""," ",IF(Tabla1[[#This Row],[FECHA EJEC.]]="","PENDIENTE",CONCATENATE("RETRASO DE ",(K303-I303)," DIAS"))))) -> RETRASO DE 4 DIAS | P303: =VLOOKUP(MONTH(Tabla1[[#This Row],[FECHA PROG.]]),Tabla2[],2,0) -> Mar | Q303: =YEAR(Tabla1[[#This Row],[FECHA PROG.]]) -> 2018 | R303: =360-SUMIFS(Tabla1[HORAS],Tabla1[MÁQUINA],Tabla1[[#This Row],[MÁQUINA]],Tabla1[AÑO],Tabla1[[#This Row],[AÑO]],Tabla1[MES],Tabla1[[#This Row],[MES]]) -> 341.03333 | S303: =Tabla1[[#This Row],[HORAS DISPONIBLES]]/360 -> 0.94731481
A304: TABLERO ELÉCTRICO NAVE 05 - ALIMENTACIÓN 220 V | B304: TAB-15 | C304: =VLOOKUP(RANDBETWEEN(1,13),Tablas!$N$7:$O$19,2,0) -> COMPACTADORA | E304: MANTENIMIENTO ELECTRICO | F304: 201 | G304: LGRANDEZ | H304: 1911 | I304: =RANDBETWEEN(43101,43616) -> 43381 | J304: =IFERROR(IF(YEAR(Tabla1[[#This Row],[FECHA EJEC.]])>0,"CONFORME","STANDBY"),"PENDIENTE") -> CONFORME | K304: =IF(VLOOKUP(RANDBETWEEN(1,20),Tablas!$Q$6:$R$25,2,0)=0,"",Tabla1[[#This Row],[FECHA PROG.]]+VLOOKUP(RANDBETWEEN(1,20),Tablas!$Q$6:$R$25,2,0)) -> 43381 | L304: =IF(Tabla1[[#This Row],[FECHA EJEC.]]="","",TIME(RANDBETWEEN(9,15),RANDBETWEEN(10,40),0)) -> 0.56527778 | M304: =IF(Tabla1[[#This Row],[FECHA EJEC.]]="","",Tabla1[[#This Row],[HORA INICIO]]+TIME(RANDBETWEEN(1,4),RANDBETWEEN(10,30),0)) -> 0.70486111 | N304: =IF(Tabla1[[#This Row],[FECHA EJEC.]]="","",HOUR(Tabla1[[#This Row],[HORA TERMINO]]-Tabla1[[#This Row],[HORA INICIO]])+MINUTE(Tabla1[[#This Row],[HORA TERMINO]]-Tabla1[[#This Row],[HORA INICIO]])/60) -> 3.35 | O304: =IF(AND(K304=I304,J304="CONFORME"),"FECHA CUMPLIDA",IF(J304="STAND BY","STAND BY",IF(J304=""," ",IF(Tabla1[[#This Row],[FECHA EJEC.]]="","PENDIENTE",CONCATENATE("RETRASO DE ",(K304-I304)," DIAS"))))) -> FECHA CUMPLIDA | P304: =VLOOKUP(MONTH(Tabla1[[#This Row],[FECHA PROG.]]),Tabla2[],2,0) -> Oct | Q304: =YEAR(Tabla1[[#This Row],[FECHA PROG.]]) -> 2018 | R304: =360-SUMIFS(Tabla1[HORAS],Tabla1[MÁQUINA],Tabla1[[#This Row],[MÁQUINA]],Tabla1[AÑO],Tabla1[[#This Row],[AÑO]],Tabla1[MES],Tabla1[[#This Row],[MES]]) -> 356.65 | S304: =Tabla1[[#This Row],[HORAS DISPONIBLES]]/360 -> 0.99069444
A305: TABLERO ELÉCTRICO PERÍMETRO - ILUMINACIÓN 220 V | B305: TAB-16 | C305: =VLOOKUP(RANDBETWEEN(1,13),Tablas!$N$7:$O$19,2,0) -> ESCREPA | E305: MANTENIMIENTO ELECTRICO | F305: 201 | G305: LGRANDEZ | H305: 1911 | I305: =RANDBETWEEN(43101,43616) -> 43277 | J305: =IFERROR(IF(YEAR(Tabla1[[#This Row],[FECHA EJEC.]])>0,"CONFORME","STANDBY"),"PENDIENTE") -> CONFORME | K305: =IF(VLOOKUP(RANDBETWEEN(1,20),Tablas!$Q$6:$R$25,2,0)=0,"",Tabla1[[#This Row],[FECHA PROG.]]+VLOOKUP(RANDBETWEEN(1,20),Tablas!$Q$6:$R$25,2,0)) -> 43281 | L305: =IF(Tabla1[[#This Row],[FECHA EJEC.]]="","",TIME(RANDBETWEEN(9,15),RANDBETWEEN(10,40),0)) -> 0.51944444 | M305: =IF(Tabla1[[#This Row],[FECHA EJEC.]]="","",Tabla1[[#This Row],[HORA INICIO]]+TIME(RANDBETWEEN(1,4),RANDBETWEEN(10,30),0)) -> 0.69513889 | N305: =IF(Tabla1[[#This Row],[FECHA EJEC.]]="","",HOUR(Tabla1[[#This Row],[HORA TERMINO]]-Tabla1[[#This Row],[HORA INICIO]])+MINUTE(Tabla1[[#This Row],[HORA TERMINO]]-Tabla1[[#This Row],[HORA INICIO]])/60) -> 4.2166667 | O305: =IF(AND(K305=I305,J305="CONFORME"),"FECHA CUMPLIDA",IF(J305="STAND BY","STAND BY",IF(J305=""," ",IF(Tabla1[[#This Row],[FECHA EJEC.]]="","PENDIENTE",CONCATENATE("RETRASO DE ",(K305-I305)," DIAS"))))) -> RETRASO DE 4 DIAS | P305: =VLOOKUP(MONTH(Tabla1[[#This Row],[FECHA PROG.]]),Tabla2[],2,0) -> Jun | Q305: =YEAR(Tabla1[[#This Row],[FECHA PROG.]]) -> 2018 | R305: =360-SUMIFS(Tabla1[HORAS],Tabla1[MÁQUINA],Tabla1[[#This Row],[MÁQUINA]],Tabla1[AÑO],Tabla1[[#This Row],[AÑO]],Tabla1[MES],Tabla1[[#This Row],[MES]]) -> 355.78333 | S305: =Tabla1[[#This Row],[HORAS DISPONIBLES]]/360 -> 0.98828704
A306: TABLERO ELÉCTRICO ILUMINACIÓN Y TOMAS GR-02 - ALIMENTACIÓN 220 V | B306: TAB-17 | C306: =VLOOKUP(RANDBETWEEN(1,13),Tablas!$N$7:$O$19,2,0) -> PAVIMENTADORA | E306: MANTENIMIENTO ELECTRICO | F306: 201 | G306: LGRANDEZ | H306: 1911 | I306: =RANDBETWEEN(43101,43616) -> 43232 | J306: =IFERROR(IF(YEAR(Tabla1[[#This Row],[FECHA EJEC.]])>0,"CONFORME","STANDBY"),"PENDIENTE") -> CONFORME | K306: =IF(VLOOKUP(RANDBETWEEN(1,20),Tablas!$Q$6:$R$25,2,0)=0,"",Tabla1[[#This Row],[FECHA PROG.]]+VLOOKUP(RANDBETWEEN(1,20),Tablas!$Q$6:$R$25,2,0)) -> 43233 | L306: =IF(Tabla1[[#This Row],[FECHA EJEC.]]="","",TIME(RANDBETWEEN(9,15),RANDBETWEEN(10,40),0)) -> 0.38958333 | M306: =IF(Tabla1[[#This Row],[FECHA EJEC.]]="","",Tabla1[[#This Row],[HORA INICIO]]+TIME(RANDBETWEEN(1,4),RANDBETWEEN(10,30),0)) -> 0.44236111 | N306: =IF(Tabla1[[#This Row],[FECHA EJEC.]]="","",HOUR(Tabla1[[#This Row],[HORA TERMINO]]-Tabla1[[#This Row],[HORA INICIO]])+MINUTE(Tabla1[[#This Row],[HORA TERMINO]]-Tabla1[[#This Row],[HORA INICIO]])/60) -> 1.2666667 | O306: =IF(AND(K306=I306,J306="CONFORME"),"FECHA CUMPLIDA",IF(J306="STAND BY","STAND BY",IF(J306=""," ",IF(Tabla1[[#This Row],[FECHA EJEC.]]="","PENDIENTE",CONCATENATE("RETRASO DE ",(K306-I306)," DIAS"))))) -> RETRASO DE 1 DIAS | P306: =VLOOKUP(MONTH(Tabla1[[#This Row],[FECHA PROG.]]),Tabla2[],2,0) -> May | Q306: =YEAR(Tabla1[[#This Row],[FECHA PROG.]]) -> 2018 | R306: =360-SUMIFS(Tabla1[HORAS],Tabla1[MÁQUINA],Tabla1[[#This Row],[MÁQUINA]],Tabla1[AÑO],Tabla1[[#This Row],[AÑO]],Tabla1[MES],Tabla1[[#This Row],[MES]]) -> 358.73333 | S306: =Tabla1[[#This Row],[HORAS DISPONIBLES]]/360 -> 0.99648148
A307: TABLERO ELÉCTRICO CSA-01 - ALIMENTACIÓN 440 V | B307: TAB-18 | C307: =VLOOKUP(RANDBETWEEN(1,13),Tablas!$N$7:$O$19,2,0) -> COMPACTADORA | E307: MANTENIMIENTO ELECTRICO | F307: 201 | G307: LGRANDEZ | H307: 1911 | I307: =RANDBETWEEN(43101,43616) -> 43323 | J307: =IFERROR(IF(YEAR(Tabla1[[#This Row],[FECHA EJEC.]])>0,"CONFORME","STANDBY"),"PENDIENTE") -> CONFORME | K307: =IF(VLOOKUP(RANDBETWEEN(1,20),Tablas!$Q$6:$R$25,2,0)=0,"",Tabla1[[#This Row],[FECHA PROG.]]+VLOOKUP(RANDBETWEEN(1,20),Tablas!$Q$6:$R$25,2,0)) -> 43326 | L307: =IF(Tabla1[[#This Row],[FECHA EJEC.]]="","",TIME(RANDBETWEEN(9,15),RANDBETWEEN(10,40),0)) -> 0.39444444 | M307: =IF(Tabla1[[#This Row],[FECHA EJEC.]]="","",Tabla1[[#This Row],[HORA INICIO]]+TIME(RANDBETWEEN(1,4),RANDBETWEEN(10,30),0)) -> 0.58194444 | N307: =IF(Tabla1[[#This Row],[FECHA EJEC.]]="","",HOUR(Tabla1[[#This Row],[HORA TERMINO]]-Tabla1[[#This Row],[HORA INICIO]])+MINUTE(Tabla1[[#This Row],[HORA TERMINO]]-Tabla1[[#This Row],[HORA INICIO]])/60) -> 4.5 | O307: =IF(AND(K307=I307,J307="CONFORME"),"FECHA CUMPLIDA",IF(J307="STAND BY","STAND BY",IF(J307=""," ",IF(Tabla1[[#This Row],[FECHA EJEC.]]="","PENDIENTE",CONCATENATE("RETRASO DE ",(K307-I307)," DIAS"))))) -> RETRASO DE 3 DIAS | P307: =VLOOKUP(MONTH(Tabla1[[#This Row],[FECHA PROG.]]),Tabla2[],2,0) -> Ago | Q307: =YEAR(Tabla1[[#This Row],[FECHA PROG.]]) -> 2018 | R307: =360-SUMIFS(Tabla1[HORAS],Tabla1[MÁQUINA],Tabla1[[#This Row],[MÁQUINA]],Tabla1[AÑO],Tabla1[[#This Row],[AÑO]],Tabla1[MES],Tabla1[[#This Row],[MES]]) -> 355.5 | S307: =Tabla1[[#This Row],[HORAS DISPONIBLES]]/360 -> 0.9875
A308: TABLERO ELÉCTRICO CSA-01 - ILUMINACIÓN 220 V | B308: TAB-19 | C308: =VLOOKUP(RANDBETWEEN(1,13),Tablas!$N$7:$O$19,2,0) -> RETROEXCAVADORA | E308: MANTENIMIENTO ELECTRICO | F308: 201 | G308: LGRANDEZ | H308: 1911 | I308: =RANDBETWEEN(43101,43616) -> 43346 | J308: =IFERROR(IF(YEAR(Tabla1[[#This Row],[FECHA EJEC.]])>0,"CONFORME","STANDBY"),"PENDIENTE") -> PENDIENTE | K308: =IF(VLOOKUP(RANDBETWEEN(1,20),Tablas!$Q$6:$R$25,2,0)=0,"",Tabla1[[#This Row],[FECHA PROG.]]+VLOOKUP(RANDBETWEEN(1,20),Tablas!$Q$6:$R$25,2,0)) | L308: =IF(Tabla1[[#This Row],[FECHA EJEC.]]="","",TIME(RANDBETWEEN(9,15),RANDBETWEEN(10,40),0)) | M308: =IF(Tabla1[[#This Row],[FECHA EJEC.]]="","",Tabla1[[#This Row],[HORA INICIO]]+TIME(RANDBETWEEN(1,4),RANDBETWEEN(10,30),0)) | N308: =IF(Tabla1[[#This Row],[FECHA EJEC.]]="","",HOUR(Tabla1[[#This Row],[HORA TERMINO]]-Tabla1[[#This Row],[HORA INICIO]])+MINUTE(Tabla1[[#This Row],[HORA TERMINO]]-Tabla1[[#This Row],[HORA INICIO]])/60) | O308: =IF(AND(K308=I308,J308="CONFORME"),"FECHA CUMPLIDA",IF(J308="STAND BY","STAND BY",IF(J308=""," ",IF(Tabla1[[#This Row],[FECHA EJEC.]]="","PENDIENTE",CONCATENATE("RETRASO DE ",(K308-I308)," DIAS"))))) -> PENDIENTE | P308: =VLOOKUP(MONTH(Tabla1[[#This Row],[FECHA PROG.]]),Tabla2[],2,0) -> Set | Q308: =YEAR(Tabla1[[#This Row],[FECHA PROG.]]) -> 2018 | R308: =360-SUMIFS(Tabla1[HORAS],Tabla1[MÁQUINA],Tabla1[[#This Row],[MÁQUINA]],Tabla1[AÑO],Tabla1[[#This Row],[AÑO]],Tabla1[MES],Tabla1[[#This Row],[MES]]) -> 360 | S308: =Tabla1[[#This Row],[HORAS DISPONIBLES]]/360 -> 1
A309: TABLERO ELÉCTRICO SALA DE COMPRESORAS - ILUMINACIÓN 220 V | B309: TAB-20 | C309: =VLOOKUP(RANDBETWEEN(1,13),Tablas!$N$7:$O$19,2,0) -> ESCREPA | E309: MANTENIMIENTO ELECTRICO | F309: 201 | G309: LGRANDEZ | H309: 1911 | I309: =RANDBETWEEN(43101,43616) -> 43408 | J309: =IFERROR(IF(YEAR(Tabla1[[#This Row],[FECHA EJEC.]])>0,"CONFORME","STANDBY"),"PENDIENTE") -> CONFORME | K309: =IF(VLOOKUP(RANDBETWEEN(1,20),Tablas!$Q$6:$R$25,2,0)=0,"",Tabla1[[#This Row],[FECHA PROG.]]+VLOOKUP(RANDBETWEEN(1,20),Tablas!$Q$6:$R$25,2,0)) -> 43411 | L309: =IF(Tabla1[[#This Row],[FECHA EJEC.]]="","",TIME(RANDBETWEEN(9,15),RANDBETWEEN(10,40),0)) -> 0.48541667 | M309: =IF(Tabla1[[#This Row],[FECHA EJEC.]]="","",Tabla1[[#This Row],[HORA INICIO]]+TIME(RANDBETWEEN(1,4),RANDBETWEEN(10,30),0)) -> 0.66736111 | N309: =IF(Tabla1[[#This Row],[FECHA EJEC.]]="","",HOUR(Tabla1[[#This Row],[HORA TERMINO]]-Tabla1[[#This Row],[HORA INICIO]])+MINUTE(Tabla1[[#This Row],[HORA TERMINO]]-Tabla1[[#This Row],[HORA INICIO]])/60) -> 4.3666667 | O309: =IF(AND(K309=I309,J309="CONFORME"),"FECHA CUMPLIDA",IF(J309="STAND BY","STAND BY",IF(J309=""," ",IF(Tabla1[[#This Row],[FECHA EJEC.]]="","PENDIENTE",CONCATENATE("RETRASO DE ",(K309-I309)," DIAS"))))) -> RETRASO DE 3 DIAS | P309: =VLOOKUP(MONTH(Tabla1[[#This Row],[FECHA PROG.]]),Tabla2[],2,0) -> Nov | Q309: =YEAR(Tabla1[[#This Row],[FECHA PROG.]]) -> 2018 | R309: =360-SUMIFS(Tabla1[HORAS],Tabla1[MÁQUINA],Tabla1[[#This Row],[MÁQUINA]],Tabla1[AÑO],Tabla1[[#This Row],[AÑO]],Tabla1[MES],Tabla1[[#This Row],[MES]]) -> 351.21667 | S309: =Tabla1[[#This Row],[HORAS DISPONIBLES]]/360 -> 0.97560185
A310: MÁQUINA GRANALLADORA | B310: GR-02 | C310: =VLOOKUP(RANDBETWEEN(1,13),Tablas!$N$7:$O$19,2,0) -> LAS VOLQUETAS | D310: PREVENTIVO | E310: MANTENIMIENTO MECANICO | F310: 106 | G310: DVARGAS | H310: 1420 | I310: =RANDBETWEEN(43101,43616) -> 43273 | J310: =IFERROR(IF(YEAR(Tabla1[[#This Row],[FECHA EJEC.]])>0,"CONFORME","STANDBY"),"PENDIENTE") -> CONFORME | K310: =IF(VLOOKUP(RANDBETWEEN(1,20),Tablas!$Q$6:$R$25,2,0)=0,"",Tabla1[[#This Row],[FECHA PROG.]]+VLOOKUP(RANDBETWEEN(1,20),Tablas!$Q$6:$R$25,2,0)) -> 43274 | L310: =IF(Tabla1[[#This Row],[FECHA EJEC.]]="","",TIME(RANDBETWEEN(9,15),RANDBETWEEN(10,40),0)) -> 0.42847222 | M310: =IF(Tabla1[[#This Row],[FECHA EJEC.]]="","",Tabla1[[#This Row],[HORA INICIO]]+TIME(RANDBETWEEN(1,4),RANDBETWEEN(10,30),0)) -> 0.52222222 | N310: =IF(Tabla1[[#This Row],[FECHA EJEC.]]="","",HOUR(Tabla1[[#This Row],[HORA TERMINO]]-Tabla1[[#This Row],[HORA INICIO]])+MINUTE(Tabla1[[#This Row],[HORA TERMINO]]-Tabla1[[#This Row],[HORA INICIO]])/60) -> 2.25 | O310: =IF(AND(K310=I310,J310="CONFORME"),"FECHA CUMPLIDA",IF(J310="STAND BY","STAND BY",IF(J310=""," ",IF(Tabla1[[#This Row],[FECHA EJEC.]]="","PENDIENTE",CONCATENATE("RETRASO DE ",(K310-I310)," DIAS"))))) -> RETRASO DE 1 DIAS | P310: =VLOOKUP(MONTH(Tabla1[[#This Row],[FECHA PROG.]]),Tabla2[],2,0) -> Jun | Q310: =YEAR(Tabla1[[#This Row],[FECHA PROG.]]) -> 2018 | R310: =360-SUMIFS(Tabla1[HORAS],Tabla1[MÁQUINA],Tabla1[[#This Row],[MÁQUINA]],Tabla1[AÑO],Tabla1[[#This Row],[AÑO]],Tabla1[MES],Tabla1[[#This Row],[MES]]) -> 306.26667 | S310: =Tabla1[[#This Row],[HORAS DISPONIBLES]]/360 -> 0.85074074
A311: MÁQUINA GRANALLADORA | B311: GR-02 | C311: =VLOOKUP(RANDBETWEEN(1,13),Tablas!$N$7:$O$19,2,0) -> RETROEXCAVADORA | D311: PREVENTIVO | E311: MANTENIMIENTO ELECTRICO | F311: 106 | G311: LGRANDEZ | H311: 1911 | I311: =RANDBETWEEN(43101,43616) -> 43604 | J311: =IFERROR(IF(YEAR(Tabla1[[#This Row],[FECHA EJEC.]])>0,"CONFORME","STANDBY"),"PENDIENTE") -> PENDIENTE | K311: =IF(VLOOKUP(RANDBETWEEN(1,20),Tablas!$Q$6:$R$25,2,0)=0,"",Tabla1[[#This Row],[FECHA PROG.]]+VLOOKUP(RANDBETWEEN(1,20),Tablas!$Q$6:$R$25,2,0)) | L311: =IF(Tabla1[[#This Row],[FECHA EJEC.]]="","",TIME(RANDBETWEEN(9,15),RANDBETWEEN(10,40),0)) | M311: =IF(Tabla1[[#This Row],[FECHA EJEC.]]="","",Tabla1[[#This Row],[HORA INICIO]]+TIME(RANDBETWEEN(1,4),RANDBETWEEN(10,30),0)) | N311: =IF(Tabla1[[#This Row],[FECHA EJEC.]]="","",HOUR(Tabla1[[#This Row],[HORA TERMINO]]-Tabla1[[#This Row],[HORA INICIO]])+MINUTE(Tabla1[[#This Row],[HORA TERMINO]]-Tabla1[[#This Row],[HORA INICIO]])/60) | O311: =IF(AND(K311=I311,J311="CONFORME"),"FECHA CUMPLIDA",IF(J311="STAND BY","STAND BY",IF(J311=""," ",IF(Tabla1[[#This Row],[FECHA EJEC.]]="","PENDIENTE",CONCATENATE("RETRASO DE ",(K311-I311)," DIAS"))))) -> PENDIENTE | P311: =VLOOKUP(MONTH(Tabla1[[#This Row],[FECHA PROG.]]),Tabla2[],2,0) -> May | Q311: =YEAR(Tabla1[[#This Row],[FECHA PROG.]]) -> 2019 | R311: =360-SUMIFS(Tabla1[HORAS],Tabla1[MÁQUINA],Tabla1[[#This Row],[MÁQUINA]],Tabla1[AÑO],Tabla1[[#This Row],[AÑO]],Tabla1[MES],Tabla1[[#This Row],[MES]]) -> 335.88333 | S311: =Tabla1[[#This Row],[HORAS DISPONIBLES]]/360 -> 0.93300926
A312: COMPRESOR GA55 SERIE: API623639 | B312: COMPRESOR 6 | C312: =VLOOKUP(RANDBETWEEN(1,13),Tablas!$N$7:$O$19,2,0) -> MOTONIVELADORA | D312: PREVENTIVO | E312: MANTENIMIENTO MECANICO-ELECTRICO | F312: 107 | G312: JMEJIA | H312: 1698 | I312: =RANDBETWEEN(43101,43616) -> 43276 | J312: =IFERROR(IF(YEAR(Tabla1[[#This Row],[FECHA EJEC.]])>0,"CONFORME","STANDBY"),"PENDIENTE") -> CONFORME | K312: =IF(VLOOKUP(RANDBETWEEN(1,20),Tablas!$Q$6:$R$25,2,0)=0,"",Tabla1[[#This Row],[FECHA PROG.]]+VLOOKUP(RANDBETWEEN(1,20),Tablas!$Q$6:$R$25,2,0)) -> 43279 | L312: =IF(Tabla1[[#This Row],[FECHA EJEC.]]="","",TIME(RANDBETWEEN(9,15),RANDBETWEEN(10,40),0)) -> 0.51875 | M312: =IF(Tabla1[[#This Row],[FECHA EJEC.]]="","",Tabla1[[#This Row],[HORA INICIO]]+TIME(RANDBETWEEN(1,4),RANDBETWEEN(10,30),0)) -> 0.57569444 | N312: =IF(Tabla1[[#This Row],[FECHA EJEC.]]="","",HOUR(Tabla1[[#This Row],[HORA TERMINO]]-Tabla1[[#This Row],[HORA INICIO]])+MINUTE(Tabla1[[#This Row],[HORA TERMINO]]-Tabla1[[#This Row],[HORA INICIO]])/60) -> 1.3666667 | O312: =IF(AND(K312=I312,J312="CONFORME"),"FECHA CUMPLIDA",IF(J312="STAND BY","STAND BY",IF(J312=""," ",IF(Tabla1[[#This Row],[FECHA EJEC.]]="","PENDIENTE",CONCATENATE("RETRASO DE ",(K312-I312)," DIAS"))))) -> RETRASO DE 3 DIAS | P312: =VLOOKUP(MONTH(Tabla1[[#This Row],[FECHA PROG.]]),Tabla2[],2,0) -> Jun | Q312: =YEAR(Tabla1[[#This Row],[FECHA PROG.]]) -> 2018 | R312: =360-SUMIFS(Tabla1[HORAS],Tabla1[MÁQUINA],Tabla1[[#This Row],[MÁQUINA]],Tabla1[AÑO],Tabla1[[#This Row],[AÑO]],Tabla1[MES],Tabla1[[#This Row],[MES]]) -> 356 | S312: =Tabla1[[#This Row],[HORAS DISPONIBLES]]/360 -> 0.98888889
A313: MONTACARGAS 7 TON (GLP) 00000-32 | B313: MC-09 | C313: =VLOOKUP(RANDBETWEEN(1,13),Tablas!$N$7:$O$19,2,0) -> MOTOTRAILLA | D313: PREVENTIVO | E313: MANTENIMIENTO POR HOROMETRO | F313: 201 | G313: ABLAS | H313: 1168 | I313: =RANDBETWEEN(43101,43616) -> 43211 | J313: =IFERROR(IF(YEAR(Tabla1[[#This Row],[FECHA EJEC.]])>0,"CONFORME","STANDBY"),"PENDIENTE") -> PENDIENTE | K313: =IF(VLOOKUP(RANDBETWEEN(1,20),Tablas!$Q$6:$R$25,2,0)=0,"",Tabla1[[#This Row],[FECHA PROG.]]+VLOOKUP(RANDBETWEEN(1,20),Tablas!$Q$6:$R$25,2,0)) | L313: =IF(Tabla1[[#This Row],[FECHA EJEC.]]="","",TIME(RANDBETWEEN(9,15),RANDBETWEEN(10,40),0)) | M313: =IF(Tabla1[[#This Row],[FECHA EJEC.]]="","",Tabla1[[#This Row],[HORA INICIO]]+TIME(RANDBETWEEN(1,4),RANDBETWEEN(10,30),0)) | N313: =IF(Tabla1[[#This Row],[FECHA EJEC.]]="","",HOUR(Tabla1[[#This Row],[HORA TERMINO]]-Tabla1[[#This Row],[HORA INICIO]])+MINUTE(Tabla1[[#This Row],[HORA TERMINO]]-Tabla1[[#This Row],[HORA INICIO]])/60) | O313: =IF(AND(K313=I313,J313="CONFORME"),"FECHA CUMPLIDA",IF(J313="STAND BY","STAND BY",IF(J313=""," ",IF(Tabla1[[#This Row],[FECHA EJEC.]]="","PENDIENTE",CONCATENATE("RETRASO DE ",(K313-I313)," DIAS"))))) -> PENDIENTE | P313: =VLOOKUP(MONTH(Tabla1[[#This Row],[FECHA PROG.]]),Tabla2[],2,0) -> Abr | Q313: =YEAR(Tabla1[[#This Row],[FECHA PROG.]]) -> 2018 | R313: =360-SUMIFS(Tabla1[HORAS],Tabla1[MÁQUINA],Tabla1[[#This Row],[MÁQUINA]],Tabla1[AÑO],Tabla1[[#This Row],[AÑO]],Tabla1[MES],Tabla1[[#This Row],[MES]]) -> 355.78333 | S313: =Tabla1[[#This Row],[HORAS DISPONIBLES]]/360 -> 0.98828704
A314: MAQUINA DE PINTURA GRACO XTREME 60/1 | B314: MQP010 | C314: =VLOOKUP(RANDBETWEEN(1,13),Tablas!$N$7:$O$19,2,0) -> MOTONIVELADORA | D314: PREVENTIVO | E314: MANTENIMIENTO MECANICO | F314: 107 | G314: DVARGAS | H314: 1420 | I314: =RANDBETWEEN(43101,43616) -> 43414 | J314: =IFERROR(IF(YEAR(Tabla1[[#This Row],[FECHA EJEC.]])>0,"CONFORME","STANDBY"),"PENDIENTE") -> CONFORME | K314: =IF(VLOOKUP(RANDBETWEEN(1,20),Tablas!$Q$6:$R$25,2,0)=0,"",Tabla1[[#This Row],[FECHA PROG.]]+VLOOKUP(RANDBETWEEN(1,20),Tablas!$Q$6:$R$25,2,0)) -> 43414 | L314: =IF(Tabla1[[#This Row],[FECHA EJEC.]]="","",TIME(RANDBETWEEN(9,15),RANDBETWEEN(10,40),0)) -> 0.64375 | M314: =IF(Tabla1[[#This Row],[FECHA EJEC.]]="","",Tabla1[[#This Row],[HORA INICIO]]+TIME(RANDBETWEEN(1,4),RANDBETWEEN(10,30),0)) -> 0.7 | N314: =IF(Tabla1[[#This Row],[FECHA EJEC.]]="","",HOUR(Tabla1[[#This Row],[HORA TERMINO]]-Tabla1[[#This Row],[HORA INICIO]])+MINUTE(Tabla1[[#This Row],[HORA TERMINO]]-Tabla1[[#This Row],[HORA INICIO]])/60) -> 1.35 | O314: =IF(AND(K314=I314,J314="CONFORME"),"FECHA CUMPLIDA",IF(J314="STAND BY","STAND BY",IF(J314=""," ",IF(Tabla1[[#This Row],[FECHA EJEC.]]="","PENDIENTE",CONCATENATE("RETRASO DE ",(K314-I314)," DIAS"))))) -> FECHA CUMPLIDA | P314: =VLOOKUP(MONTH(Tabla1[[#This Row],[FECHA PROG.]]),Tabla2[],2,0) -> Nov | Q314: =YEAR(Tabla1[[#This Row],[FECHA PROG.]]) -> 2018 | R314: =360-SUMIFS(Tabla1[HORAS],Tabla1[MÁQUINA],Tabla1[[#This Row],[MÁQUINA]],Tabla1[AÑO],Tabla1[[#This Row],[AÑO]],Tabla1[MES],Tabla1[[#This Row],[MES]]) -> 351.61667 | S314: =Tabla1[[#This Row],[HORAS DISPONIBLES]]/360 -> 0.97671296
A315: GENERADOR DE CALOR CON CHASIS DE ACERO INOXIDABLE | B315: CG-01 | C315: =VLOOKUP(RANDBETWEEN(1,13),Tablas!$N$7:$O$19,2,0) -> CISTERNAS DE AGUA | E315: MANTENIMIENTO ELECTRICO | F315: 107 | G315: JMEJIA | H315: 1698 | I315: =RANDBETWEEN(43101,43616) -> 43356 | J315: =IFERROR(IF(YEAR(Tabla1[[#This Row],[FECHA EJEC.]])>0,"CONFORME","STANDBY"),"PENDIENTE") -> PENDIENTE | K315: =IF(VLOOKUP(RANDBETWEEN(1,20),Tablas!$Q$6:$R$25,2,0)=0,"",Tabla1[[#This Row],[FECHA PROG.]]+VLOOKUP(RANDBETWEEN(1,20),Tablas!$Q$6:$R$25,2,0)) | L315: =IF(Tabla1[[#This Row],[FECHA EJEC.]]="","",TIME(RANDBETWEEN(9,15),RANDBETWEEN(10,40),0)) | M315: =IF(Tabla1[[#This Row],[FECHA EJEC.]]="","",Tabla1[[#This Row],[HORA INICIO]]+TIME(RANDBETWEEN(1,4),RANDBETWEEN(10,30),0)) | N315: =IF(Tabla1[[#This Row],[FECHA EJEC.]]="","",HOUR(Tabla1[[#This Row],[HORA TERMINO]]-Tabla1[[#This Row],[HORA INICIO]])+MINUTE(Tabla1[[#This Row],[HORA TERMINO]]-Tabla1[[#This Row],[HORA INICIO]])/60) | O315: =IF(AND(K315=I315,J315="CONFORME"),"FECHA CUMPLIDA",IF(J315="STAND BY","STAND BY",IF(J315=""," ",IF(Tabla1[[#This Row],[FECHA EJEC.]]="","PENDIENTE",CONCATENATE("RETRASO DE ",(K315-I315)," DIAS"))))) -> PENDIENTE | P315: =VLOOKUP(MONTH(Tabla1[[#This Row],[FECHA PROG.]]),Tabla2[],2,0) -> Set | Q315: =YEAR(Tabla1[[#This Row],[FECHA PROG.]]) -> 2018 | R315: =360-SUMIFS(Tabla1[HORAS],Tabla1[MÁQUINA],Tabla1[[#This Row],[MÁQUINA]],Tabla1[AÑO],Tabla1[[#This Row],[AÑO]],Tabla1[MES],Tabla1[[#This Row],[MES]]) -> 360 | S315: =Tabla1[[#This Row],[HORAS DISPONIBLES]]/360 -> 1
A316: TABLERO ELÉCTRICO NAVE 05 - ILUMINACIÓN 220 V | B316: TAB-21 | C316: =VLOOKUP(RANDBETWEEN(1,13),Tablas!$N$7:$O$19,2,0) -> MOTOTRAILLA | E316: MANTENIMIENTO ELECTRICO | F316: 201 | G316: LGRANDEZ | H316: 1911 | I316: =RANDBETWEEN(43101,43616) -> 43189 | J316: =IFERROR(IF(YEAR(Tabla1[[#This Row],[FECHA EJEC.]])>0,"CONFORME","STANDBY"),"PENDIENTE") -> PENDIENTE | K316: =IF(VLOOKUP(RANDBETWEEN(1,20),Tablas!$Q$6:$R$25,2,0)=0,"",Tabla1[[#This Row],[FECHA PROG.]]+VLOOKUP(RANDBETWEEN(1,20),Tablas!$Q$6:$R$25,2,0)) | L316: =IF(Tabla1[[#This Row],[FECHA EJEC.]]="","",TIME(RANDBETWEEN(9,15),RANDBETWEEN(10,40),0)) | M316: =IF(Tabla1[[#This Row],[FECHA EJEC.]]="","",Tabla1[[#This Row],[HORA INICIO]]+TIME(RANDBETWEEN(1,4),RANDBETWEEN(10,30),0)) | N316: =IF(Tabla1[[#This Row],[FECHA EJEC.]]="","",HOUR(Tabla1[[#This Row],[HORA TERMINO]]-Tabla1[[#This Row],[HORA INICIO]])+MINUTE(Tabla1[[#This Row],[HORA TERMINO]]-Tabla1[[#This Row],[HORA INICIO]])/60) | O316: =IF(AND(K316=I316,J316="CONFORME"),"FECHA CUMPLIDA",IF(J316="STAND BY","STAND BY",IF(J316=""," ",IF(Tabla1[[#This Row],[FECHA EJEC.]]="","PENDIENTE",CONCATENATE("RETRASO DE ",(K316-I316)," DIAS"))))) -> PENDIENTE | P316: =VLOOKUP(MONTH(Tabla1[[#This Row],[FECHA PROG.]]),Tabla2[],2,0) -> Mar | Q316: =YEAR(Tabla1[[#This Row],[FECHA PROG.]]) -> 2018 | R316: =360-SUMIFS(Tabla1[HORAS],Tabla1[MÁQUINA],Tabla1[[#This Row],[MÁQUINA]],Tabla1[AÑO],Tabla1[[#This Row],[AÑO]],Tabla1[MES],Tabla1[[#This Row],[MES]]) -> 360 | S316: =Tabla1[[#This Row],[HORAS DISPONIBLES]]/360 -> 1
A317: TABLERO ELÉCTRICO NAVE 05 - TOMAS 220 V | B317: TAB-22 | C317: =VLOOKUP(RANDBETWEEN(1,13),Tablas!$N$7:$O$19,2,0) -> RETROEXCAVADORA | E317: MANTENIMIENTO ELECTRICO | F317: 201 | G317: LGRANDEZ | H317: 1911 | I317: =RANDBETWEEN(43101,43616) -> 43201 | J317: =IFERROR(IF(YEAR(Tabla1[[#This Row],[FECHA EJEC.]])>0,"CONFORME","STANDBY"),"PENDIENTE") -> CONFORME | K317: =IF(VLOOKUP(RANDBETWEEN(1,20),Tablas!$Q$6:$R$25,2,0)=0,"",Tabla1[[#This Row],[FECHA PROG.]]+VLOOKUP(RANDBETWEEN(1,20),Tablas!$Q$6:$R$25,2,0)) -> 43204 | L317: =IF(Tabla1[[#This Row],[FECHA EJEC.]]="","",TIME(RANDBETWEEN(9,15),RANDBETWEEN(10,40),0)) -> 0.63611111 | M317: =IF(Tabla1[[#This Row],[FECHA EJEC.]]="","",Tabla1[[#This Row],[HORA INICIO]]+TIME(RANDBETWEEN(1,4),RANDBETWEEN(10,30),0)) -> 0.69583333 | N317: =IF(Tabla1[[#This Row],[FECHA EJEC.]]="","",HOUR(Tabla1[[#This Row],[HORA TERMINO]]-Tabla1[[#This Row],[HORA INICIO]])+MINUTE(Tabla1[[#This Row],[HORA TERMINO]]-Tabla1[[#This Row],[HORA INICIO]])/60) -> 1.4333333 | O317: =IF(AND(K317=I317,J317="CONFORME"),"FECHA CUMPLIDA",IF(J317="STAND BY","STAND BY",IF(J317=""," ",IF(Tabla1[[#This Row],[FECHA EJEC.]]="","PENDIENTE",CONCATENATE("RETRASO DE ",(K317-I317)," DIAS"))))) -> RETRASO DE 3 DIAS | P317: =VLOOKUP(MONTH(Tabla1[[#This Row],[FECHA PROG.]]),Tabla2[],2,0) -> Abr | Q317: =YEAR(Tabla1[[#This Row],[FECHA PROG.]]) -> 2018 | R317: =360-SUMIFS(Tabla1[HORAS],Tabla1[MÁQUINA],Tabla1[[#This Row],[MÁQUINA]],Tabla1[AÑO],Tabla1[[#This Row],[AÑO]],Tabla1[MES],Tabla1[[#This Row],[MES]]) -> 358.56667 | S317: =Tabla1[[#This Row],[HORAS DISPONIBLES]]/360 -> 0.99601852
A318: TABLERO ELÉCTRICO NAVES 1, 2, 3, 6, 7, 8 Y 9 - ALIMENTACIÓN 220 V | B318: TAB-23 | C318: =VLOOKUP(RANDBETWEEN(1,13),Tablas!$N$7:$O$19,2,0) -> PAVIMENTADORA | E318: MANTENIMIENTO ELECTRICO | F318: 201 | G318: LGRANDEZ | H318: 1911 | I318: =RANDBETWEEN(43101,43616) -> 43500 | J318: =IFERROR(IF(YEAR(Tabla1[[#This Row],[FECHA EJEC.]])>0,"CONFORME","STANDBY"),"PENDIENTE") -> CONFORME | K318: =IF(VLOOKUP(RANDBETWEEN(1,20),Tablas!$Q$6:$R$25,2,0)=0,"",Tabla1[[#This Row],[FECHA PROG.]]+VLOOKUP(RANDBETWEEN(1,20),Tablas!$Q$6:$R$25,2,0)) -> 43500 | L318: =IF(Tabla1[[#This Row],[FECHA EJEC.]]="","",TIME(RANDBETWEEN(9,15),RANDBETWEEN(10,40),0)) -> 0.51388889 | M318: =IF(Tabla1[[#This Row],[FECHA EJEC.]]="","",Tabla1[[#This Row],[HORA INICIO]]+TIME(RANDBETWEEN(1,4),RANDBETWEEN(10,30),0)) -> 0.69513889 | N318: =IF(Tabla1[[#This Row],[FECHA EJEC.]]="","",HOUR(Tabla1[[#This Row],[HORA TERMINO]]-Tabla1[[#This Row],[HORA INICIO]])+MINUTE(Tabla1[[#This Row],[HORA TERMINO]]-Tabla1[[#This Row],[HORA INICIO]])/60) -> 4.35 | O318: =IF(AND(K318=I318,J318="CONFORME"),"FECHA CUMPLIDA",IF(J318="STAND BY","STAND BY",IF(J318=""," ",IF(Tabla1[[#This Row],[FECHA EJEC.]]="","PENDIENTE",CONCATENATE("RETRASO DE ",(K318-I318)," DIAS"))))) -> FECHA CUMPLIDA | P318: =VLOOKUP(MONTH(Tabla1[[#This Row],[FECHA PROG.]]),Tabla2[],2,0) -> Feb | Q318: =YEAR(Tabla1[[#This Row],[FECHA PROG.]]) -> 2019 | R318: =360-SUMIFS(Tabla1[HORAS],Tabla1[MÁQUINA],Tabla1[[#This Row],[MÁQUINA]],Tabla1[AÑO],Tabla1[[#This Row],[AÑO]],Tabla1[MES],Tabla1[[#This Row],[MES]]) -> 351.31667 | S318: =Tabla1[[#This Row],[HORAS DISPONIBLES]]/360 -> 0.97587963
A319: TABLERO ELÉCTRICO NAVE 01 - ILUMINACIÓN 220 V | B319: TAB-24 | C319: =VLOOKUP(RANDBETWEEN(1,13),Tablas!$N$7:$O$19,2,0) -> PAVIMENTADORA | E319: MANTENIMIENTO ELECTRICO | F319: 201 | G319: LGRANDEZ | H319: 1911 | I319: =RANDBETWEEN(43101,43616) -> 43590 | J319: =IFERROR(IF(YEAR(Tabla1[[#This Row],[FECHA EJEC.]])>0,"CONFORME","STANDBY"),"PENDIENTE") -> PENDIENTE | K319: =IF(VLOOKUP(RANDBETWEEN(1,20),Tablas!$Q$6:$R$25,2,0)=0,"",Tabla1[[#This Row],[FECHA PROG.]]+VLOOKUP(RANDBETWEEN(1,20),Tablas!$Q$6:$R$25,2,0)) | L319: =IF(Tabla1[[#This Row],[FECHA EJEC.]]="","",TIME(RANDBETWEEN(9,15),RANDBETWEEN(10,40),0)) | M319: =IF(Tabla1[[#This Row],[FECHA EJEC.]]="","",Tabla1[[#This Row],[HORA INICIO]]+TIME(RANDBETWEEN(1,4),RANDBETWEEN(10,30),0)) | N319: =IF(Tabla1[[#This Row],[FECHA EJEC.]]="","",HOUR(Tabla1[[#This Row],[HORA TERMINO]]-Tabla1[[#This Row],[HORA INICIO]])+MINUTE(Tabla1[[#This Row],[HORA TERMINO]]-Tabla1[[#This Row],[HORA INICIO]])/60) | O319: =IF(AND(K319=I319,J319="CONFORME"),"FECHA CUMPLIDA",IF(J319="STAND BY","STAND BY",IF(J319=""," ",IF(Tabla1[[#This Row],[FECHA EJEC.]]="","PENDIENTE",CONCATENATE("RETRASO DE ",(K319-I319)," DIAS"))))) -> PENDIENTE | P319: =VLOOKUP(MONTH(Tabla1[[#This Row],[FECHA PROG.]]),Tabla2[],2,0) -> May | Q319: =YEAR(Tabla1[[#This Row],[FECHA PROG.]]) -> 2019 | R319: =360-SUMIFS(Tabla1[HORAS],Tabla1[MÁQUINA],Tabla1[[#This Row],[MÁQUINA]],Tabla1[AÑO],Tabla1[[#This Row],[AÑO]],Tabla1[MES],Tabla1[[#This Row],[MES]]) -> 360 | S319: =Tabla1[[#This Row],[HORAS DISPONIBLES]]/360 -> 1
A320: TABLERO ELÉCTRICO NAVE 02 - ILUMINACIÓN 220 V | B320: TAB-25 | C320: =VLOOKUP(RANDBETWEEN(1,13),Tablas!$N$7:$O$19,2,0) -> DRAGAS | E320: MANTENIMIENTO ELECTRICO | F320: 201 | G320: LGRANDEZ | H320: 1911 | I320: =RANDBETWEEN(43101,43616) -> 43212 | J320: =IFERROR(IF(YEAR(Tabla1[[#This Row],[FECHA EJEC.]])>0,"CONFORME","STANDBY"),"PENDIENTE") -> PENDIENTE | K320: =IF(VLOOKUP(RANDBETWEEN(1,20),Tablas!$Q$6:$R$25,2,0)=0,"",Tabla1[[#This Row],[FECHA PROG.]]+VLOOKUP(RANDBETWEEN(1,20),Tablas!$Q$6:$R$25,2,0)) | L320: =IF(Tabla1[[#This Row],[FECHA EJEC.]]="","",TIME(RANDBETWEEN(9,15),RANDBETWEEN(10,40),0)) | M320: =IF(Tabla1[[#This Row],[FECHA EJEC.]]="","",Tabla1[[#This Row],[HORA INICIO]]+TIME(RANDBETWEEN(1,4),RANDBETWEEN(10,30),0)) | N320: =IF(Tabla1[[#This Row],[FECHA EJEC.]]="","",HOUR(Tabla1[[#This Row],[HORA TERMINO]]-Tabla1[[#This Row],[HORA INICIO]])+MINUTE(Tabla1[[#This Row],[HORA TERMINO]]-Tabla1[[#This Row],[HORA INICIO]])/60) | O320: =IF(AND(K320=I320,J320="CONFORME"),"FECHA CUMPLIDA",IF(J320="STAND BY","STAND BY",IF(J320=""," ",IF(Tabla1[[#This Row],[FECHA EJEC.]]="","PENDIENTE",CONCATENATE("RETRASO DE ",(K320-I320)," DIAS"))))) -> PENDIENTE | P320: =VLOOKUP(MONTH(Tabla1[[#This Row],[FECHA PROG.]]),Tabla2[],2,0) -> Abr | Q320: =YEAR(Tabla1[[#This Row],[FECHA PROG.]]) -> 2018 | R320: =360-SUMIFS(Tabla1[HORAS],Tabla1[MÁQUINA],Tabla1[[#This Row],[MÁQUINA]],Tabla1[AÑO],Tabla1[[#This Row],[AÑO]],Tabla1[MES],Tabla1[[#This Row],[MES]]) -> 356.61667 | S320: =Tabla1[[#This Row],[HORAS DISPONIBLES]]/360 -> 0.99060185
A321: TABLERO ELÉCTRICO NAVE 03 - ILUMINACIÓN 220 V | B321: TAB-26 | C321: =VLOOKUP(RANDBETWEEN(1,13),Tablas!$N$7:$O$19,2,0) -> RETROEXCAVADORA | E321: MANTENIMIENTO ELECTRICO | F321: 201 | G321: LGRANDEZ | H321: 1911 | I321: =RANDBETWEEN(43101,43616) -> 43110 | J321: =IFERROR(IF(YEAR(Tabla1[[#This Row],[FECHA EJEC.]])>0,"CONFORME","STANDBY"),"PENDIENTE") -> CONFORME | K321: =IF(VLOOKUP(RANDBETWEEN(1,20),Tablas!$Q$6:$R$25,2,0)=0,"",Tabla1[[#This Row],[FECHA PROG.]]+VLOOKUP(RANDBETWEEN(1,20),Tablas!$Q$6:$R$25,2,0)) -> 43111 | L321: =IF(Tabla1[[#This Row],[FECHA EJEC.]]="","",TIME(RANDBETWEEN(9,15),RANDBETWEEN(10,40),0)) -> 0.42708333 | M321: =IF(Tabla1[[#This Row],[FECHA EJEC.]]="","",Tabla1[[#This Row],[HORA INICIO]]+TIME(RANDBETWEEN(1,4),RANDBETWEEN(10,30),0)) -> 0.47777778 | N321: =IF(Tabla1[[#This Row],[FECHA EJEC.]]="","",HOUR(Tabla1[[#This Row],[HORA TERMINO]]-Tabla1[[#This Row],[HORA INICIO]])+MINUTE(Tabla1[[#This Row],[HORA TERMINO]]-Tabla1[[#This Row],[HORA INICIO]])/60) -> 1.2166667 | O321: =IF(AND(K321=I321,J321="CONFORME"),"FECHA CUMPLIDA",IF(J321="STAND BY","STAND BY",IF(J321=""," ",IF(Tabla1[[#This Row],[FECHA EJEC.]]="","PENDIENTE",CONCATENATE("RETRASO DE ",(K321-I321)," DIAS"))))) -> RETRASO DE 1 DIAS | P321: =VLOOKUP(MONTH(Tabla1[[#This Row],[FECHA PROG.]]),Tabla2[],2,0) -> Ene | Q321: =YEAR(Tabla1[[#This Row],[FECHA PROG.]]) -> 2018 | R321: =360-SUMIFS(Tabla1[HORAS],Tabla1[MÁQUINA],Tabla1[[#This Row],[MÁQUINA]],Tabla1[AÑO],Tabla1[[#This Row],[AÑO]],Tabla1[MES],Tabla1[[#This Row],[MES]]) -> 358.78333 | S321: =Tabla1[[#This Row],[HORAS DISPONIBLES]]/360 -> 0.99662037
A322: TABLERO ELÉCTRICO ALARMA 220 V | B322: TAB-27 | C322: =VLOOKUP(RANDBETWEEN(1,13),Tablas!$N$7:$O$19,2,0) -> MOTONIVELADORA | E322: MANTENIMIENTO ELECTRICO | F322: 201 | G322: LGRANDEZ | H322: 1911 | I322: =RANDBETWEEN(43101,43616) -> 43598 | J322: =IFERROR(IF(YEAR(Tabla1[[#This Row],[FECHA EJEC.]])>0,"CONFORME","STANDBY"),"PENDIENTE") -> CONFORME | K322: =IF(VLOOKUP(RANDBETWEEN(1,20),Tablas!$Q$6:$R$25,2,0)=0,"",Tabla1[[#This Row],[FECHA PROG.]]+VLOOKUP(RANDBETWEEN(1,20),Tablas!$Q$6:$R$25,2,0)) -> 43599 | L322: =IF(Tabla1[[#This Row],[FECHA EJEC.]]="","",TIME(RANDBETWEEN(9,15),RANDBETWEEN(10,40),0)) -> 0.64861111 | M322: =IF(Tabla1[[#This Row],[FECHA EJEC.]]="","",Tabla1[[#This Row],[HORA INICIO]]+TIME(RANDBETWEEN(1,4),RANDBETWEEN(10,30),0)) -> 0.74027778 | N322: =IF(Tabla1[[#This Row],[FECHA EJEC.]]="","",HOUR(Tabla1[[#This Row],[HORA TERMINO]]-Tabla1[[#This Row],[HORA INICIO]])+MINUTE(Tabla1[[#This Row],[HORA TERMINO]]-Tabla1[[#This Row],[HORA INICIO]])/60) -> 2.2 | O322: =IF(AND(K322=I322,J322="CONFORME"),"FECHA CUMPLIDA",IF(J322="STAND BY","STAND BY",IF(J322=""," ",IF(Tabla1[[#This Row],[FECHA EJEC.]]="","PENDIENTE",CONCATENATE("RETRASO DE ",(K322-I322)," DIAS"))))) -> RETRASO DE 1 DIAS | P322: =VLOOKUP(MONTH(Tabla1[[#This Row],[FECHA PROG.]]),Tabla2[],2,0) -> May | Q322: =YEAR(Tabla1[[#This Row],[FECHA PROG.]]) -> 2019 | R322: =360-SUMIFS(Tabla1[HORAS],Tabla1[MÁQUINA],Tabla1[[#This Row],[MÁQUINA]],Tabla1[AÑO],Tabla1[[#This Row],[AÑO]],Tabla1[MES],Tabla1[[#This Row],[MES]]) -> 357.8 | S322: =Tabla1[[#This Row],[HORAS DISPONIBLES]]/360 -> 0.99388889
A323: TABLERO ELÉCTRICO NAVE 6, 7, 8 Y 9 - ILUMINACIÓN 220 V | B323: TAB-28 | C323: =VLOOKUP(RANDBETWEEN(1,13),Tablas!$N$7:$O$19,2,0) -> PAVIMENTADORA | E323: MANTENIMIENTO ELECTRICO | F323: 201 | G323: LGRANDEZ | H323: 1911 | I323: =RANDBETWEEN(43101,43616) -> 43529 | J323: =IFERROR(IF(YEAR(Tabla1[[#This Row],[FECHA EJEC.]])>0,"CONFORME","STANDBY"),"PENDIENTE") -> PENDIENTE | K323: =IF(VLOOKUP(RANDBETWEEN(1,20),Tablas!$Q$6:$R$25,2,0)=0,"",Tabla1[[#This Row],[FECHA PROG.]]+VLOOKUP(RANDBETWEEN(1,20),Tablas!$Q$6:$R$25,2,0)) | L323: =IF(Tabla1[[#This Row],[FECHA EJEC.]]="","",TIME(RANDBETWEEN(9,15),RANDBETWEEN(10,40),0)) | M323: =IF(Tabla1[[#This Row],[FECHA EJEC.]]="","",Tabla1[[#This Row],[HORA INICIO]]+TIME(RANDBETWEEN(1,4),RANDBETWEEN(10,30),0)) | N323: =IF(Tabla1[[#This Row],[FECHA EJEC.]]="","",HOUR(Tabla1[[#This Row],[HORA TERMINO]]-Tabla1[[#This Row],[HORA INICIO]])+MINUTE(Tabla1[[#This Row],[HORA TERMINO]]-Tabla1[[#This Row],[HORA INICIO]])/60) | O323: =IF(AND(K323=I323,J323="CONFORME"),"FECHA CUMPLIDA",IF(J323="STAND BY","STAND BY",IF(J323=""," ",IF(Tabla1[[#This Row],[FECHA EJEC.]]="","PENDIENTE",CONCATENATE("RETRASO DE ",(K323-I323)," DIAS"))))) -> PENDIENTE | P323: =VLOOKUP(MONTH(Tabla1[[#This Row],[FECHA PROG.]]),Tabla2[],2,0) -> Mar | Q323: =YEAR(Tabla1[[#This Row],[FECHA PROG.]]) -> 2019 | R323: =360-SUMIFS(Tabla1[HORAS],Tabla1[MÁQUINA],Tabla1[[#This Row],[MÁQUINA]],Tabla1[AÑO],Tabla1[[#This Row],[AÑO]],Tabla1[MES],Tabla1[[#This Row],[MES]]) -> 360 | S323: =Tabla1[[#This Row],[HORAS DISPONIBLES]]/360 -> 1
A324: MÁQUINA GRANALLADORA | B324: GR-01 | C324: =VLOOKUP(RANDBETWEEN(1,13),Tablas!$N$7:$O$19,2,0) -> ESCREPA | D324: PREVENTIVO | E324: MANTENIMIENTO MECANICO | F324: 106 | G324: DVARGAS | H324: 1420 | I324: =RANDBETWEEN(43101,43616) -> 43287 | J324: =IFERROR(IF(YEAR(Tabla1[[#This Row],[FECHA EJEC.]])>0,"CONFORME","STANDBY"),"PENDIENTE") -> CONFORME | K324: =IF(VLOOKUP(RANDBETWEEN(1,20),Tablas!$Q$6:$R$25,2,0)=0,"",Tabla1[[#This Row],[FECHA PROG.]]+VLOOKUP(RANDBETWEEN(1,20),Tablas!$Q$6:$R$25,2,0)) -> 43289 | L324: =IF(Tabla1[[#This Row],[FECHA EJEC.]]="","",TIME(RANDBETWEEN(9,15),RANDBETWEEN(10,40),0)) -> 0.59444444 | M324: =IF(Tabla1[[#This Row],[FECHA EJEC.]]="","",Tabla1[[#This Row],[HORA INICIO]]+TIME(RANDBETWEEN(1,4),RANDBETWEEN(10,30),0)) -> 0.69166667 | N324: =IF(Tabla1[[#This Row],[FECHA EJEC.]]="","",HOUR(Tabla1[[#This Row],[HORA TERMINO]]-Tabla1[[#This Row],[HORA INICIO]])+MINUTE(Tabla1[[#This Row],[HORA TERMINO]]-Tabla1[[#This Row],[HORA INICIO]])/60) -> 2.3333333 | O324: =IF(AND(K324=I324,J324="CONFORME"),"FECHA CUMPLIDA",IF(J324="STAND BY","STAND BY",IF(J324=""," ",IF(Tabla1[[#This Row],[FECHA EJEC.]]="","PENDIENTE",CONCATENATE("RETRASO DE ",(K324-I324)," DIAS"))))) -> RETRASO DE 2 DIAS | P324: =VLOOKUP(MONTH(Tabla1[[#This Row],[FECHA PROG.]]),Tabla2[],2,0) -> Jul | Q324: =YEAR(Tabla1[[#This Row],[FECHA PROG.]]) -> 2018 | R324: =360-SUMIFS(Tabla1[HORAS],Tabla1[MÁQUINA],Tabla1[[#This Row],[MÁQUINA]],Tabla1[AÑO],Tabla1[[#This Row],[AÑO]],Tabla1[MES],Tabla1[[#This Row],[MES]]) -> 332.75 | S324: =Tabla1[[#This Row],[HORAS DISPONIBLES]]/360 -> 0.92430556
A325: MÁQUINA GRANALLADORA | B325: GR-01 | C325: =VLOOKUP(RANDBETWEEN(1,13),Tablas!$N$7:$O$19,2,0) -> EXCAVADORA | D325: PREVENTIVO | E325: MANTENIMIENTO ELECTRICO | F325: 106 | G325: LGRANDEZ | H325: 1911 | I325: =RANDBETWEEN(43101,43616) -> 43203 | J325: =IFERROR(IF(YEAR(Tabla1[[#This Row],[FECHA EJEC.]])>0,"CONFORME","STANDBY"),"PENDIENTE") -> CONFORME | K325: =IF(VLOOKUP(RANDBETWEEN(1,20),Tablas!$Q$6:$R$25,2,0)=0,"",Tabla1[[#This Row],[FECHA PROG.]]+VLOOKUP(RANDBETWEEN(1,20),Tablas!$Q$6:$R$25,2,0)) -> 43207 | L325: =IF(Tabla1[[#This Row],[FECHA EJEC.]]="","",TIME(RANDBETWEEN(9,15),RANDBETWEEN(10,40),0)) -> 0.43263889 | M325: =IF(Tabla1[[#This Row],[FECHA EJEC.]]="","",Tabla1[[#This Row],[HORA INICIO]]+TIME(RANDBETWEEN(1,4),RANDBETWEEN(10,30),0)) -> 0.48194444 | N325: =IF(Tabla1[[#This Row],[FECHA EJEC.]]="","",HOUR(Tabla1[[#This Row],[HORA TERMINO]]-Tabla1[[#This Row],[HORA INICIO]])+MINUTE(Tabla1[[#This Row],[HORA TERMINO]]-Tabla1[[#This Row],[HORA INICIO]])/60) -> 1.1833333 | O325: =IF(AND(K325=I325,J325="CONFORME"),"FECHA CUMPLIDA",IF(J325="STAND BY","STAND BY",IF(J325=""," ",IF(Tabla1[[#This Row],[FECHA EJEC.]]="","PENDIENTE",CONCATENATE("RETRASO DE ",(K325-I325)," DIAS"))))) -> RETRASO DE 4 DIAS | P325: =VLOOKUP(MONTH(Tabla1[[#This Row],[FECHA PROG.]]),Tabla2[],2,0) -> Abr | Q325: =YEAR(Tabla1[[#This Row],[FECHA PROG.]]) -> 2018 | R325: =360-SUMIFS(Tabla1[HORAS],Tabla1[MÁQUINA],Tabla1[[#This Row],[MÁQUINA]],Tabla1[AÑO],Tabla1[[#This Row],[AÑO]],Tabla1[MES],Tabla1[[#This Row],[MES]]) -> 322.15 | S325: =Tabla1[[#This Row],[HORAS DISPONIBLES]]/360 -> 0.89486111
A326: MONTACARGAS 8 TON (DIESEL) | B326: MC-10 | C326: =VLOOKUP(RANDBETWEEN(1,13),Tablas!$N$7:$O$19,2,0) -> CARGADORA | D326: PREVENTIVO | E326: MANTENIMIENTO POR HOROMETRO | F326: 201 | G326: ABLAS | H326: 1168 | I326: =RANDBETWEEN(43101,43616) -> 43280 | J326: =IFERROR(IF(YEAR(Tabla1[[#This Row],[FECHA EJEC.]])>0,"CONFORME","STANDBY"),"PENDIENTE") -> CONFORME | K326: =IF(VLOOKUP(RANDBETWEEN(1,20),Tablas!$Q$6:$R$25,2,0)=0,"",Tabla1[[#This Row],[FECHA PROG.]]+VLOOKUP(RANDBETWEEN(1,20),Tablas!$Q$6:$R$25,2,0)) -> 43283 | L326: =IF(Tabla1[[#This Row],[FECHA EJEC.]]="","",TIME(RANDBETWEEN(9,15),RANDBETWEEN(10,40),0)) -> 0.61111111 | M326: =IF(Tabla1[[#This Row],[FECHA EJEC.]]="","",Tabla1[[#This Row],[HORA INICIO]]+TIME(RANDBETWEEN(1,4),RANDBETWEEN(10,30),0)) -> 0.71388889 | N326: =IF(Tabla1[[#This Row],[FECHA EJEC.]]="","",HOUR(Tabla1[[#This Row],[HORA TERMINO]]-Tabla1[[#This Row],[HORA INICIO]])+MINUTE(Tabla1[[#This Row],[HORA TERMINO]]-Tabla1[[#This Row],[HORA INICIO]])/60) -> 2.4666667 | O326: =IF(AND(K326=I326,J326="CONFORME"),"FECHA CUMPLIDA",IF(J326="STAND BY","STAND BY",IF(J326=""," ",IF(Tabla1[[#This Row],[FECHA EJEC.]]="","PENDIENTE",CONCATENATE("RETRASO DE ",(K326-I326)," DIAS"))))) -> RETRASO DE 3 DIAS | P326: =VLOOKUP(MONTH(Tabla1[[#This Row],[FECHA PROG.]]),Tabla2[],2,0) -> Jun | Q326: =YEAR(Tabla1[[#This Row],[FECHA PROG.]]) -> 2018 | R326: =360-SUMIFS(Tabla1[HORAS],Tabla1[MÁQUINA],Tabla1[[#This Row],[MÁQUINA]],Tabla1[AÑO],Tabla1[[#This Row],[AÑO]],Tabla1[MES],Tabla1[[#This Row],[MES]]) -> 357.53333 | S326: =Tabla1[[#This Row],[HORAS DISPONIBLES]]/360 -> 0.99314815
A327: MAQUINA DE PINTURA GRACO XTREME 70/1 | B327: MQP011 | C327: =VLOOKUP(RANDBETWEEN(1,13),Tablas!$N$7:$O$19,2,0) -> TRACTORES | D327: PREVENTIVO | E327: MANTENIMIENTO MECANICO | F327: 107 | G327: DVARGAS | H327: 1420 | I327: =RANDBETWEEN(43101,43616) -> 43601 | J327: =IFERROR(IF(YEAR(Tabla1[[#This Row],[FECHA EJEC.]])>0,"CONFORME","STANDBY"),"PENDIENTE") -> PENDIENTE | K327: =IF(VLOOKUP(RANDBETWEEN(1,20),Tablas!$Q$6:$R$25,2,0)=0,"",Tabla1[[#This Row],[FECHA PROG.]]+VLOOKUP(RANDBETWEEN(1,20),Tablas!$Q$6:$R$25,2,0)) | L327: =IF(Tabla1[[#This Row],[FECHA EJEC.]]="","",TIME(RANDBETWEEN(9,15),RANDBETWEEN(10,40),0)) | M327: =IF(Tabla1[[#This Row],[FECHA EJEC.]]="","",Tabla1[[#This Row],[HORA INICIO]]+TIME(RANDBETWEEN(1,4),RANDBETWEEN(10,30),0)) | N327: =IF(Tabla1[[#This Row],[FECHA EJEC.]]="","",HOUR(Tabla1[[#This Row],[HORA TERMINO]]-Tabla1[[#This Row],[HORA INICIO]])+MINUTE(Tabla1[[#This Row],[HORA TERMINO]]-Tabla1[[#This Row],[HORA INICIO]])/60) | O327: =IF(AND(K327=I327,J327="CONFORME"),"FECHA CUMPLIDA",IF(J327="STAND BY","STAND BY",IF(J327=""," ",IF(Tabla1[[#This Row],[FECHA EJEC.]]="","PENDIENTE",CONCATENATE("RETRASO DE ",(K327-I327)," DIAS"))))) -> PENDIENTE | P327: =VLOOKUP(MONTH(Tabla1[[#This Row],[FECHA PROG.]]),Tabla2[],2,0) -> May | Q327: =YEAR(Tabla1[[#This Row],[FECHA PROG.]]) -> 2019 | R327: =360-SUMIFS(Tabla1[HORAS],Tabla1[MÁQUINA],Tabla1[[#This Row],[MÁQUINA]],Tabla1[AÑO],Tabla1[[#This Row],[AÑO]],Tabla1[MES],Tabla1[[#This Row],[MES]]) -> 356.73333 | S327: =Tabla1[[#This Row],[HORAS DISPONIBLES]]/360 -> 0.99092593
A328: GENERADOR DE CALOR CON CHASIS DE ALUMINIO | B328: CG-02 | C328: =VLOOKUP(RANDBETWEEN(1,13),Tablas!$N$7:$O$19,2,0) -> DRAGAS | E328: MANTENIMIENTO MECANICO-ELECTRICO | F328: 107 | G328: JMEJIA | H328: 1698 | I328: =RANDBETWEEN(43101,43616) -> 43364 | J328: =IFERROR(IF(YEAR(Tabla1[[#This Row],[FECHA EJEC.]])>0,"CONFORME","STANDBY"),"PENDIENTE") -> CONFORME | K328: =IF(VLOOKUP(RANDBETWEEN(1,20),Tablas!$Q$6:$R$25,2,0)=0,"",Tabla1[[#This Row],[FECHA PROG.]]+VLOOKUP(RANDBETWEEN(1,20),Tablas!$Q$6:$R$25,2,0)) -> 43364 | L328: =IF(Tabla1[[#This Row],[FECHA EJEC.]]="","",TIME(RANDBETWEEN(9,15),RANDBETWEEN(10,40),0)) -> 0.42569444 | M328: =IF(Tabla1[[#This Row],[FECHA EJEC.]]="","",Tabla1[[#This Row],[HORA INICIO]]+TIME(RANDBETWEEN(1,4),RANDBETWEEN(10,30),0)) -> 0.47986111 | N328: =IF(Tabla1[[#This Row],[FECHA EJEC.]]="","",HOUR(Tabla1[[#This Row],[HORA TERMINO]]-Tabla1[[#This Row],[HORA INICIO]])+MINUTE(Tabla1[[#This Row],[HORA TERMINO]]-Tabla1[[#This Row],[HORA INICIO]])/60) -> 1.3 | O328: =IF(AND(K328=I328,J328="CONFORME"),"FECHA CUMPLIDA",IF(J328="STAND BY","STAND BY",IF(J328=""," ",IF(Tabla1[[#This Row],[FECHA EJEC.]]="","PENDIENTE",CONCATENATE("RETRASO DE ",(K328-I328)," DIAS"))))) -> FECHA CUMPLIDA | P328: =VLOOKUP(MONTH(Tabla1[[#This Row],[FECHA PROG.]]),Tabla2[],2,0) -> Set | Q328: =YEAR(Tabla1[[#This Row],[FECHA PROG.]]) -> 2018 | R328: =360-SUMIFS(Tabla1[HORAS],Tabla1[MÁQUINA],Tabla1[[#This Row],[MÁQUINA]],Tabla1[AÑO],Tabla1[[#This Row],[AÑO]],Tabla1[MES],Tabla1[[#This Row],[MES]]) -> 351.53333 | S328: =Tabla1[[#This Row],[HORAS DISPONIBLES]]/360 -> 0.97648148
A329: MÁQUINA DE SOLDAR LINCOLN FLEXTEC 450 CÓDIGO 622 | B329: LINC-02 | C329: =VLOOKUP(RANDBETWEEN(1,13),Tablas!$N$7:$O$19,2,0) -> CISTERNAS DE AGUA | E329: MANTENIMIENTO ELECTRICO | F329: 201 | G329: LGRANDEZ | H329: 1911 | I329: =RANDBETWEEN(43101,43616) -> 43571 | J329: =IFERROR(IF(YEAR(Tabla1[[#This Row],[FECHA EJEC.]])>0,"CONFORME","STANDBY"),"PENDIENTE") -> PENDIENTE | K329: =IF(VLOOKUP(RANDBETWEEN(1,20),Tablas!$Q$6:$R$25,2,0)=0,"",Tabla1[[#This Row],[FECHA PROG.]]+VLOOKUP(RANDBETWEEN(1,20),Tablas!$Q$6:$R$25,2,0)) | L329: =IF(Tabla1[[#This Row],[FECHA EJEC.]]="","",TIME(RANDBETWEEN(9,15),RANDBETWEEN(10,40),0)) | M329: =IF(Tabla1[[#This Row],[FECHA EJEC.]]="","",Tabla1[[#This Row],[HORA INICIO]]+TIME(RANDBETWEEN(1,4),RANDBETWEEN(10,30),0)) | N329: =IF(Tabla1[[#This Row],[FECHA EJEC.]]="","",HOUR(Tabla1[[#This Row],[HORA TERMINO]]-Tabla1[[#This Row],[HORA INICIO]])+MINUTE(Tabla1[[#This Row],[HORA TERMINO]]-Tabla1[[#This Row],[HORA INICIO]])/60) | O329: =IF(AND(K329=I329,J329="CONFORME"),"FECHA CUMPLIDA",IF(J329="STAND BY","STAND BY",IF(J329=""," ",IF(Tabla1[[#This Row],[FECHA EJEC.]]="","PENDIENTE",CONCATENATE("RETRASO DE ",(K329-I329)," DIAS"))))) -> PENDIENTE | P329: =VLOOKUP(MONTH(Tabla1[[#This Row],[FECHA PROG.]]),Tabla2[],2,0) -> Abr | Q329: =YEAR(Tabla1[[#This Row],[FECHA PROG.]]) -> 2019 | R329: =360-SUMIFS(Tabla1[HORAS],Tabla1[MÁQUINA],Tabla1[[#This Row],[MÁQUINA]],Tabla1[AÑO],Tabla1[[#This Row],[AÑO]],Tabla1[MES],Tabla1[[#This Row],[MES]]) -> 360 | S329: =Tabla1[[#This Row],[HORAS DISPONIBLES]]/360 -> 1
...

Sheet Tablas
B2: TABLAS AUXILIARES
B4: 1. MESES | E4: 2. AREAS | G4: 3. MAQUINAS | J4: 4. TIPO DE MANTENIMIENTO | L4: 5. ESTATUS | O4: 6. TIPO DE MAQUINAS
B6: Id Mes | C6: Mes | E6: Areas solicitantes | G6: Maquina | H6: Cod Maquina | J6: Tipo Mantenimiento | L6: Estatus | O6: Tipo maquina | Q6: 1 | R6: 0
B7: 1 | C7: Ene | E7: PLANTA | G7: MAQUINA DE PINTURA GRACO XTREME 60/1 | H7: MQP009 | J7: MANTENIMIENTO MECANICO | L7: PENDIENTE | N7: 1 | O7: EXCAVADORA | Q7: 2 | R7: 0
B8: 2 | C8: Feb | E8: REDES | G8: PORTICO GRÚA 1 10 TM/N1 | H8: PORT.G-01 | J8: MANTENIMIENTO ELECTRICO | L8: STAND BY | N8: 2 | O8: RETROEXCAVADORA | Q8: 3 | R8: 0
B9: 3 | C9: Mar | E9: SSOMA | G9: COMPRESOR GA90 SERIE: API615855 | H9: COMPRESOR 3 | J9: MANTENIMIENTO MECANICO-ELECTRICO | L9: CONFORME | N9: 3 | O9: DRAGAS | Q9: 4 | R9: 0
B10: 4 | C10: Abr | E10: INGENIERIA | G10: MONTACARGAS 8 TON (DIESEL) | H10: MC-10 | J10: MANTENIMIENTO POR HOROMETRO | N10: 4 | O10: DRAGALINA | Q10: 5 | R10: 0
B11: 5 | C11: May | E11: PRODUCCION | G11: MAQUINA DE PINTURA GRACO XTREME 60/1 | H11: MQP010 | N11: 5 | O11: MOTOTRAILLA | Q11: 6 | R11: 1
B12: 6 | C12: Jun | E12: CALIDAD | G12: PORTICO GRÚA 2 10 TM/N2 | H12: PORT.G-02 | N12: 6 | O12: ESCREPA | Q12: 7 | R12: 2
B13: 7 | C13: Jul | E13: RRHH | G13: MÁQUINA GRANALLADORA | H13: GR-02 | N13: 7 | O13: PAVIMENTADORA | Q13: 8 | R13: 3
B14: 8 | C14: Ago | G14: MONTACARGAS 7 TON (DIESEL) | H14: MC-02 | N14: 8 | O14: COMPACTADORA | Q14: 9 | R14: 4
B15: 9 | C15: Set | G15: MAQUINA DE PINTURA GRACO XTREME 70/1 | H15: MQP011 | N15: 9 | O15: MOTONIVELADORA | Q15: 10 | R15: 1
B16: 10 | C16: Oct | G16: MÁQUINA GRANALLADORA | H16: GR-01 | N16: 10 | O16: CISTERNAS DE AGUA | Q16: 11 | R16: 2
B17: 11 | C17: Nov | G17: MONTACARGAS 4.5 TON (DIESEL) | H17: MC-04 | N17: 11 | O17: LAS VOLQUETAS | Q17: 12 | R17: 3
B18: 12 | C18: Dic | G18: MAQUINA DE PINTURA GRACO XTREME 70/1 | H18: MQP012 | N18: 12 | O18: TRACTORES | Q18: 13 | R18: 4
G19: MAQUINA GRANALLADORA MANUAL | H19: CSA-01 | N19: 13 | O19: CARGADORA | Q19: 14 | R19: 1
G20: COMPRESOR GA55 SERIE: API623639 | H20: COMPRESOR 6 | Q20: 15 | R20: 2
G21: MONTACARGAS 4.5 TON (DIESEL) | H21: MC-05 | Q21: 16 | R21: 3
G22: MAQUINA DE PINTURA GRACO XTREME 70/1 | H22: MQP013 | Q22: 17 | R22: 1
G23: COMPRESOR GA22 SERIE: API325785 | H23: COMPRESOR 5 | Q23: 18 | R23: 2
G24: MONTACARGAS 5 TON (GLP) 00000-37 | H24: MC-06 | Q24: 19 | R24: 3
G25: MAQUINA DE PINTURA GRACO XTREME 70/1 | H25: MQP014 | Q25: 20 | R25: 4
G26: COMPRESOR GA90 SERIE: AP1616505 | H26: COMPRESOR 4
G27: MONTACARGAS 5 TON (GLP) 00000-39 | H27: MC-07
G28: MAQUINA DE PINTURA GRACO XTREME 60/1 | H28: MQP015
G29: MONTACARGAS 7 TON (GLP) 00000-31 | H29: MC-08
G30: MONTACARGAS 7 TON (GLP) 00000-32 | H30: MC-09
G31: MAQUINA DE PINTURA GRACO XTREME 40/1 | H31: MQP001
G32: MAQUINA DE PINTURA GRACO XTREME 60/1 | H32: MQP002
G33: MAQUINA DE PINTURA GRACO XTREME 40/1 | H33: MQP003
G34: MAQUINA DE PINTURA GRACO XTREME 70/1 | H34: MQP004
G35: MAQUINA DE PINTURA GRACO XTREME 40/1 | H35: MQP005
G36: MAQUINA DE PINTURA GRACO XTREME 60/1 | H36: MQP006
G37: MAQUINA DE PINTURA GRACO XTREME 60/1 | H37: MQP007
... G90: PUNZADORA HOUGEN-OGURA MODELO 75006 CÓDIGO 883002 | H90: PUNZ-01
