Workbook
Name Areas: OFFSET(Tablas!$E$6,1,0,COUNTA(Tablas!$E$7:$E$5000),1)
Name Estatus: OFFSET(Tablas!$L$6,1,0,COUNTA(Tablas!$L$7:$L$4990),1)
Name Maquinas: OFFSET(Tablas!$G$6,1,0,COUNTA(Tablas!$G$7:$G$5077),1)
Name SegmentaciónDeDatos_AÑO: #N/A
Name SegmentaciónDeDatos_MES: #N/A
Name SegmentaciónDeDatos_RESPONSABLE: #N/A
Name SegmentaciónDeDatos_TIPO_DE_MAQUINA: #N/A
Name Tipo_Mantenimiento: OFFSET(Tablas!$J$6,1,0,COUNTA(Tablas!$J$7:$J$4992),1)

Sheet Dashboard 1

Sheet Dashboard 2

Sheet Pivots
A3: OBSERVACIÓN | B3: Nro eventos | D3: Nro eventos | F3: OBSERVACIÓN | O3: TIPO DE MAQUINA | P3: % DISPONIB MAQ | R3: AÑO | S3: MES | T3: % DISPONIB MAQ | V3: RESPONSABLE | W3: % DISPONIB MAQ | Y3: MÁQUINA | Z3: % DISPONIB MAQ
A4: FECHA CUMPLIDA | B4: 300 | D4: AÑO | E4: MES | F4: FECHA CUMPLIDA | G4: PENDIENTE | H4: RETRASO DE 2 DIAS | I4: RETRASO DE 3 DIAS | J4: RETRASO DE 4 DIAS | K4: RETRASO DE 1 DIAS | L4: Total general | O4: CARGADORA | P4: 0.95235604 | R4: 2018 | S4: Ene | T4: 0.9319674 | V4: ABLAS | W4: 0.97859714 | Y4: MÁQUINA GRANALLADORA | Z4: 0.87715963
A5: PENDIENTE | B5: 393 | D5: 2018 | E5: Ene | F5: 16 | G5: 30 | H5: 16 | I5: 18 | J5: 11 | K5: 28 | L5: 119 | O5: CISTERNAS DE AGUA | P5: 0.95730209 | S5: Feb | T5: 0.96530864 | V5: DVARGAS | W5: 0.96180484 | Y5: MAQUINA GRANALLADORA MANUAL | Z5: 0.95077971
A6: RETRASO DE 2 DIAS | B6: 256 | E6: Feb | F6: 20 | G6: 14 | H6: 11 | I6: 9 | J6: 12 | K6: 21 | L6: 87 | O6: COMPACTADORA | P6: 0.95202778 | S6: Mar | T6: 0.95882224 | V6: EAROSTE | W6: 0.91256138 | Y6: GENERADOR DE CALOR CON CHASIS DE ALUMINIO | Z6: 0.95878059
A7: RETRASO DE 3 DIAS | B7: 256 | E7: Mar | F7: 10 | G7: 25 | H7: 10 | I7: 21 | J7: 8 | K7: 17 | L7: 91 | O7: DRAGALINA | P7: 0.95571171 | S7: Abr | T7: 0.95346654 | V7: JMEJIA | W7: 0.96558561 | Y7: MAQUINA DE PINTURA GRACO XTREME 60/1 | Z7: 0.9591455
A8: RETRASO DE 4 DIAS | B8: 190 | E8: Abr | F8: 23 | G8: 28 | H8: 11 | I8: 16 | J8: 13 | K8: 15 | L8: 106 | O8: DRAGAS | P8: 0.95756543 | S8: May | T8: 0.97219702 | V8: LGRANDEZ | W8: 0.95254577 | Y8: MONTACARGAS 4.5 TON (DIESEL) | Z8: 0.96049729
A9: RETRASO DE 1 DIAS | B9: 262 | E9: May | F9: 17 | G9: 32 | H9: 8 | I9: 11 | J9: 11 | K9: 11 | L9: 90 | O9: ESCREPA | P9: 0.95787564 | S9: Jun | T9: 0.96947203 | V9: RPALOMINO | W9: 0.97396991 | Y9: MAQUINA DE PINTURA GRACO XTREME 70/1 | Z9: 0.9661785
A10: Total general | B10: 1657 | E10: Jun | F10: 23 | G10: 20 | H10: 13 | I10: 13 | J10: 9 | K10: 16 | L10: 94 | O10: EXCAVADORA | P10: 0.95754935 | S10: Jul | T10: 0.96515636 | V10: Total general | W10: 0.95632563 | Y10: PORTICO GRÚA 1 10 TM/N1 | Z10: 0.97361191
E11: Jul | F11: 19 | G11: 24 | H11: 20 | I11: 15 | J11: 14 | K11: 14 | L11: 106 | O11: LAS VOLQUETAS | P11: 0.96109343 | S11: Ago | T11: 0.95955655 | Y11: COMPRESOR GA90 SERIE: API615855 | Z11: 0.97547509
E12: Ago | F12: 11 | G12: 31 | H12: 18 | I12: 19 | J12: 8 | K12: 15 | L12: 102 | O12: MOTONIVELADORA | P12: 0.95786501 | S12: Set | T12: 0.95120748 | Y12: MAQUINA GRANALLADORA MANUAL | Z12: 0.97926955
E13: Set | F13: 22 | G13: 26 | H13: 9 | I13: 16 | J13: 12 | K13: 13 | L13: 98 | O13: MOTOTRAILLA | P13: 0.96289542 | S13: Oct | T13: 0.93971296 | Y13: MAQUINA DE PINTURA GRACO XTREME 40/1 | Z13: 0.98009549
E14: Oct | F14: 19 | G14: 28 | H14: 20 | I14: 9 | J14: 12 | K14: 12 | L14: 100 | O14: PAVIMENTADORA | P14: 0.95365258 | S14: Nov | T14: 0.96642974 | Y14: COMPRESOR GA90 SERIE: AP1616505 | Z14: 0.98058943
E15: Nov | F15: 15 | G15: 18 | H15: 16 | I15: 14 | J15: 12 | K15: 10 | L15: 85 | O15: RETROEXCAVADORA | P15: 0.95089245 | S15: Dic | T15: 0.96396832 | Y15: GENERADOR DE CALOR CON CHASIS DE ACERO INOXIDABLE | Z15: 0.9806518
E16: Dic | F16: 21 | G16: 22 | H16: 16 | I16: 15 | J16: 13 | K16: 15 | L16: 102 | O16: TRACTORES | P16: 0.95621868 | R16: Total 2018 | T16: 0.95735307 | Y16: MONTACARGAS 7 TON (DIESEL) | Z16: 0.98146605
D17: Total 2018 | F17: 216 | G17: 298 | H17: 168 | I17: 176 | J17: 135 | K17: 187 | L17: 1180 | O17: Total general | P17: 0.95632563 | R17: 2019 | S17: Ene | T17: 0.96103009 | Y17: COMPRESOR GA55 SERIE: API623639 | Z17: 0.98161908
D18: 2019 | E18: Ene | F18: 17 | G18: 19 | H18: 16 | I18: 14 | J18: 8 | K18: 18 | L18: 92 | S18: Feb | T18: 0.9606185 | Y18: MONTACARGAS 7 TON (GLP) 00000-31 | Z18: 0.98214506
E19: Feb | F19: 17 | G19: 14 | H19: 15 | I19: 16 | J19: 15 | K19: 12 | L19: 89 | S19: Mar | T19: 0.95409427 | Y19: TABLERO ELÉCTRICO NAVE 01 - ILUMINACIÓN 220 V | Z19: 0.98224868
E20: Mar | F20: 13 | G20: 21 | H20: 18 | I20: 16 | J20: 13 | K20: 13 | L20: 94 | S20: Abr | T20: 0.93902881 | Y20: COMPRESOR GA22 SERIE: API325785 | Z20: 0.98240741
E21: Abr | F21: 14 | G21: 16 | H21: 20 | I21: 18 | J21: 11 | K21: 11 | L21: 90 | S21: May | T21: 0.95399719 | Y21: MONTACARGAS 7 TON (GLP) 00000-32 | Z21: 0.98452107
E22: May | F22: 23 | G22: 25 | H22: 19 | I22: 16 | J22: 8 | K22: 21 | L22: 112 | R22: Total 2019 | T22: 0.95378397 | Y22: PORTICO GRÚA 2 10 TM/N2 | Z22: 0.98480903
D23: Total 2019 | F23: 84 | G23: 95 | H23: 88 | I23: 80 | J23: 55 | K23: 75 | L23: 477 | R23: Total general | T23: 0.95632563 | Y23: TABLERO ELÉCTRICO MANTENIMIENTO 220 V | Z23: 0.98493634
D24: Total general | F24: 300 | G24: 393 | H24: 256 | I24: 256 | J24: 190 | K24: 262 | L24: 1657 | Y24: TABLERO ELÉCTRICO BOMBA DE AGUA 220 V | Z24: 0.98586806
Y25: MONTACARGAS 5 TON (GLP) 00000-39 | Z25: 0.98617593
Y26: MONTACARGAS 5 TON (GLP) 00000-37 | Z26: 0.9862963
Y27: HORNO MOVIL | Z27: 0.98662423
Y28: CAÑA DE OXICORTE UNIWELD CÓDIGO 450 | Z28: 0.98675926
Y29: TABLERO ELÉCTRICO POZO PROFUNDO - ALIMENTACIÓN 220V | Z29: 0.98732639
Y30: MÁQUINA DE SOLDAR LINCOLN FLEXTEC 450 CÓDIGO 622 | Z30: 0.98737434
Y31: PUNZADORA HOUGEN-OGURA MODELO 75006 CÓDIGO 883002 | Z31: 0.9876331
Y32: TABLERO ELÉCTRICO MODIFICACIONES - ALIMENTACIÓN 220 V | Z32: 0.98767361
Y33: TABLERO ELÉCTRICO MODIFICACIONES - COMPRESORA 220 V | Z33: 0.98811921
Y34: PRENSA HIDRAULICA CORTADORA DE TUBOS | Z34: 0.98838735
Y35: TABLERO ELÉCTRICO NAVE 6, 7, 8 Y 9 - ILUMINACIÓN 220 V | Z35: 0.98845238
Y36: TABLERO ELÉCTRICO OFICINAS 220 V | Z36: 0.98893519
A37: Nro eventos | B37: OBSERVACIÓN | Y37: MONTACARGAS 8 TON (DIESEL) | Z37: 0.98921914
A38: TIPO DE MAQUINA | B38: FECHA CUMPLIDA | C38: PENDIENTE | D38: RETRASO DE 2 DIAS | E38: RETRASO DE 3 DIAS | F38: RETRASO DE 4 DIAS | G38: RETRASO DE 1 DIAS | H38: Total general | Y38: TABLERO ELÉCTRICO NAVE 02 - ILUMINACIÓN 220 V | Z38: 0.99003968
A39: CARGADORA | B39: 19 | C39: 36 | D39: 23 | E39: 18 | F39: 19 | G39: 22 | H39: 137 | Y39: TABLERO ELÉCTRICO CSA-01 - ALIMENTACIÓN 440 V | Z39: 0.9900463
A40: CISTERNAS DE AGUA | B40: 29 | C40: 27 | D40: 17 | E40: 26 | F40: 16 | G40: 16 | H40: 131 | Y40: TABLERO ELÉCTRICO MODIFICACIONES - PRENSA CORTADORA 440 V | Z40: 0.99031829
A41: COMPACTADORA | B41: 30 | C41: 26 | D41: 25 | E41: 17 | F41: 21 | G41: 26 | H41: 145 | Y41: CAÑA DE OXICORTE UNIWELD CÓDIGO 335 | Z41: 0.99068519
A42: DRAGALINA | B42: 24 | C42: 25 | D42: 16 | E42: 23 | F42: 12 | G42: 26 | H42: 126 | Y42: MÁQUINA DE SOLDAR LINCOLN FLEXTEC 500 CÓDIGO 1912 | Z42: 0.99123016
...

Sheet Data
A1: MÁQUINA | B1: CODIGO | C1: TIPO DE MAQUINA | D1: TIPO DE MANTTO | E1: DESCRIPCIÓN | F1: C.C. | G1: RESPONSABLE | H1: ROL | I1: FECHA PROG. | J1: STATUS | K1: FECHA EJEC. | L1: HORA INICIO | M1: HORA TERMINO | N1: HORAS | O1: OBSERVACIÓN | P1: MES | Q1: AÑO | R1: HORAS DISPONIBLES | S1: DISPONIBILIDAD MAQUINA
A2: MAQUINA DE PINTURA GRACO XTREME 60/1 | B2: MQP009 | C2: =VLOOKUP(RANDBETWEEN(1,13),Tablas!$N$7:$O$19,2,0) -> LAS VOLQUETAS | D2: PREVENTIVO | E2: MANTENIMIENTO MECANICO | F2: 107 | G2: DVARGAS | H2: 1420 | I2: =RANDBETWEEN(43101,43616) -> 43530 | J2: =IFERROR(IF(YEAR(Tabla1[[#This Row],[FECHA EJEC.]])>0,"CONFORME","STANDBY"),"PENDIENTE") -> CONFORME | K2: =IF(VLOOKUP(RANDBETWEEN(1,20),Tablas!$Q$6:$R$25,2,0)=0,"",Tabla1[[#This Row],[FECHA PROG.]]+VLOOKUP(RANDBETWEEN(1,20),Tablas!$Q$6:$R$25,2,0)) -> 43530 | L2: =IF(Tabla1[[#This Row],[FECHA EJEC.]]="","",TIME(RANDBETWEEN(9,15),RANDBETWEEN(10,40),0)) -> 0.51805556 | M2: =IF(Tabla1[[#This Row],[FECHA EJEC.]]="","",Tabla1[[#This Row],[HORA INICIO]]+TIME(RANDBETWEEN(1,4),RANDBETWEEN(10,30),0)) -> 0.57361111 | N2: =IF(Tabla1[[#This Row],[FECHA EJEC.]]="","",HOUR(Tabla1[[#This Row],[HORA TERMINO]]-Tabla1[[#This Row],[HORA INICIO]])+MINUTE(Tabla1[[#This Row],[HORA TERMINO]]-Tabla1[[#This Row],[HORA INICIO]])/60) -> 1.3333333 | O2: =IF(AND(K2=I2,J2="CONFORME"),"FECHA CUMPLIDA",IF(J2="STAND BY","STAND BY",IF(J2=""," ",IF(Tabla1[[#This Row],[FECHA EJEC.]]="","PENDIENTE",CONCATENATE("RETRASO DE ",(K2-I2)," DIAS"))))) -> FECHA CUMPLIDA | P2: =VLOOKUP(MONTH(Tabla1[[#This Row],[FECHA PROG.]]),Tabla2[],2,0) -> Mar | Q2: =YEAR(Tabla1[[#This Row],[FECHA PROG.]]) -> 2019 | R2: =360-SUMIFS(Tabla1[HORAS],Tabla1[MÁQUINA],Tabla1[[#This Row],[MÁQUINA]],Tabla1[AÑO],Tabla1[[#This Row],[AÑO]],Tabla1[MES],Tabla1[[#This Row],[MES]]) -> 346.93333 | S2: =Tabla1[[#This Row],[HORAS DISPONIBLES]]/360 -> 0.9637037
A3: PORTICO GRÚA 1 10 TM/N1 | B3: PORT.G-01 | C3: =VLOOKUP(RANDBETWEEN(1,13),Tablas!$N$7:$O$19,2,0) -> COMPACTADORA | D3: PREVENTIVO | E3: MANTENIMIENTO MECANICO | F3: 107 | G3: DVARGAS | H3: 1420 | I3: =RANDBETWEEN(43101,43616) -> 43507 | J3: =IFERROR(IF(YEAR(Tabla1[[#This Row],[FECHA EJEC.]])>0,"CONFORME","STANDBY"),"PENDIENTE") -> CONFORME | K3: =IF(VLOOKUP(RANDBETWEEN(1,20),Tablas!$Q$6:$R$25,2,0)=0,"",Tabla1[[#This Row],[FECHA PROG.]]+VLOOKUP(RANDBETWEEN(1,20),Tablas!$Q$6:$R$25,2,0)) -> 43509 | L3: =IF(Tabla1[[#This Row],[FECHA EJEC.]]="","",TIME(RANDBETWEEN(9,15),RANDBETWEEN(10,40),0)) -> 0.42777778 | M3: =IF(Tabla1[[#This Row],[FECHA EJEC.]]="","",Tabla1[[#This Row],[HORA INICIO]]+TIME(RANDBETWEEN(1,4),RANDBETWEEN(10,30),0)) -> 0.56041667 | N3: =IF(Tabla1[[#This Row],[FECHA EJEC.]]="","",HOUR(Tabla1[[#This Row],[HORA TERMINO]]-Tabla1[[#This Row],[HORA INICIO]])+MINUTE(Tabla1[[#This Row],[HORA TERMINO]]-Tabla1[[#This Row],[HORA INICIO]])/60) -> 3.1833333 | O3: =IF(AND(K3=I3,J3="CONFORME"),"FECHA CUMPLIDA",IF(J3="STAND BY","STAND BY",IF(J3=""," ",IF(Tabla1[[#This Row],[FECHA EJEC.]]="","PENDIENTE",CONCATENATE("RETRASO DE ",(K3-I3)," DIAS"))))) -> RETRASO DE 2 DIAS | P3: =VLOOKUP(MONTH(Tabla1[[#This Row],[FECHA PROG.]]),Tabla2[],2,0) -> Feb | Q3: =YEAR(Tabla1[[#This Row],[FECHA PROG.]]) -> 2019 | R3: =360-SUMIFS(Tabla1[HORAS],Tabla1[MÁQUINA],Tabla1[[#This Row],[MÁQUINA]],Tabla1[AÑO],Tabla1[[#This Row],[AÑO]],Tabla1[MES],Tabla1[[#This Row],[MES]]) -> 343.53333 | S3: =Tabla1[[#This Row],[HORAS DISPONIBLES]]/360 -> 0.95425926
A4: PORTICO GRÚA 1 10 TM/N1 | B4: PORT.G-01 | C4: =VLOOKUP(RANDBETWEEN(1,13),Tablas!$N$7:$O$19,2,0) -> COMPACTADORA | D4: PREVENTIVO | E4: MANTENIMIENTO ELECTRICO | F4: 107 | G4: JMEJIA | H4: 1698 | I4: =RANDBETWEEN(43101,43616) -> 43565 | J4: =IFERROR(IF(YEAR(Tabla1[[#This Row],[FECHA EJEC.]])>0,"CONFORME","STANDBY"),"PENDIENTE") -> CONFORME | K4: =IF(VLOOKUP(RANDBETWEEN(1,20),Tablas!$Q$6:$R$25,2,0)=0,"",Tabla1[[#This Row],[FECHA PROG.]]+VLOOKUP(RANDBETWEEN(1,20),Tablas!$Q$6:$R$25,2,0)) -> 43565 | L4: =IF(Tabla1[[#This Row],[FECHA EJEC.]]="","",TIME(RANDBETWEEN(9,15),RANDBETWEEN(10,40),0)) -> 0.43125 | M4: =IF(Tabla1[[#This Row],[FECHA EJEC.]]="","",Tabla1[[#This Row],[HORA INICIO]]+TIME(RANDBETWEEN(1,4),RANDBETWEEN(10,30),0)) -> 0.60625 | N4: =IF(Tabla1[[#This Row],[FECHA EJEC.]]="","",HOUR(Tabla1[[#This Row],[HORA TERMINO]]-Tabla1[[#This Row],[HORA INICIO]])+MINUTE(Tabla1[[#This Row],[HORA TERMINO]]-Tabla1[[#This Row],[HORA INICIO]])/60) -> 4.2 | O4: =IF(AND(K4=I4,J4="CONFORME"),"FECHA CUMPLIDA",IF(J4="STAND BY","STAND BY",IF(J4=""," ",IF(Tabla1[[#This Row],[FECHA EJEC.]]="","PENDIENTE",CONCATENATE("RETRASO DE ",(K4-I4)," DIAS"))))) -> FECHA CUMPLIDA | P4: =VLOOKUP(MONTH(Tabla1[[#This Row],[FECHA PROG.]]),Tabla2[],2,0) -> Abr | Q4: =YEAR(Tabla1[[#This Row],[FECHA PROG.]]) -> 2019 | R4: =360-SUMIFS(Tabla1[HORAS],Tabla1[MÁQUINA],Tabla1[[#This Row],[MÁQUINA]],Tabla1[AÑO],Tabla1[[#This Row],[AÑO]],Tabla1[MES],Tabla1[[#This Row],[MES]]) -> 348.06667 | S4: =Tabla1[[#This Row],[HORAS DISPONIBLES]]/360 -> 0.96685185
A5: COMPRESOR GA90 SERIE: API615855 | B5: COMPRESOR 3 | C5: =VLOOKUP(RANDBETWEEN(1,13),Tablas!$N$7:$O$19,2,0) -> MOTONIVELADORA | D5: PREVENTIVO | E5: MANTENIMIENTO MECANICO-ELECTRICO | F5: 106 | G5: JMEJIA | H5: 1698 | I5: =RANDBETWEEN(43101,43616) -> 43492 | J5: =IFERROR(IF(YEAR(Tabla1[[#This Row],[FECHA EJEC.]])>0,"CONFORME","STANDBY"),"PENDIENTE") -> PENDIENTE | K5: =IF(VLOOKUP(RANDBETWEEN(1,20),Tablas!$Q$6:$R$25,2,0)=0,"",Tabla1[[#This Row],[FECHA PROG.]]+VLOOKUP(RANDBETWEEN(1,20),Tablas!$Q$6:$R$25,2,0)) | L5: =IF(Tabla1[[#This Row],[FECHA EJEC.]]="","",TIME(RANDBETWEEN(9,15),RANDBETWEEN(10,40),0)) | M5: =IF(Tabla1[[#This Row],[FECHA EJEC.]]="","",Tabla1[[#This Row],[HORA INICIO]]+TIME(RANDBETWEEN(1,4),RANDBETWEEN(10,30),0)) | N5: =IF(Tabla1[[#This Row],[FECHA EJEC.]]="","",HOUR(Tabla1[[#This Row],[HORA TERMINO]]-Tabla1[[#This Row],[HORA INICIO]])+MINUTE(Tabla1[[#This Row],[HORA TERMINO]]-Tabla1[[#This Row],[HORA INICIO]])/60) | O5: =IF(AND(K5=I5,J5="CONFORME"),"FECHA CUMPLIDA",IF(J5="STAND BY","STAND BY",IF(J5=""," ",IF(Tabla1[[#This Row],[FECHA EJEC.]]="","PENDIENTE",CONCATENATE("RETRASO DE ",(K5-I5)," DIAS"))))) -> PENDIENTE | P5: =VLOOKUP(MONTH(Tabla1[[#This Row],[FECHA PROG.]]),Tabla2[],2,0) -> Ene | Q5: =YEAR(Tabla1[[#This Row],[FECHA PROG.]]) -> 2019 | R5: =360-SUMIFS(Tabla1[HORAS],Tabla1[MÁQUINA],Tabla1[[#This Row],[MÁQUINA]],Tabla1[AÑO],Tabla1[[#This Row],[AÑO]],Tabla1[MES],Tabla1[[#This Row],[MES]]) -> 348.7 | S5: =Tabla1[[#This Row],[HORAS DISPONIBLES]]/360 -> 0.96861111
A6: MONTACARGAS 8 TON (DIESEL) | B6: MC-10 | C6: =VLOOKUP(RANDBETWEEN(1,13),Tablas!$N$7:$O$19,2,0) -> MOTOTRAILLA | D6: PREVENTIVO | E6: MANTENIMIENTO POR HOROMETRO | F6: 201 | G6: ABLAS | H6: 1168 | I6: =RANDBETWEEN(43101,43616) -> 43219 | J6: =IFERROR(IF(YEAR(Tabla1[[#This Row],[FECHA EJEC.]])>0,"CONFORME","STANDBY"),"PENDIENTE") -> PENDIENTE | K6: =IF(VLOOKUP(RANDBETWEEN(1,20),Tablas!$Q$6:$R$25,2,0)=0,"",Tabla1[[#This Row],[FECHA PROG.]]+VLOOKUP(RANDBETWEEN(1,20),Tablas!$Q$6:$R$25,2,0)) | L6: =IF(Tabla1[[#This Row],[FECHA EJEC.]]="","",TIME(RANDBETWEEN(9,15),RANDBETWEEN(10,40),0)) | M6: =IF(Tabla1[[#This Row],[FECHA EJEC.]]="","",Tabla1[[#This Row],[HORA INICIO]]+TIME(RANDBETWEEN(1,4),RANDBETWEEN(10,30),0)) | N6: =IF(Tabla1[[#This Row],[FECHA EJEC.]]="","",HOUR(Tabla1[[#This Row],[HORA TERMINO]]-Tabla1[[#This Row],[HORA INICIO]])+MINUTE(Tabla1[[#This Row],[HORA TERMINO]]-Tabla1[[#This Row],[HORA INICIO]])/60) | O6: =IF(AND(K6=I6,J6="CONFORME"),"FECHA CUMPLIDA",IF(J6="STAND BY","STAND BY",IF(J6=""," ",IF(Tabla1[[#This Row],[FECHA EJEC.]]="","PENDIENTE",CONCATENATE("RETRASO DE ",(K6-I6)," DIAS"))))) -> PENDIENTE | P6: =VLOOKUP(MONTH(Tabla1[[#This Row],[FECHA PROG.]]),Tabla2[],2,0) -> Abr | Q6: =YEAR(Tabla1[[#This Row],[FECHA PROG.]]) -> 2018 | R6: =360-SUMIFS(Tabla1[HORAS],Tabla1[MÁQUINA],Tabla1[[#This Row],[MÁQUINA]],Tabla1[AÑO],Tabla1[[#This Row],[AÑO]],Tabla1[MES],Tabla1[[#This Row],[MES]]) -> 360 | S6: =Tabla1[[#This Row],[HORAS DISPONIBLES]]/360 -> 1
A7: MAQUINA DE PINTURA GRACO XTREME 60/1 | B7: MQP010 | C7: =VLOOKUP(RANDBETWEEN(1,13),Tablas!$N$7:$O$19,2,0) -> RETROEXCAVADORA | D7: PREVENTIVO | E7: MANTENIMIENTO MECANICO | F7: 107 | G7: DVARGAS | H7: 1420 | I7: =RANDBETWEEN(43101,43616) -> 43480 | J7: =IFERROR(IF(YEAR(Tabla1[[#This Row],[FECHA EJEC.]])>0,"CONFORME","STANDBY"),"PENDIENTE") -> CONFORME | K7: =IF(VLOOKUP(RANDBETWEEN(1,20),Tablas!$Q$6:$R$25,2,0)=0,"",Tabla1[[#This Row],[FECHA PROG.]]+VLOOKUP(RANDBETWEEN(1,20),Tablas!$Q$6:$R$25,2,0)) -> 43482 | L7: =IF(Tabla1[[#This Row],[FECHA EJEC.]]="","",TIME(RANDBETWEEN(9,15),RANDBETWEEN(10,40),0)) -> 0.60347222 | M7: =IF(Tabla1[[#This Row],[FECHA EJEC.]]="","",Tabla1[[#This Row],[HORA INICIO]]+TIME(RANDBETWEEN(1,4),RANDBETWEEN(10,30),0)) -> 0.78611111 | N7: =IF(Tabla1[[#This Row],[FECHA EJEC.]]="","",HOUR(Tabla1[[#This Row],[HORA TERMINO]]-Tabla1[[#This Row],[HORA INICIO]])+MINUTE(Tabla1[[#This Row],[HORA TERMINO]]-Tabla1[[#This Row],[HORA INICIO]])/60) -> 4.3833333 | O7: =IF(AND(K7=I7,J7="CONFORME"),"FECHA CUMPLIDA",IF(J7="STAND BY","STAND BY",IF(J7=""," ",IF(Tabla1[[#This Row],[FECHA EJEC.]]="","PENDIENTE",CONCATENATE("RETRASO DE ",(K7-I7)," DIAS"))))) -> RETRASO DE 2 DIAS | P7: =VLOOKUP(MONTH(Tabla1[[#This Row],[FECHA PROG.]]),Tabla2[],2,0) -> Ene | Q7: =YEAR(Tabla1[[#This Row],[FECHA PROG.]]) -> 2019 | R7: =360-SUMIFS(Tabla1[HORAS],Tabla1[MÁQUINA],Tabla1[[#This Row],[MÁQUINA]],Tabla1[AÑO],Tabla1[[#This Row],[AÑO]],Tabla1[MES],Tabla1[[#This Row],[MES]]) -> 341.71667 | S7: =Tabla1[[#This Row],[HORAS DISPONIBLES]]/360 -> 0.94921296
A8: PORTICO GRÚA 2 10 TM/N2 | B8: PORT.G-02 | C8: =VLOOKUP(RANDBETWEEN(1,13),Tablas!$N$7:$O$19,2,0) -> LAS VOLQUETAS | D8: PREVENTIVO | E8: MANTENIMIENTO MECANICO | F8: 107 | G8: DVARGAS | H8: 1420 | I8: =RANDBETWEEN(43101,43616) -> 43255 | J8: =IFERROR(IF(YEAR(Tabla1[[#This Row],[FECHA EJEC.]])>0,"CONFORME","STANDBY"),"PENDIENTE") -> CONFORME | K8: =IF(VLOOKUP(RANDBETWEEN(1,20),Tablas!$Q$6:$R$25,2,0)=0,"",Tabla1[[#This Row],[FECHA PROG.]]+VLOOKUP(RANDBETWEEN(1,20),Tablas!$Q$6:$R$25,2,0)) -> 43258 | L8: =IF(Tabla1[[#This Row],[FECHA EJEC.]]="","",TIME(RANDBETWEEN(9,15),RANDBETWEEN(10,40),0)) -> 0.50902778 | M8: =IF(Tabla1[[#This Row],[FECHA EJEC.]]="","",Tabla1[[#This Row],[HORA INICIO]]+TIME(RANDBETWEEN(1,4),RANDBETWEEN(10,30),0)) -> 0.69513889 | N8: =IF(Tabla1[[#This Row],[FECHA EJEC.]]="","",HOUR(Tabla1[[#This Row],[HORA TERMINO]]-Tabla1[[#This Row],[HORA INICIO]])+MINUTE(Tabla1[[#This Row],[HORA TERMINO]]-Tabla1[[#This Row],[HORA INICIO]])/60) -> 4.4666667 | O8: =IF(AND(K8=I8,J8="CONFORME"),"FECHA CUMPLIDA",IF(J8="STAND BY","STAND BY",IF(J8=""," ",IF(Tabla1[[#This Row],[FECHA EJEC.]]="","PENDIENTE",CONCATENATE("RETRASO DE ",(K8-I8)," DIAS"))))) -> RETRASO DE 3 DIAS | P8: =VLOOKUP(MONTH(Tabla1[[#This Row],[FECHA PROG.]]),Tabla2[],2,0) -> Jun | Q8: =YEAR(Tabla1[[#This Row],[FECHA PROG.]]) -> 2018 | R8: =360-SUMIFS(Tabla1[HORAS],Tabla1[MÁQUINA],Tabla1[[#This Row],[MÁQUINA]],Tabla1[AÑO],Tabla1[[#This Row],[AÑO]],Tabla1[MES],Tabla1[[#This Row],[MES]]) -> 355.53333 | S8: =Tabla1[[#This Row],[HORAS DISPONIBLES]]/360 -> 0.98759259
A9: PORTICO GRÚA 2 10 TM/N2 | B9: PORT.G-02 | C9: =VLOOKUP(RANDBETWEEN(1,13),Tablas!$N$7:$O$19,2,0) -> EXCAVADORA | D9: PREVENTIVO | E9: MANTENIMIENTO ELECTRICO | F9: 107 | G9: JMEJIA | H9: 1698 | I9: =RANDBETWEEN(43101,43616) -> 43152 | J9: =IFERROR(IF(YEAR(Tabla1[[#This Row],[FECHA EJEC.]])>0,"CONFORME","STANDBY"),"PENDIENTE") -> CONFORME | K9: =IF(VLOOKUP(RANDBETWEEN(1,20),Tablas!$Q$6:$R$25,2,0)=0,"",Tabla1[[#This Row],[FECHA PROG.]]+VLOOKUP(RANDBETWEEN(1,20),Tablas!$Q$6:$R$25,2,0)) -> 43155 | L9: =IF(Tabla1[[#This Row],[FECHA EJEC.]]="","",TIME(RANDBETWEEN(9,15),RANDBETWEEN(10,40),0)) -> 0.40208333 | M9: =IF(Tabla1[[#This Row],[FECHA EJEC.]]="","",Tabla1[[#This Row],[HORA INICIO]]+TIME(RANDBETWEEN(1,4),RANDBETWEEN(10,30),0)) -> 0.45763889 | N9: =IF(Tabla1[[#This Row],[FECHA EJEC.]]="","",HOUR(Tabla1[[#This Row],[HORA TERMINO]]-Tabla1[[#This Row],[HORA INICIO]])+MINUTE(Tabla1[[#This Row],[HORA TERMINO]]-Tabla1[[#This Row],[HORA INICIO]])/60) -> 1.3333333 | O9: =IF(AND(K9=I9,J9="CONFORME"),"FECHA CUMPLIDA",IF(J9="STAND BY","STAND BY",IF(J9=""," ",IF(Tabla1[[#This Row],[FECHA EJEC.]]="","PENDIENTE",CONCATENATE("RETRASO DE ",(K9-I9)," DIAS"))))) -> RETRASO DE 3 DIAS | P9: =VLOOKUP(MONTH(Tabla1[[#This Row],[FECHA PROG.]]),Tabla2[],2,0) -> Feb | Q9: =YEAR(Tabla1[[#This Row],[FECHA PROG.]]) -> 2018 | R9: =360-SUMIFS(Tabla1[HORAS],Tabla1[MÁQUINA],Tabla1[[#This Row],[MÁQUINA]],Tabla1[AÑO],Tabla1[[#This Row],[AÑO]],Tabla1[MES],Tabla1[[#This Row],[MES]]) -> 355.25 | S9: =Tabla1[[#This Row],[HORAS DISPONIBLES]]/360 -> 0.98680556
A10: MÁQUINA GRANALLADORA | B10: GR-02 | C10: =VLOOKUP(RANDBETWEEN(1,13),Tablas!$N$7:$O$19,2,0) -> EXCAVADORA | D10: PREVENTIVO | E10: MANTENIMIENTO MECANICO | F10: 106 | G10: EAROSTE | H10: 908 | I10: =RANDBETWEEN(43101,43616) -> 43306 | J10: =IFERROR(IF(YEAR(Tabla1[[#This Row],[FECHA EJEC.]])>0,"CONFORME","STANDBY"),"PENDIENTE") -> CONFORME | K10: =IF(VLOOKUP(RANDBETWEEN(1,20),Tablas!$Q$6:$R$25,2,0)=0,"",Tabla1[[#This Row],[FECHA PROG.]]+VLOOKUP(RANDBETWEEN(1,20),Tablas!$Q$6:$R$25,2,0)) -> 43308 | L10: =IF(Tabla1[[#This Row],[FECHA EJEC.]]="","",TIME(RANDBETWEEN(9,15),RANDBETWEEN(10,40),0)) -> 0.65277778 | M10: =IF(Tabla1[[#This Row],[FECHA EJEC.]]="","",Tabla1[[#This Row],[HORA INICIO]]+TIME(RANDBETWEEN(1,4),RANDBETWEEN(10,30),0)) -> 0.78680556 | N10: =IF(Tabla1[[#This Row],[FECHA EJEC.]]="","",HOUR(Tabla1[[#This Row],[HORA TERMINO]]-Tabla1[[#This Row],[HORA INICIO]])+MINUTE(Tabla1[[#This Row],[HORA TERMINO]]-Tabla1[[#This Row],[HORA INICIO]])/60) -> 3.2166667 | O10: =IF(AND(K10=I10,J10="CONFORME"),"FECHA CUMPLIDA",IF(J10="STAND BY","STAND BY",IF(J10=""," ",IF(Tabla1[[#This Row],[FECHA EJEC.]]="","PENDIENTE",CONCATENATE("RETRASO DE ",(K10-I10)," DIAS"))))) -> RETRASO DE 2 DIAS | P10: =VLOOKUP(MONTH(Tabla1[[#This Row],[FECHA PROG.]]),Tabla2[],2,0) -> Jul | Q10: =YEAR(Tabla1[[#This Row],[FECHA PROG.]]) -> 2018 | R10: =360-SUMIFS(Tabla1[HORAS],Tabla1[MÁQUINA],Tabla1[[#This Row],[MÁQUINA]],Tabla1[AÑO],Tabla1[[#This Row],[AÑO]],Tabla1[MES],Tabla1[[#This Row],[MES]]) -> 332.75 | S10: =Tabla1[[#This Row],[HORAS DISPONIBLES]]/360 -> 0.92430556
A11: MÁQUINA GRANALLADORA | B11: GR-02 | C11: =VLOOKUP(RANDBETWEEN(1,13),Tablas!$N$7:$O$19,2,0) -> LAS VOLQUETAS | D11: PREVENTIVO | E11: MANTENIMIENTO ELECTRICO | F11: 106 | G11: JMEJIA | H11: 1698 | I11: =RANDBETWEEN(43101,43616) -> 43146 | J11: =IFERROR(IF(YEAR(Tabla1[[#This Row],[FECHA EJEC.]])>0,"CONFORME","STANDBY"),"PENDIENTE") -> CONFORME | K11: =IF(VLOOKUP(RANDBETWEEN(1,20),Tablas!$Q$6:$R$25,2,0)=0,"",Tabla1[[#This Row],[FECHA PROG.]]+VLOOKUP(RANDBETWEEN(1,20),Tablas!$Q$6:$R$25,2,0)) -> 43148 | L11: =IF(Tabla1[[#This Row],[FECHA EJEC.]]="","",TIME(RANDBETWEEN(9,15),RANDBETWEEN(10,40),0)) -> 0.39375 | M11: =IF(Tabla1[[#This Row],[FECHA EJEC.]]="","",Tabla1[[#This Row],[HORA INICIO]]+TIME(RANDBETWEEN(1,4),RANDBETWEEN(10,30),0)) -> 0.44513889 | N11: =IF(Tabla1[[#This Row],[FECHA EJEC.]]="","",HOUR(Tabla1[[#This Row],[HORA TERMINO]]-Tabla1[[#This Row],[HORA INICIO]])+MINUTE(Tabla1[[#This Row],[HORA TERMINO]]-Tabla1[[#This Row],[HORA INICIO]])/60) -> 1.2333333 | O11: =IF(AND(K11=I11,J11="CONFORME"),"FECHA CUMPLIDA",IF(J11="STAND BY","STAND BY",IF(J11=""," ",IF(Tabla1[[#This Row],[FECHA EJEC.]]="","PENDIENTE",CONCATENATE("RETRASO DE ",(K11-I11)," DIAS"))))) -> RETRASO DE 2 DIAS | P11: =VLOOKUP(MONTH(Tabla1[[#This Row],[FECHA PROG.]]),Tabla2[],2,0) -> Feb | Q11: =YEAR(Tabla1[[#This Row],[FECHA PROG.]]) -> 2018 | R11: =360-SUMIFS(Tabla1[HORAS],Tabla1[MÁQUINA],Tabla1[[#This Row],[MÁQUINA]],Tabla1[AÑO],Tabla1[[#This Row],[AÑO]],Tabla1[MES],Tabla1[[#This Row],[MES]]) -> 318.2 | S11: =Tabla1[[#This Row],[HORAS DISPONIBLES]]/360 -> 0.88388889
A12: MONTACARGAS 7 TON (DIESEL) | B12: MC-02 | C12: =VLOOKUP(RANDBETWEEN(1,13),Tablas!$N$7:$O$19,2,0) -> EXCAVADORA | D12: PREVENTIVO | E12: MANTENIMIENTO POR HOROMETRO | F12: 201 | G12: ABLAS | H12: 1168 | I12: =RANDBETWEEN(43101,43616) -> 43371 | J12: =IFERROR(IF(YEAR(Tabla1[[#This Row],[FECHA EJEC.]])>0,"CONFORME","STANDBY"),"PENDIENTE") -> CONFORME | K12: =IF(VLOOKUP(RANDBETWEEN(1,20),Tablas!$Q$6:$R$25,2,0)=0,"",Tabla1[[#This Row],[FECHA PROG.]]+VLOOKUP(RANDBETWEEN(1,20),Tablas!$Q$6:$R$25,2,0)) -> 43375 | L12: =IF(Tabla1[[#This Row],[FECHA EJEC.]]="","",TIME(RANDBETWEEN(9,15),RANDBETWEEN(10,40),0)) -> 0.39375 | M12: =IF(Tabla1[[#This Row],[FECHA EJEC.]]="","",Tabla1[[#This Row],[HORA INICIO]]+TIME(RANDBETWEEN(1,4),RANDBETWEEN(10,30),0)) -> 0.53819444 | N12: =IF(Tabla1[[#This Row],[FECHA EJEC.]]="","",HOUR(Tabla1[[#This Row],[HORA TERMINO]]-Tabla1[[#This Row],[HORA INICIO]])+MINUTE(Tabla1[[#This Row],[HORA TERMINO]]-Tabla1[[#This Row],[HORA INICIO]])/60) -> 3.4666667 | O12: =IF(AND(K12=I12,J12="CONFORME"),"FECHA CUMPLIDA",IF(J12="STAND BY","STAND BY",IF(J12=""," ",IF(Tabla1[[#This Row],[FECHA EJEC.]]="","PENDIENTE",CONCATENATE("RETRASO DE ",(K12-I12)," DIAS"))))) -> RETRASO DE 4 DIAS | P12: =VLOOKUP(MONTH(Tabla1[[#This Row],[FECHA PROG.]]),Tabla2[],2,0) -> Set | Q12: =YEAR(Tabla1[[#This Row],[FECHA PROG.]]) -> 2018 | R12: =360-SUMIFS(Tabla1[HORAS],Tabla1[MÁQUINA],Tabla1[[#This Row],[MÁQUINA]],Tabla1[AÑO],Tabla1[[#This Row],[AÑO]],Tabla1[MES],Tabla1[[#This Row],[MES]]) -> 356.53333 | S12: =Tabla1[[#This Row],[HORAS DISPONIBLES]]/360 -> 0.99037037
A13: MAQUINA DE PINTURA GRACO XTREME 70/1 | B13: MQP011 | C13: =VLOOKUP(RANDBETWEEN(1,13),Tablas!$N$7:$O$19,2,0) -> CARGADORA | D13: PREVENTIVO | E13: MANTENIMIENTO MECANICO | F13: 107 | G13: DVARGAS | H13: 1420 | I13: =RANDBETWEEN(43101,43616) -> 43382 | J13: =IFERROR(IF(YEAR(Tabla1[[#This Row],[FECHA EJEC.]])>0,"CONFORME","STANDBY"),"PENDIENTE") -> CONFORME | K13: =IF(VLOOKUP(RANDBETWEEN(1,20),Tablas!$Q$6:$R$25,2,0)=0,"",Tabla1[[#This Row],[FECHA PROG.]]+VLOOKUP(RANDBETWEEN(1,20),Tablas!$Q$6:$R$25,2,0)) -> 43385 | L13: =IF(Tabla1[[#This Row],[FECHA EJEC.]]="","",TIME(RANDBETWEEN(9,15),RANDBETWEEN(10,40),0)) -> 0.39652778 | M13: =IF(Tabla1[[#This Row],[FECHA EJEC.]]="","",Tabla1[[#This Row],[HORA INICIO]]+TIME(RANDBETWEEN(1,4),RANDBETWEEN(10,30),0)) -> 0.52847222 | N13: =IF(Tabla1[[#This Row],[FECHA EJEC.]]="","",HOUR(Tabla1[[#This Row],[HORA TERMINO]]-Tabla1[[#This Row],[HORA INICIO]])+MINUTE(Tabla1[[#This Row],[HORA TERMINO]]-Tabla1[[#This Row],[HORA INICIO]])/60) -> 3.1666667 | O13: =IF(AND(K13=I13,J13="CONFORME"),"FECHA CUMPLIDA",IF(J13="STAND BY","STAND BY",IF(J13=""," ",IF(Tabla1[[#This Row],[FECHA EJEC.]]="","PENDIENTE",CONCATENATE("RETRASO DE ",(K13-I13)," DIAS"))))) -> RETRASO DE 3 DIAS | P13: =VLOOKUP(MONTH(Tabla1[[#This Row],[FECHA PROG.]]),Tabla2[],2,0) -> Oct | Q13: =YEAR(Tabla1[[#This Row],[FECHA PROG.]]) -> 2018 | R13: =360-SUMIFS(Tabla1[HORAS],Tabla1[MÁQUINA],Tabla1[[#This Row],[MÁQUINA]],Tabla1[AÑO],Tabla1[[#This Row],[AÑO]],Tabla1[MES],Tabla1[[#This Row],[MES]]) -> 347.66667 | S13: =Tabla1[[#This Row],[HORAS DISPONIBLES]]/360 -> 0.96574074
... A243: MAQUINA DE PINTURA GRACO XTREME 60/1 | B243: MQP002 | C243: =VLOOKUP(RANDBETWEEN(1,13),Tablas!$N$7:$O$19,2,0) -> DRAGALINA | D243: PREVENTIVO | E243: MANTENIMIENTO MECANICO | F243: 107 | G243: DVARGAS | H243: 1420 | I243: =RANDBETWEEN(43101,43616) -> 43507 | J243: =IFERROR(IF(YEAR(Tabla1[[#This Row],[FECHA EJEC.]])>0,"CONFORME","STANDBY"),"PENDIENTE") -> CONFORME | K243: =IF(VLOOKUP(RANDBETWEEN(1,20),Tablas!$Q$6:$R$25,2,0)=0,"",Tabla1[[#This Row],[FECHA PROG.]]+VLOOKUP(RANDBETWEEN(1,20),Tablas!$Q$6:$R$25,2,0)) -> 43509 | L243: =IF(Tabla1[[#This Row],[FECHA EJEC.]]="","",TIME(RANDBETWEEN(9,15),RANDBETWEEN(10,40),0)) -> 0.54930556 | M243: =IF(Tabla1[[#This Row],[FECHA EJEC.]]="","",Tabla1[[#This Row],[HORA INICIO]]+TIME(RANDBETWEEN(1,4),RANDBETWEEN(10,30),0)) -> 0.73541667 | N243: =IF(Tabla1[[#This Row],[FECHA EJEC.]]="","",HOUR(Tabla1[[#This Row],[HORA TERMINO]]-Tabla1[[#This Row],[HORA INICIO]])+MINUTE(Tabla1[[#This Row],[HORA TERMINO]]-Tabla1[[#This Row],[HORA INICIO]])/60) -> 4.4666667 | O243: =IF(AND(K243=I243,J243="CONFORME"),"FECHA CUMPLIDA",IF(J243="STAND BY","STAND BY",IF(J243=""," ",IF(Tabla1[[#This Row],[FECHA EJEC.]]="","PENDIENTE",CONCATENATE("RETRASO DE ",(K243-I243)," DIAS"))))) -> RETRASO DE 2 DIAS | P243: =VLOOKUP(MONTH(Tabla1[[#This Row],[FECHA PROG.]]),Tabla2[],2,0) -> Feb | Q243: =YEAR(Tabla1[[#This Row],[FECHA PROG.]]) -> 2019 | R243: =360-SUMIFS(Tabla1[HORAS],Tabla1[MÁQUINA],Tabla1[[#This Row],[MÁQUINA]],Tabla1[AÑO],Tabla1[[#This Row],[AÑO]],Tabla1[MES],Tabla1[[#This Row],[MES]]) -> 343.6 | S243: =Tabla1[[#This Row],[HORAS DISPONIBLES]]/360 -> 0.95444444
A244: GENERADOR DE CALOR CON CHASIS DE ALUMINIO | B244: CG-02 | C244: =VLOOKUP(RANDBETWEEN(1,13),Tablas!$N$7:$O$19,2,0) -> RETROEXCAVADORA | E244: MANTENIMIENTO MECANICO-ELECTRICO | F244: 107 | G244: JMEJIA | H244: 1698 | I244: =RANDBETWEEN(43101,43616) -> 43400 | J244: =IFERROR(IF(YEAR(Tabla1[[#This Row],[FECHA EJEC.]])>0,"CONFORME","STANDBY"),"PENDIENTE") -> CONFORME | K244: =IF(VLOOKUP(RANDBETWEEN(1,20),Tablas!$Q$6:$R$25,2,0)=0,"",Tabla1[[#This Row],[FECHA PROG.]]+VLOOKUP(RANDBETWEEN(1,20),Tablas!$Q$6:$R$25,2,0)) -> 43400 | L244: =IF(Tabla1[[#This Row],[FECHA EJEC.]]="","",TIME(RANDBETWEEN(9,15),RANDBETWEEN(10,40),0)) -> 0.47708333 | M244: =IF(Tabla1[[#This Row],[FECHA EJEC.]]="","",Tabla1[[#This Row],[HORA INICIO]]+TIME(RANDBETWEEN(1,4),RANDBETWEEN(10,30),0)) -> 0.61388889 | N244: =IF(Tabla1[[#This Row],[FECHA EJEC.]]="","",HOUR(Tabla1[[#This Row],[HORA TERMINO]]-Tabla1[[#This Row],[HORA INICIO]])+MINUTE(Tabla1[[#This Row],[HORA TERMINO]]-Tabla1[[#This Row],[HORA INICIO]])/60) -> 3.2833333 | O244: =IF(AND(K244=I244,J244="CONFORME"),"FECHA CUMPLIDA",IF(J244="STAND BY","STAND BY",IF(J244=""," ",IF(Tabla1[[#This Row],[FECHA EJEC.]]="","PENDIENTE",CONCATENATE("RETRASO DE ",(K244-I244)," DIAS"))))) -> FECHA CUMPLIDA | P244: =VLOOKUP(MONTH(Tabla1[[#This Row],[FECHA PROG.]]),Tabla2[],2,0) -> Oct | Q244: =YEAR(Tabla1[[#This Row],[FECHA PROG.]]) -> 2018 | R244: =360-SUMIFS(Tabla1[HORAS],Tabla1[MÁQUINA],Tabla1[[#This Row],[MÁQUINA]],Tabla1[AÑO],Tabla1[[#This Row],[AÑO]],Tabla1[MES],Tabla1[[#This Row],[MES]]) -> 333.43333 | S244: =Tabla1[[#This Row],[HORAS DISPONIBLES]]/360 -> 0.9262037
A245: PORTICO GRÚA 1 10 TM/N1 | B245: PORT.G-01 | C245: =VLOOKUP(RANDBETWEEN(1,13),Tablas!$N$7:$O$19,2,0) -> MOTOTRAILLA | D245: PREVENTIVO | E245: MANTENIMIENTO MECANICO | F245: 107 | G245: DVARGAS | H245: 1420 | I245: =RANDBETWEEN(43101,43616) -> 43261 | J245: =IFERROR(IF(YEAR(Tabla1[[#This Row],[FECHA EJEC.]])>0,"CONFORME","STANDBY"),"PENDIENTE") -> PENDIENTE | K245: =IF(VLOOKUP(RANDBETWEEN(1,20),Tablas!$Q$6:$R$25,2,0)=0,"",Tabla1[[#This Row],[FECHA PROG.]]+VLOOKUP(RANDBETWEEN(1,20),Tablas!$Q$6:$R$25,2,0)) | L245: =IF(Tabla1[[#This Row],[FECHA EJEC.]]="","",TIME(RANDBETWEEN(9,15),RANDBETWEEN(10,40),0)) | M245: =IF(Tabla1[[#This Row],[FECHA EJEC.]]="","",Tabla1[[#This Row],[HORA INICIO]]+TIME(RANDBETWEEN(1,4),RANDBETWEEN(10,30),0)) | N245: =IF(Tabla1[[#This Row],[FECHA EJEC.]]="","",HOUR(Tabla1[[#This Row],[HORA TERMINO]]-Tabla1[[#This Row],[HORA INICIO]])+MINUTE(Tabla1[[#This Row],[HORA TERMINO]]-Tabla1[[#This Row],[HORA INICIO]])/60) | O245: =IF(AND(K245=I245,J245="CONFORME"),"FECHA CUMPLIDA",IF(J245="STAND BY","STAND BY",IF(J245=""," ",IF(Tabla1[[#This Row],[FECHA EJEC.]]="","PENDIENTE",CONCATENATE("RETRASO DE ",(K245-I245)," DIAS"))))) -> PENDIENTE | P245: =VLOOKUP(MONTH(Tabla1[[#This Row],[FECHA PROG.]]),Tabla2[],2,0) -> Jun | Q245: =YEAR(Tabla1[[#This Row],[FECHA PROG.]]) -> 2018 | R245: =360-SUMIFS(Tabla1[HORAS],Tabla1[MÁQUINA],Tabla1[[#This Row],[MÁQUINA]],Tabla1[AÑO],Tabla1[[#This Row],[AÑO]],Tabla1[MES],Tabla1[[#This Row],[MES]]) -> 356.51667 | S245: =Tabla1[[#This Row],[HORAS DISPONIBLES]]/360 -> 0.99032407
A246: PORTICO GRÚA 1 10 TM/N1 | B246: PORT.G-01 | C246: =VLOOKUP(RANDBETWEEN(1,13),Tablas!$N$7:$O$19,2,0) -> CARGADORA | D246: PREVENTIVO | E246: MANTENIMIENTO ELECTRICO | F246: 107 | G246: LGRANDEZ | H246: 1911 | I246: =RANDBETWEEN(43101,43616) -> 43365 | J246: =IFERROR(IF(YEAR(Tabla1[[#This Row],[FECHA EJEC.]])>0,"CONFORME","STANDBY"),"PENDIENTE") -> PENDIENTE | K246: =IF(VLOOKUP(RANDBETWEEN(1,20),Tablas!$Q$6:$R$25,2,0)=0,"",Tabla1[[#This Row],[FECHA PROG.]]+VLOOKUP(RANDBETWEEN(1,20),Tablas!$Q$6:$R$25,2,0)) | L246: =IF(Tabla1[[#This Row],[FECHA EJEC.]]="","",TIME(RANDBETWEEN(9,15),RANDBETWEEN(10,40),0)) | M246: =IF(Tabla1[[#This Row],[FECHA EJEC.]]="","",Tabla1[[#This Row],[HORA INICIO]]+TIME(RANDBETWEEN(1,4),RANDBETWEEN(10,30),0)) | N246: =IF(Tabla1[[#This Row],[FECHA EJEC.]]="","",HOUR(Tabla1[[#This Row],[HORA TERMINO]]-Tabla1[[#This Row],[HORA INICIO]])+MINUTE(Tabla1[[#This Row],[HORA TERMINO]]-Tabla1[[#This Row],[HORA INICIO]])/60) | O246: =IF(AND(K246=I246,J246="CONFORME"),"FECHA CUMPLIDA",IF(J246="STAND BY","STAND BY",IF(J246=""," ",IF(Tabla1[[#This Row],[FECHA EJEC.]]="","PENDIENTE",CONCATENATE("RETRASO DE ",(K246-I246)," DIAS"))))) -> PENDIENTE | P246: =VLOOKUP(MONTH(Tabla1[[#This Row],[FECHA PROG.]]),Tabla2[],2,0) -> Set | Q246: =YEAR(Tabla1[[#This Row],[FECHA PROG.]]) -> 2018 | R246: =360-SUMIFS(Tabla1[HORAS],Tabla1[MÁQUINA],Tabla1[[#This Row],[MÁQUINA]],Tabla1[AÑO],Tabla1[[#This Row],[AÑO]],Tabla1[MES],Tabla1[[#This Row],[MES]]) -> 340.91667 | S246: =Tabla1[[#This Row],[HORAS DISPONIBLES]]/360 -> 0.94699074
A247: MAQUINA GRANALLADORA MANUAL | B247: CSA-01 | C247: =VLOOKUP(RANDBETWEEN(1,13),Tablas!$N$7:$O$19,2,0) -> CARGADORA | D247: PREVENTIVO | E247: MANTENIMIENTO MECANICO | F247: 106 | G247: DVARGAS | H247: 1420 | I247: =RANDBETWEEN(43101,43616) -> 43137 | J247: =IFERROR(IF(YEAR(Tabla1[[#This Row],[FECHA EJEC.]])>0,"CONFORME","STANDBY"),"PENDIENTE") -> CONFORME | K247: =IF(VLOOKUP(RANDBETWEEN(1,20),Tablas!$Q$6:$R$25,2,0)=0,"",Tabla1[[#This Row],[FECHA PROG.]]+VLOOKUP(RANDBETWEEN(1,20),Tablas!$Q$6:$R$25,2,0)) -> 43141 | L247: =IF(Tabla1[[#This Row],[FECHA EJEC.]]="","",TIME(RANDBETWEEN(9,15),RANDBETWEEN(10,40),0)) -> 0.48194444 | M247: =IF(Tabla1[[#This Row],[FECHA EJEC.]]="","",Tabla1[[#This Row],[HORA INICIO]]+TIME(RANDBETWEEN(1,4),RANDBETWEEN(10,30),0)) -> 0.62222222 | N247: =IF(Tabla1[[#This Row],[FECHA EJEC.]]="","",HOUR(Tabla1[[#This Row],[HORA TERMINO]]-Tabla1[[#This Row],[HORA INICIO]])+MINUTE(Tabla1[[#This Row],[HORA TERMINO]]-Tabla1[[#This Row],[HORA INICIO]])/60) -> 3.3666667 | O247: =IF(AND(K247=I247,J247="CONFORME"),"FECHA CUMPLIDA",IF(J247="STAND BY","STAND BY",IF(J247=""," ",IF(Tabla1[[#This Row],[FECHA EJEC.]]="","PENDIENTE",CONCATENATE("RETRASO DE ",(K247-I247)," DIAS"))))) -> RETRASO DE 4 DIAS | P247: =VLOOKUP(MONTH(Tabla1[[#This Row],[FECHA PROG.]]),Tabla2[],2,0) -> Feb | Q247: =YEAR(Tabla1[[#This Row],[FECHA PROG.]]) -> 2018 | R247: =360-SUMIFS(Tabla1[HORAS],Tabla1[MÁQUINA],Tabla1[[#This Row],[MÁQUINA]],Tabla1[AÑO],Tabla1[[#This Row],[AÑO]],Tabla1[MES],Tabla1[[#This Row],[MES]]) -> 352.3 | S247: =Tabla1[[#This Row],[HORAS DISPONIBLES]]/360 -> 0.97861111
A248: MAQUINA GRANALLADORA MANUAL | B248: CSA-01 | C248: =VLOOKUP(RANDBETWEEN(1,13),Tablas!$N$7:$O$19,2,0) -> CARGADORA | D248: PREVENTIVO | E248: MANTENIMIENTO ELECTRICO | F248: 106 | G248: LGRANDEZ | H248: 1911 | I248: =RANDBETWEEN(43101,43616) -> 43167 | J248: =IFERROR(IF(YEAR(Tabla1[[#This Row],[FECHA EJEC.]])>0,"CONFORME","STANDBY"),"PENDIENTE") -> CONFORME | K248: =IF(VLOOKUP(RANDBETWEEN(1,20),Tablas!$Q$6:$R$25,2,0)=0,"",Tabla1[[#This Row],[FECHA PROG.]]+VLOOKUP(RANDBETWEEN(1,20),Tablas!$Q$6:$R$25,2,0)) -> 43167 | L248: =IF(Tabla1[[#This Row],[FECHA EJEC.]]="","",TIME(RANDBETWEEN(9,15),RANDBETWEEN(10,40),0)) -> 0.54930556 | M248: =IF(Tabla1[[#This Row],[FECHA EJEC.]]="","",Tabla1[[#This Row],[HORA INICIO]]+TIME(RANDBETWEEN(1,4),RANDBETWEEN(10,30),0)) -> 0.72708333 | N248: =IF(Tabla1[[#This Row],[FECHA EJEC.]]="","",HOUR(Tabla1[[#This Row],[HORA TERMINO]]-Tabla1[[#This Row],[HORA INICIO]])+MINUTE(Tabla1[[#This Row],[HORA TERMINO]]-Tabla1[[#This Row],[HORA INICIO]])/60) -> 4.2666667 | O248: =IF(AND(K248=I248,J248="CONFORME"),"FECHA CUMPLIDA",IF(J248="STAND BY","STAND BY",IF(J248=""," ",IF(Tabla1[[#This Row],[FECHA EJEC.]]="","PENDIENTE",CONCATENATE("RETRASO DE ",(K248-I248)," DIAS"))))) -> FECHA CUMPLIDA | P248: =VLOOKUP(MONTH(Tabla1[[#This Row],[FECHA PROG.]]),Tabla2[],2,0) -> Mar | Q248: =YEAR(Tabla1[[#This Row],[FECHA PROG.]]) -> 2018 | R248: =360-SUMIFS(Tabla1[HORAS],Tabla1[MÁQUINA],Tabla1[[#This Row],[MÁQUINA]],Tabla1[AÑO],Tabla1[[#This Row],[AÑO]],Tabla1[MES],Tabla1[[#This Row],[MES]]) -> 346.9 | S248: =Tabla1[[#This Row],[HORAS DISPONIBLES]]/360 -> 0.96361111
A249: COMPRESOR GA22 SERIE: API325785 | B249: COMPRESOR 5 | C249: =VLOOKUP(RANDBETWEEN(1,13),Tablas!$N$7:$O$19,2,0) -> COMPACTADORA | D249: PREVENTIVO | E249: MANTENIMIENTO MECANICO-ELECTRICO | F249: 107 | G249: JMEJIA | H249: 1698 | I249: =RANDBETWEEN(43101,43616) -> 43597 | J249: =IFERROR(IF(YEAR(Tabla1[[#This Row],[FECHA EJEC.]])>0,"CONFORME","STANDBY"),"PENDIENTE") -> PENDIENTE | K249: =IF(VLOOKUP(RANDBETWEEN(1,20),Tablas!$Q$6:$R$25,2,0)=0,"",Tabla1[[#This Row],[FECHA PROG.]]+VLOOKUP(RANDBETWEEN(1,20),Tablas!$Q$6:$R$25,2,0)) | L249: =IF(Tabla1[[#This Row],[FECHA EJEC.]]="","",TIME(RANDBETWEEN(9,15),RANDBETWEEN(10,40),0)) | M249: =IF(Tabla1[[#This Row],[FECHA EJEC.]]="","",Tabla1[[#This Row],[HORA INICIO]]+TIME(RANDBETWEEN(1,4),RANDBETWEEN(10,30),0)) | N249: =IF(Tabla1[[#This Row],[FECHA EJEC.]]="","",HOUR(Tabla1[[#This Row],[HORA TERMINO]]-Tabla1[[#This Row],[HORA INICIO]])+MINUTE(Tabla1[[#This Row],[HORA TERMINO]]-Tabla1[[#This Row],[HORA INICIO]])/60) | O249: =IF(AND(K249=I249,J249="CONFORME"),"FECHA CUMPLIDA",IF(J249="STAND BY","STAND BY",IF(J249=""," ",IF(Tabla1[[#This Row],[FECHA EJEC.]]="","PENDIENTE",CONCATENATE("RETRASO DE ",(K249-I249)," DIAS"))))) -> PENDIENTE | P249: =VLOOKUP(MONTH(Tabla1[[#This Row],[FECHA PROG.]]),Tabla2[],2,0) -> May | Q249: =YEAR(Tabla1[[#This Row],[FECHA PROG.]]) -> 2019 | R249: =360-SUMIFS(Tabla1[HORAS],Tabla1[MÁQUINA],Tabla1[[#This Row],[MÁQUINA]],Tabla1[AÑO],Tabla1[[#This Row],[AÑO]],Tabla1[MES],Tabla1[[#This Row],[MES]]) -> 356.6 | S249: =Tabla1[[#This Row],[HORAS DISPONIBLES]]/360 -> 0.99055556
A250: MAQUINA DE PINTURA GRACO XTREME 40/1 | B250: MQP003 | C250: =VLOOKUP(RANDBETWEEN(1,13),Tablas!$N$7:$O$19,2,0) -> LAS VOLQUETAS | D250: PREVENTIVO | E250: MANTENIMIENTO MECANICO | F250: 107 | G250: DVARGAS | H250: 1420 | I250: =RANDBETWEEN(43101,43616) -> 43351 | J250: =IFERROR(IF(YEAR(Tabla1[[#This Row],[FECHA EJEC.]])>0,"CONFORME","STANDBY"),"PENDIENTE") -> CONFORME | K250: =IF(VLOOKUP(RANDBETWEEN(1,20),Tablas!$Q$6:$R$25,2,0)=0,"",Tabla1[[#This Row],[FECHA PROG.]]+VLOOKUP(RANDBETWEEN(1,20),Tablas!$Q$6:$R$25,2,0)) -> 43352 | L250: =IF(Tabla1[[#This Row],[FECHA EJEC.]]="","",TIME(RANDBETWEEN(9,15),RANDBETWEEN(10,40),0)) -> 0.52777778 | M250: =IF(Tabla1[[#This Row],[FECHA EJEC.]]="","",Tabla1[[#This Row],[HORA INICIO]]+TIME(RANDBETWEEN(1,4),RANDBETWEEN(10,30),0)) -> 0.57847222 | N250: =IF(Tabla1[[#This Row],[FECHA EJEC.]]="","",HOUR(Tabla1[[#This Row],[HORA TERMINO]]-Tabla1[[#This Row],[HORA INICIO]])+MINUTE(Tabla1[[#This Row],[HORA TERMINO]]-Tabla1[[#This Row],[HORA INICIO]])/60) -> 1.2166667 | O250: =IF(AND(K250=I250,J250="CONFORME"),"FECHA CUMPLIDA",IF(J250="STAND BY","STAND BY",IF(J250=""," ",IF(Tabla1[[#This Row],[FECHA EJEC.]]="","PENDIENTE",CONCATENATE("RETRASO DE ",(K250-I250)," DIAS"))))) -> RETRASO DE 1 DIAS | P250: =VLOOKUP(MONTH(Tabla1[[#This Row],[FECHA PROG.]]),Tabla2[],2,0) -> Set | Q250: =YEAR(Tabla1[[#This Row],[FECHA PROG.]]) -> 2018 | R250: =360-SUMIFS(Tabla1[HORAS],Tabla1[MÁQUINA],Tabla1[[#This Row],[MÁQUINA]],Tabla1[AÑO],Tabla1[[#This Row],[AÑO]],Tabla1[MES],Tabla1[[#This Row],[MES]]) -> 351.06667 | S250: =Tabla1[[#This Row],[HORAS DISPONIBLES]]/360 -> 0.97518519
A251: GENERADOR DE CALOR CON CHASIS DE ALUMINIO | B251: CG-03 | C251: =VLOOKUP(RANDBETWEEN(1,13),Tablas!$N$7:$O$19,2,0) -> DRAGAS | E251: MANTENIMIENTO MECANICO-ELECTRICO | F251: 107 | G251: JMEJIA | H251: 1698 | I251: =RANDBETWEEN(43101,43616) -> 43223 | J251: =IFERROR(IF(YEAR(Tabla1[[#This Row],[FECHA EJEC.]])>0,"CONFORME","STANDBY"),"PENDIENTE") -> PENDIENTE | K251: =IF(VLOOKUP(RANDBETWEEN(1,20),Tablas!$Q$6:$R$25,2,0)=0,"",Tabla1[[#This Row],[FECHA PROG.]]+VLOOKUP(RANDBETWEEN(1,20),Tablas!$Q$6:$R$25,2,0)) | L251: =IF(Tabla1[[#This Row],[FECHA EJEC.]]="","",TIME(RANDBETWEEN(9,15),RANDBETWEEN(10,40),0)) | M251: =IF(Tabla1[[#This Row],[FECHA EJEC.]]="","",Tabla1[[#This Row],[HORA INICIO]]+TIME(RANDBETWEEN(1,4),RANDBETWEEN(10,30),0)) | N251: =IF(Tabla1[[#This Row],[FECHA EJEC.]]="","",HOUR(Tabla1[[#This Row],[HORA TERMINO]]-Tabla1[[#This Row],[HORA INICIO]])+MINUTE(Tabla1[[#This Row],[HORA TERMINO]]-Tabla1[[#This Row],[HORA INICIO]])/60) | O251: =IF(AND(K251=I251,J251="CONFORME"),"FECHA CUMPLIDA",IF(J251="STAND BY","STAND BY",IF(J251=""," ",IF(Tabla1[[#This Row],[FECHA EJEC.]]="","PENDIENTE",CONCATENATE("RETRASO DE ",(K251-I251)," DIAS"))))) -> PENDIENTE | P251: =VLOOKUP(MONTH(Tabla1[[#This Row],[FECHA PROG.]]),Tabla2[],2,0) -> May | Q251: =YEAR(Tabla1[[#This Row],[FECHA PROG.]]) -> 2018 | R251: =360-SUMIFS(Tabla1[HORAS],Tabla1[MÁQUINA],Tabla1[[#This Row],[MÁQUINA]],Tabla1[AÑO],Tabla1[[#This Row],[AÑO]],Tabla1[MES],Tabla1[[#This Row],[MES]]) -> 340.66667 | S251: =Tabla1[[#This Row],[HORAS DISPONIBLES]]/360 -> 0.9462963
A252: MÁQUINA GRANALLADORA | B252: GR-02 | C252: =VLOOKUP(RANDBETWEEN(1,13),Tablas!$N$7:$O$19,2,0) -> CISTERNAS DE AGUA | D252: PREVENTIVO | E252: MANTENIMIENTO MECANICO | F252: 106 | G252: DVARGAS | H252: 1420 | I252: =RANDBETWEEN(43101,43616) -> 43132 | J252: =IFERROR(IF(YEAR(Tabla1[[#This Row],[FECHA EJEC.]])>0,"CONFORME","STANDBY"),"PENDIENTE") -> CONFORME | K252: =IF(VLOOKUP(RANDBETWEEN(1,20),Tablas!$Q$6:$R$25,2,0)=0,"",Tabla1[[#This Row],[FECHA PROG.]]+VLOOKUP(RANDBETWEEN(1,20),Tablas!$Q$6:$R$25,2,0)) -> 43134 | L252: =IF(Tabla1[[#This Row],[FECHA EJEC.]]="","",TIME(RANDBETWEEN(9,15),RANDBETWEEN(10,40),0)) -> 0.60486111 | M252: =IF(Tabla1[[#This Row],[FECHA EJEC.]]="","",Tabla1[[#This Row],[HORA INICIO]]+TIME(RANDBETWEEN(1,4),RANDBETWEEN(10,30),0)) -> 0.65902778 | N252: =IF(Tabla1[[#This Row],[FECHA EJEC.]]="","",HOUR(Tabla1[[#This Row],[HORA TERMINO]]-Tabla1[[#This Row],[HORA INICIO]])+MINUTE(Tabla1[[#This Row],[HORA TERMINO]]-Tabla1[[#This Row],[HORA INICIO]])/60) -> 1.3 | O252: =IF(AND(K252=I252,J252="CONFORME"),"FECHA CUMPLIDA",IF(J252="STAND BY","STAND BY",IF(J252=""," ",IF(Tabla1[[#This Row],[FECHA EJEC.]]="","PENDIENTE",CONCATENATE("RETRASO DE ",(K252-I252)," DIAS"))))) -> RETRASO DE 2 DIAS | P252: =VLOOKUP(MONTH(Tabla1[[#This Row],[FECHA PROG.]]),Tabla2[],2,0) -> Feb | Q252: =YEAR(Tabla1[[#This Row],[FECHA PROG.]]) -> 2018 | R252: =360-SUMIFS(Tabla1[HORAS],Tabla1[MÁQUINA],Tabla1[[#This Row],[MÁQUINA]],Tabla1[AÑO],Tabla1[[#This Row],[AÑO]],Tabla1[MES],Tabla1[[#This Row],[MES]]) -> 318.2 | S252: =Tabla1[[#This Row],[HORAS DISPONIBLES]]/360 -> 0.88388889
A253: MÁQUINA GRANALLADORA | B253: GR-02 | C253: =VLOOKUP(RANDBETWEEN(1,13),Tablas!$N$7:$O$19,2,0) -> EXCAVADORA | D253: PREVENTIVO | E253: MANTENIMIENTO ELECTRICO | F253: 106 | G253: LGRANDEZ | H253: 1911 | I253: =RANDBETWEEN(43101,43616) -> 43341 | J253: =IFERROR(IF(YEAR(Tabla1[[#This Row],[FECHA EJEC.]])>0,"CONFORME","STANDBY"),"PENDIENTE") -> CONFORME | K253: =IF(VLOOKUP(RANDBETWEEN(1,20),Tablas!$Q$6:$R$25,2,0)=0,"",Tabla1[[#This Row],[FECHA PROG.]]+VLOOKUP(RANDBETWEEN(1,20),Tablas!$Q$6:$R$25,2,0)) -> 43342 | L253: =IF(Tabla1[[#This Row],[FECHA EJEC.]]="","",TIME(RANDBETWEEN(9,15),RANDBETWEEN(10,40),0)) -> 0.55694444 | M253: =IF(Tabla1[[#This Row],[FECHA EJEC.]]="","",Tabla1[[#This Row],[HORA INICIO]]+TIME(RANDBETWEEN(1,4),RANDBETWEEN(10,30),0)) -> 0.73611111 | N253: =IF(Tabla1[[#This Row],[FECHA EJEC.]]="","",HOUR(Tabla1[[#This Row],[HORA TERMINO]]-Tabla1[[#This Row],[HORA INICIO]])+MINUTE(Tabla1[[#This Row],[HORA TERMINO]]-Tabla1[[#This Row],[HORA INICIO]])/60) -> 4.3 | O253: =IF(AND(K253=I253,J253="CONFORME"),"FECHA CUMPLIDA",IF(J253="STAND BY","STAND BY",IF(J253=""," ",IF(Tabla1[[#This Row],[FECHA EJEC.]]="","PENDIENTE",CONCATENATE("RETRASO DE ",(K253-I253)," DIAS"))))) -> RETRASO DE 1 DIAS | P253: =VLOOKUP(MONTH(Tabla1[[#This Row],[FECHA PROG.]]),Tabla2[],2,0) -> Ago | Q253: =YEAR(Tabla1[[#This Row],[FECHA PROG.]]) -> 2018 | R253: =360-SUMIFS(Tabla1[HORAS],Tabla1[MÁQUINA],Tabla1[[#This Row],[MÁQUINA]],Tabla1[AÑO],Tabla1[[#This Row],[AÑO]],Tabla1[MES],Tabla1[[#This Row],[MES]]) -> 310.93333 | S253: =Tabla1[[#This Row],[HORAS DISPONIBLES]]/360 -> 0.8637037
A254: COMPRESOR GA55 SERIE: API623639 | B254: COMPRESOR 6 | C254: =VLOOKUP(RANDBETWEEN(1,13),Tablas!$N$7:$O$19,2,0) -> CARGADORA | D254: PREVENTIVO | E254: MANTENIMIENTO MECANICO-ELECTRICO | F254: 107 | G254: JMEJIA | H254: 1698 | I254: =RANDBETWEEN(43101,43616) -> 43559 | J254: =IFERROR(IF(YEAR(Tabla1[[#This Row],[FECHA EJEC.]])>0,"CONFORME","STANDBY"),"PENDIENTE") -> PENDIENTE | K254: =IF(VLOOKUP(RANDBETWEEN(1,20),Tablas!$Q$6:$R$25,2,0)=0,"",Tabla1[[#This Row],[FECHA PROG.]]+VLOOKUP(RANDBETWEEN(1,20),Tablas!$Q$6:$R$25,2,0)) | L254: =IF(Tabla1[[#This Row],[FECHA EJEC.]]="","",TIME(RANDBETWEEN(9,15),RANDBETWEEN(10,40),0)) | M254: =IF(Tabla1[[#This Row],[FECHA EJEC.]]="","",Tabla1[[#This Row],[HORA INICIO]]+TIME(RANDBETWEEN(1,4),RANDBETWEEN(10,30),0)) | N254: =IF(Tabla1[[#This Row],[FECHA EJEC.]]="","",HOUR(Tabla1[[#This Row],[HORA TERMINO]]-Tabla1[[#This Row],[HORA INICIO]])+MINUTE(Tabla1[[#This Row],[HORA TERMINO]]-Tabla1[[#This Row],[HORA INICIO]])/60) | O254: =IF(AND(K254=I254,J254="CONFORME"),"FECHA CUMPLIDA",IF(J254="STAND BY","STAND BY",IF(J254=""," ",IF(Tabla1[[#This Row],[FECHA EJEC.]]="","PENDIENTE",CONCATENATE("RETRASO DE ",(K254-I254)," DIAS"))))) -> PENDIENTE | P254: =VLOOKUP(MONTH(Tabla1[[#This Row],[FECHA PROG.]]),Tabla2[],2,0) -> Abr | Q254: =YEAR(Tabla1[[#This Row],[FECHA PROG.]]) -> 2019 | R254: =360-SUMIFS(Tabla1[HORAS],Tabla1[MÁQUINA],Tabla1[[#This Row],[MÁQUINA]],Tabla1[AÑO],Tabla1[[#This Row],[AÑO]],Tabla1[MES],Tabla1[[#This Row],[MES]]) -> 355.5 | S254: =Tabla1[[#This Row],[HORAS DISPONIBLES]]/360 -> 0.9875
A255: MONTACARGAS 7 TON (DIESEL) | B255: MC-02 | C255: =VLOOKUP(RANDBETWEEN(1,13),Tablas!$N$7:$O$19,2,0) -> LAS VOLQUETAS | D255: PREVENTIVO | E255: MANTENIMIENTO POR HOROMETRO | F255: 201 | G255: ABLAS | H255: 1168 | I255: =RANDBETWEEN(43101,43616) -> 43573 | J255: =IFERROR(IF(YEAR(Tabla1[[#This Row],[FECHA EJEC.]])>0,"CONFORME","STANDBY"),"PENDIENTE") -> CONFORME | K255: =IF(VLOOKUP(RANDBETWEEN(1,20),Tablas!$Q$6:$R$25,2,0)=0,"",Tabla1[[#This Row],[FECHA PROG.]]+VLOOKUP(RANDBETWEEN(1,20),Tablas!$Q$6:$R$25,2,0)) -> 43575 | L255: =IF(Tabla1[[#This Row],[FECHA EJEC.]]="","",TIME(RANDBETWEEN(9,15),RANDBETWEEN(10,40),0)) -> 0.55277778 | M255: =IF(Tabla1[[#This Row],[FECHA EJEC.]]="","",Tabla1[[#This Row],[HORA INICIO]]+TIME(RANDBETWEEN(1,4),RANDBETWEEN(10,30),0)) -> 0.65625 | N255: =IF(Tabla1[[#This Row],[FECHA EJEC.]]="","",HOUR(Tabla1[[#This Row],[HORA TERMINO]]-Tabla1[[#This Row],[HORA INICIO]])+MINUTE(Tabla1[[#This Row],[HORA TERMINO]]-Tabla1[[#This Row],[HORA INICIO]])/60) -> 2.4833333 | O255: =IF(AND(K255=I255,J255="CONFORME"),"FECHA CUMPLIDA",IF(J255="STAND BY","STAND BY",IF(J255=""," ",IF(Tabla1[[#This Row],[FECHA EJEC.]]="","PENDIENTE",CONCATENATE("RETRASO DE ",(K255-I255)," DIAS"))))) -> RETRASO DE 2 DIAS | P255: =VLOOKUP(MONTH(Tabla1[[#This Row],[FECHA PROG.]]),Tabla2[],2,0) -> Abr | Q255: =YEAR(Tabla1[[#This Row],[FECHA PROG.]]) -> 2019 | R255: =360-SUMIFS(Tabla1[HORAS],Tabla1[MÁQUINA],Tabla1[[#This Row],[MÁQUINA]],Tabla1[AÑO],Tabla1[[#This Row],[AÑO]],Tabla1[MES],Tabla1[[#This Row],[MES]]) -> 352.61667 | S255: =Tabla1[[#This Row],[HORAS DISPONIBLES]]/360 -> 0.97949074
A256: MAQUINA DE PINTURA GRACO XTREME 70/1 | B256: MQP004 | C256: =VLOOKUP(RANDBETWEEN(1,13),Tablas!$N$7:$O$19,2,0) -> CARGADORA | D256: PREVENTIVO | E256: MANTENIMIENTO MECANICO | F256: 107 | G256: DVARGAS | H256: 1420 | I256: =RANDBETWEEN(43101,43616) -> 43611 | J256: =IFERROR(IF(YEAR(Tabla1[[#This Row],[FECHA EJEC.]])>0,"CONFORME","STANDBY"),"PENDIENTE") -> CONFORME | K256: =IF(VLOOKUP(RANDBETWEEN(1,20),Tablas!$Q$6:$R$25,2,0)=0,"",Tabla1[[#This Row],[FECHA PROG.]]+VLOOKUP(RANDBETWEEN(1,20),Tablas!$Q$6:$R$25,2,0)) -> 43613 | L256: =IF(Tabla1[[#This Row],[FECHA EJEC.]]="","",TIME(RANDBETWEEN(9,15),RANDBETWEEN(10,40),0)) -> 0.43680556 | M256: =IF(Tabla1[[#This Row],[FECHA EJEC.]]="","",Tabla1[[#This Row],[HORA INICIO]]+TIME(RANDBETWEEN(1,4),RANDBETWEEN(10,30),0)) -> 0.57291667 | N256: =IF(Tabla1[[#This Row],[FECHA EJEC.]]="","",HOUR(Tabla1[[#This Row],[HORA TERMINO]]-Tabla1[[#This Row],[HORA INICIO]])+MINUTE(Tabla1[[#This Row],[HORA TERMINO]]-Tabla1[[#This Row],[HORA INICIO]])/60) -> 3.2666667 | O256: =IF(AND(K256=I256,J256="CONFORME"),"FECHA CUMPLIDA",IF(J256="STAND BY","STAND BY",IF(J256=""," ",IF(Tabla1[[#This Row],[FECHA EJEC.]]="","PENDIENTE",CONCATENATE("RETRASO DE ",(K256-I256)," DIAS"))))) -> RETRASO DE 2 DIAS | P256: =VLOOKUP(MONTH(Tabla1[[#This Row],[FECHA PROG.]]),Tabla2[],2,0) -> May | Q256: =YEAR(Tabla1[[#This Row],[FECHA PROG.]]) -> 2019 | R256: =360-SUMIFS(Tabla1[HORAS],Tabla1[MÁQUINA],Tabla1[[#This Row],[MÁQUINA]],Tabla1[AÑO],Tabla1[[#This Row],[AÑO]],Tabla1[MES],Tabla1[[#This Row],[MES]]) -> 356.73333 | S256: =Tabla1[[#This Row],[HORAS DISPONIBLES]]/360 -> 0.99092593
A257: GENERADOR DE CALOR CON CHASIS DE ACERO INOXIDABLE | B257: CG-04N | C257: =VLOOKUP(RANDBETWEEN(1,13),Tablas!$N$7:$O$19,2,0) -> PAVIMENTADORA | E257: MANTENIMIENTO ELECTRICO | F257: 107 | G257: JMEJIA | H257: 1698 | I257: =RANDBETWEEN(43101,43616) -> 43609 | J257: =IFERROR(IF(YEAR(Tabla1[[#This Row],[FECHA EJEC.]])>0,"CONFORME","STANDBY"),"PENDIENTE") -> PENDIENTE | K257: =IF(VLOOKUP(RANDBETWEEN(1,20),Tablas!$Q$6:$R$25,2,0)=0,"",Tabla1[[#This Row],[FECHA PROG.]]+VLOOKUP(RANDBETWEEN(1,20),Tablas!$Q$6:$R$25,2,0)) | L257: =IF(Tabla1[[#This Row],[FECHA EJEC.]]="","",TIME(RANDBETWEEN(9,15),RANDBETWEEN(10,40),0)) | M257: =IF(Tabla1[[#This Row],[FECHA EJEC.]]="","",Tabla1[[#This Row],[HORA INICIO]]+TIME(RANDBETWEEN(1,4),RANDBETWEEN(10,30),0)) | N257: =IF(Tabla1[[#This Row],[FECHA EJEC.]]="","",HOUR(Tabla1[[#This Row],[HORA TERMINO]]-Tabla1[[#This Row],[HORA INICIO]])+MINUTE(Tabla1[[#This Row],[HORA TERMINO]]-Tabla1[[#This Row],[HORA INICIO]])/60) | O257: =IF(AND(K257=I257,J257="CONFORME"),"FECHA CUMPLIDA",IF(J257="STAND BY","STAND BY",IF(J257=""," ",IF(Tabla1[[#This Row],[FECHA EJEC.]]="","PENDIENTE",CONCATENATE("RETRASO DE ",(K257-I257)," DIAS"))))) -> PENDIENTE | P257: =VLOOKUP(MONTH(Tabla1[[#This Row],[FECHA PROG.]]),Tabla2[],2,0) -> May | Q257: =YEAR(Tabla1[[#This Row],[FECHA PROG.]]) -> 2019 | R257: =360-SUMIFS(Tabla1[HORAS],Tabla1[MÁQUINA],Tabla1[[#This Row],[MÁQUINA]],Tabla1[AÑO],Tabla1[[#This Row],[AÑO]],Tabla1[MES],Tabla1[[#This Row],[MES]]) -> 355.53333 | S257: =Tabla1[[#This Row],[HORAS DISPONIBLES]]/360 -> 0.98759259
A258: MÁQUINA GRANALLADORA | B258: GR-01 | C258: =VLOOKUP(RANDBETWEEN(1,13),Tablas!$N$7:$O$19,2,0) -> LAS VOLQUETAS | D258: PREVENTIVO | E258: MANTENIMIENTO MECANICO | F258: 106 | G258: DVARGAS | H258: 1420 | I258: =RANDBETWEEN(43101,43616) -> 43235 | J258: =IFERROR(IF(YEAR(Tabla1[[#This Row],[FECHA EJEC.]])>0,"CONFORME","STANDBY"),"PENDIENTE") -> CONFORME | K258: =IF(VLOOKUP(RANDBETWEEN(1,20),Tablas!$Q$6:$R$25,2,0)=0,"",Tabla1[[#This Row],[FECHA PROG.]]+VLOOKUP(RANDBETWEEN(1,20),Tablas!$Q$6:$R$25,2,0)) -> 43235 | L258: =IF(Tabla1[[#This Row],[FECHA EJEC.]]="","",TIME(RANDBETWEEN(9,15),RANDBETWEEN(10,40),0)) -> 0.61111111 | M258: =IF(Tabla1[[#This Row],[FECHA EJEC.]]="","",Tabla1[[#This Row],[HORA INICIO]]+TIME(RANDBETWEEN(1,4),RANDBETWEEN(10,30),0)) -> 0.78958333 | N258: =IF(Tabla1[[#This Row],[FECHA EJEC.]]="","",HOUR(Tabla1[[#This Row],[HORA TERMINO]]-Tabla1[[#This Row],[HORA INICIO]])+MINUTE(Tabla1[[#This Row],[HORA TERMINO]]-Tabla1[[#This Row],[HORA INICIO]])/60) -> 4.2833333 | O258: =IF(AND(K258=I258,J258="CONFORME"),"FECHA CUMPLIDA",IF(J258="STAND BY","STAND BY",IF(J258=""," ",IF(Tabla1[[#This Row],[FECHA EJEC.]]="","PENDIENTE",CONCATENATE("RETRASO DE ",(K258-I258)," DIAS"))))) -> FECHA CUMPLIDA | P258: =VLOOKUP(MONTH(Tabla1[[#This Row],[FECHA PROG.]]),Tabla2[],2,0) -> May | Q258: =YEAR(Tabla1[[#This Row],[FECHA PROG.]]) -> 2018 | R258: =360-SUMIFS(Tabla1[HORAS],Tabla1[MÁQUINA],Tabla1[[#This Row],[MÁQUINA]],Tabla1[AÑO],Tabla1[[#This Row],[AÑO]],Tabla1[MES],Tabla1[[#This Row],[MES]]) -> 335.8 | S258: =Tabla1[[#This Row],[HORAS DISPONIBLES]]/360 -> 0.93277778
A259: MÁQUINA GRANALLADORA | B259: GR-01 | C259: =VLOOKUP(RANDBETWEEN(1,13),Tablas!$N$7:$O$19,2,0) -> LAS VOLQUETAS | D259: PREVENTIVO | E259: MANTENIMIENTO ELECTRICO | F259: 106 | G259: LGRANDEZ | H259: 1911 | I259: =RANDBETWEEN(43101,43616) -> 43352 | J259: =IFERROR(IF(YEAR(Tabla1[[#This Row],[FECHA EJEC.]])>0,"CONFORME","STANDBY"),"PENDIENTE") -> CONFORME | K259: =IF(VLOOKUP(RANDBETWEEN(1,20),Tablas!$Q$6:$R$25,2,0)=0,"",Tabla1[[#This Row],[FECHA PROG.]]+VLOOKUP(RANDBETWEEN(1,20),Tablas!$Q$6:$R$25,2,0)) -> 43353 | L259: =IF(Tabla1[[#This Row],[FECHA EJEC.]]="","",TIME(RANDBETWEEN(9,15),RANDBETWEEN(10,40),0)) -> 0.43819444 | M259: =IF(Tabla1[[#This Row],[FECHA EJEC.]]="","",Tabla1[[#This Row],[HORA INICIO]]+TIME(RANDBETWEEN(1,4),RANDBETWEEN(10,30),0)) -> 0.58055556 | N259: =IF(Tabla1[[#This Row],[FECHA EJEC.]]="","",HOUR(Tabla1[[#This Row],[HORA TERMINO]]-Tabla1[[#This Row],[HORA INICIO]])+MINUTE(Tabla1[[#This Row],[HORA TERMINO]]-Tabla1[[#This Row],[HORA INICIO]])/60) -> 3.4166667 | O259: =IF(AND(K259=I259,J259="CONFORME"),"FECHA CUMPLIDA",IF(J259="STAND BY","STAND BY",IF(J259=""," ",IF(Tabla1[[#This Row],[FECHA EJEC.]]="","PENDIENTE",CONCATENATE("RETRASO DE ",(K259-I259)," DIAS"))))) -> RETRASO DE 1 DIAS | P259: =VLOOKUP(MONTH(Tabla1[[#This Row],[FECHA PROG.]]),Tabla2[],2,0) -> Set | Q259: =YEAR(Tabla1[[#This Row],[FECHA PROG.]]) -> 2018 | R259: =360-SUMIFS(Tabla1[HORAS],Tabla1[MÁQUINA],Tabla1[[#This Row],[MÁQUINA]],Tabla1[AÑO],Tabla1[[#This Row],[AÑO]],Tabla1[MES],Tabla1[[#This Row],[MES]]) -> 322.11667 | S259: =Tabla1[[#This Row],[HORAS DISPONIBLES]]/360 -> 0.89476852
A260: MONTACARGAS 4.5 TON (DIESEL) | B260: MC-04 | C260: =VLOOKUP(RANDBETWEEN(1,13),Tablas!$N$7:$O$19,2,0) -> PAVIMENTADORA | D260: PREVENTIVO | E260: MANTENIMIENTO POR HOROMETRO | F260: 201 | G260: ABLAS | H260: 1168 | I260: =RANDBETWEEN(43101,43616) -> 43330 | J260: =IFERROR(IF(YEAR(Tabla1[[#This Row],[FECHA EJEC.]])>0,"CONFORME","STANDBY"),"PENDIENTE") -> CONFORME | K260: =IF(VLOOKUP(RANDBETWEEN(1,20),Tablas!$Q$6:$R$25,2,0)=0,"",Tabla1[[#This Row],[FECHA PROG.]]+VLOOKUP(RANDBETWEEN(1,20),Tablas!$Q$6:$R$25,2,0)) -> 43330 | L260: =IF(Tabla1[[#This Row],[FECHA EJEC.]]="","",TIME(RANDBETWEEN(9,15),RANDBETWEEN(10,40),0)) -> 0.64166667 | M260: =IF(Tabla1[[#This Row],[FECHA EJEC.]]="","",Tabla1[[#This Row],[HORA INICIO]]+TIME(RANDBETWEEN(1,4),RANDBETWEEN(10,30),0)) -> 0.77430556 | N260: =IF(Tabla1[[#This Row],[FECHA EJEC.]]="","",HOUR(Tabla1[[#This Row],[HORA TERMINO]]-Tabla1[[#This Row],[HORA INICIO]])+MINUTE(Tabla1[[#This Row],[HORA TERMINO]]-Tabla1[[#This Row],[HORA INICIO]])/60) -> 3.1833333 | O260: =IF(AND(K260=I260,J260="CONFORME"),"FECHA CUMPLIDA",IF(J260="STAND BY","STAND BY",IF(J260=""," ",IF(Tabla1[[#This Row],[FECHA EJEC.]]="","PENDIENTE",CONCATENATE("RETRASO DE ",(K260-I260)," DIAS"))))) -> FECHA CUMPLIDA | P260: =VLOOKUP(MONTH(Tabla1[[#This Row],[FECHA PROG.]]),Tabla2[],2,0) -> Ago | Q260: =YEAR(Tabla1[[#This Row],[FECHA PROG.]]) -> 2018 | R260: =360-SUMIFS(Tabla1[HORAS],Tabla1[MÁQUINA],Tabla1[[#This Row],[MÁQUINA]],Tabla1[AÑO],Tabla1[[#This Row],[AÑO]],Tabla1[MES],Tabla1[[#This Row],[MES]]) -> 345.7 | S260: =Tabla1[[#This Row],[HORAS DISPONIBLES]]/360 -> 0.96027778
A261: MAQUINA DE PINTURA GRACO XTREME 40/1 | B261: MQP005 | C261: =VLOOKUP(RANDBETWEEN(1,13),Tablas!$N$7:$O$19,2,0) -> PAVIMENTADORA | D261: PREVENTIVO | E261: MANTENIMIENTO MECANICO | F261: 107 | G261: DVARGAS | H261: 1420 | I261: =RANDBETWEEN(43101,43616) -> 43572 | J261: =IFERROR(IF(YEAR(Tabla1[[#This Row],[FECHA EJEC.]])>0,"CONFORME","STANDBY"),"PENDIENTE") -> CONFORME | K261: =IF(VLOOKUP(RANDBETWEEN(1,20),Tablas!$Q$6:$R$25,2,0)=0,"",Tabla1[[#This Row],[FECHA PROG.]]+VLOOKUP(RANDBETWEEN(1,20),Tablas!$Q$6:$R$25,2,0)) -> 43572 | L261: =IF(Tabla1[[#This Row],[FECHA EJEC.]]="","",TIME(RANDBETWEEN(9,15),RANDBETWEEN(10,40),0)) -> 0.44375 | M261: =IF(Tabla1[[#This Row],[FECHA EJEC.]]="","",Tabla1[[#This Row],[HORA INICIO]]+TIME(RANDBETWEEN(1,4),RANDBETWEEN(10,30),0)) -> 0.57638889 | N261: =IF(Tabla1[[#This Row],[FECHA EJEC.]]="","",HOUR(Tabla1[[#This Row],[HORA TERMINO]]-Tabla1[[#This Row],[HORA INICIO]])+MINUTE(Tabla1[[#This Row],[HORA TERMINO]]-Tabla1[[#This Row],[HORA INICIO]])/60) -> 3.1833333 | O261: =IF(AND(K261=I261,J261="CONFORME"),"FECHA CUMPLIDA",IF(J261="STAND BY","STAND BY",IF(J261=""," ",IF(Tabla1[[#This Row],[FECHA EJEC.]]="","PENDIENTE",CONCATENATE("RETRASO DE ",(K261-I261)," DIAS"))))) -> FECHA CUMPLIDA | P261: =VLOOKUP(MONTH(Tabla1[[#This Row],[FECHA PROG.]]),Tabla2[],2,0) -> Abr | Q261: =YEAR(Tabla1[[#This Row],[FECHA PROG.]]) -> 2019 | R261: =360-SUMIFS(Tabla1[HORAS],Tabla1[MÁQUINA],Tabla1[[#This Row],[MÁQUINA]],Tabla1[AÑO],Tabla1[[#This Row],[AÑO]],Tabla1[MES],Tabla1[[#This Row],[MES]]) -> 353.31667 | S261: =Tabla1[[#This Row],[HORAS DISPONIBLES]]/360 -> 0.98143519
A262: GENERADOR DE CALOR CON CHASIS DE ALUMINIO | B262: CG-04 | C262: =VLOOKUP(RANDBETWEEN(1,13),Tablas!$N$7:$O$19,2,0) -> RETROEXCAVADORA | E262: MANTENIMIENTO ELECTRICO | F262: 107 | G262: JMEJIA | H262: 1698 | I262: =RANDBETWEEN(43101,43616) -> 43487 | J262: =IFERROR(IF(YEAR(Tabla1[[#This Row],[FECHA EJEC.]])>0,"CONFORME","STANDBY"),"PENDIENTE") -> CONFORME | K262: =IF(VLOOKUP(RANDBETWEEN(1,20),Tablas!$Q$6:$R$25,2,0)=0,"",Tabla1[[#This Row],[FECHA PROG.]]+VLOOKUP(RANDBETWEEN(1,20),Tablas!$Q$6:$R$25,2,0)) -> 43487 | L262: =IF(Tabla1[[#This Row],[FECHA EJEC.]]="","",TIME(RANDBETWEEN(9,15),RANDBETWEEN(10,40),0)) -> 0.59791667 | M262: =IF(Tabla1[[#This Row],[FECHA EJEC.]]="","",Tabla1[[#This Row],[HORA INICIO]]+TIME(RANDBETWEEN(1,4),RANDBETWEEN(10,30),0)) -> 0.64861111 | N262: =IF(Tabla1[[#This Row],[FECHA EJEC.]]="","",HOUR(Tabla1[[#This Row],[HORA TERMINO]]-Tabla1[[#This Row],[HORA INICIO]])+MINUTE(Tabla1[[#This Row],[HORA TERMINO]]-Tabla1[[#This Row],[HORA INICIO]])/60) -> 1.2166667 | O262: =IF(AND(K262=I262,J262="CONFORME"),"FECHA CUMPLIDA",IF(J262="STAND BY","STAND BY",IF(J262=""," ",IF(Tabla1[[#This Row],[FECHA EJEC.]]="","PENDIENTE",CONCATENATE("RETRASO DE ",(K262-I262)," DIAS"))))) -> FECHA CUMPLIDA | P262: =VLOOKUP(MONTH(Tabla1[[#This Row],[FECHA PROG.]]),Tabla2[],2,0) -> Ene | Q262: =YEAR(Tabla1[[#This Row],[FECHA PROG.]]) -> 2019 | R262: =360-SUMIFS(Tabla1[HORAS],Tabla1[MÁQUINA],Tabla1[[#This Row],[MÁQUINA]],Tabla1[AÑO],Tabla1[[#This Row],[AÑO]],Tabla1[MES],Tabla1[[#This Row],[MES]]) -> 342.5 | S262: =Tabla1[[#This Row],[HORAS DISPONIBLES]]/360 -> 0.95138889
A263: MÁQUINA DE SOLDAR LINCOLN FLEXTEC 450 CÓDIGO 603 | B263: LINC-01 | C263: =VLOOKUP(RANDBETWEEN(1,13),Tablas!$N$7:$O$19,2,0) -> COMPACTADORA | E263: MANTENIMIENTO ELECTRICO | F263: 201 | G263: LGRANDEZ | H263: 1911 | I263: =RANDBETWEEN(43101,43616) -> 43133 | J263: =IFERROR(IF(YEAR(Tabla1[[#This Row],[FECHA EJEC.]])>0,"CONFORME","STANDBY"),"PENDIENTE") -> CONFORME | K263: =IF(VLOOKUP(RANDBETWEEN(1,20),Tablas!$Q$6:$R$25,2,0)=0,"",Tabla1[[#This Row],[FECHA PROG.]]+VLOOKUP(RANDBETWEEN(1,20),Tablas!$Q$6:$R$25,2,0)) -> 43134 | L263: =IF(Tabla1[[#This Row],[FECHA EJEC.]]="","",TIME(RANDBETWEEN(9,15),RANDBETWEEN(10,40),0)) -> 0.47916667 | M263: =IF(Tabla1[[#This Row],[FECHA EJEC.]]="","",Tabla1[[#This Row],[HORA INICIO]]+TIME(RANDBETWEEN(1,4),RANDBETWEEN(10,30),0)) -> 0.5375 | N263: =IF(Tabla1[[#This Row],[FECHA EJEC.]]="","",HOUR(Tabla1[[#This Row],[HORA TERMINO]]-Tabla1[[#This Row],[HORA INICIO]])+MINUTE(Tabla1[[#This Row],[HORA TERMINO]]-Tabla1[[#This Row],[HORA INICIO]])/60) -> 1.4 | O263: =IF(AND(K263=I263,J263="CONFORME"),"FECHA CUMPLIDA",IF(J263="STAND BY","STAND BY",IF(J263=""," ",IF(Tabla1[[#This Row],[FECHA EJEC.]]="","PENDIENTE",CONCATENATE("RETRASO DE ",(K263-I263)," DIAS"))))) -> RETRASO DE 1 DIAS | P263: =VLOOKUP(MONTH(Tabla1[[#This Row],[FECHA PROG.]]),Tabla2[],2,0) -> Feb | Q263: =YEAR(Tabla1[[#This Row],[FECHA PROG.]]) -> 2018 | R263: =360-SUMIFS(Tabla1[HORAS],Tabla1[MÁQUINA],Tabla1[[#This Row],[MÁQUINA]],Tabla1[AÑO],Tabla1[[#This Row],[AÑO]],Tabla1[MES],Tabla1[[#This Row],[MES]]) -> 358.6 | S263: =Tabla1[[#This Row],[HORAS DISPONIBLES]]/360 -> 0.99611111
